BEGIN:VCALENDAR
VERSION:2.0
PRODID:-//Inner Power Partners - ECPv6.15.18//NONSGML v1.0//EN
CALSCALE:GREGORIAN
METHOD:PUBLISH
X-WR-CALNAME:Inner Power Partners
X-ORIGINAL-URL:https://innerpowerpartners.com
X-WR-CALDESC:Events for Inner Power Partners
REFRESH-INTERVAL;VALUE=DURATION:PT1H
X-Robots-Tag:noindex
X-PUBLISHED-TTL:PT1H
BEGIN:VTIMEZONE
TZID:UTC
BEGIN:STANDARD
TZOFFSETFROM:+0000
TZOFFSETTO:+0000
TZNAME:UTC
DTSTART:20280101T000000
END:STANDARD
END:VTIMEZONE
BEGIN:VEVENT
DTSTART;TZID=UTC:20290717T183000
DTEND;TZID=UTC:20290717T193000
DTSTAMP:20260422T015828
CREATED:20260106T201133Z
LAST-MODIFIED:20260106T201133Z
UID:10009239-1879007400-1879011000@innerpowerpartners.com
SUMMARY:IPP® FTL\, Wilton Manors\, & Pompano Beach Afterhours Connection Experience!
DESCRIPTION:
URL:https://innerpowerpartners.com/event/ipp-ftl-wilton-manors-pompano-beach-afterhours-connection-experience/2029-07-17/
LOCATION:Batch New Southern Kitchen & Tap FTL\, 525 North Federal Highway\, Fort Lauderdale\, 33301\, United States
END:VEVENT
BEGIN:VEVENT
DTSTART;TZID=UTC:20290724T183000
DTEND;TZID=UTC:20290724T193000
DTSTAMP:20260422T015828
CREATED:20260106T201133Z
LAST-MODIFIED:20260106T201133Z
UID:10009240-1879612200-1879615800@innerpowerpartners.com
SUMMARY:IPP® FTL\, Wilton Manors\, & Pompano Beach Afterhours Connection Experience!
DESCRIPTION:
URL:https://innerpowerpartners.com/event/ipp-ftl-wilton-manors-pompano-beach-afterhours-connection-experience/2029-07-24/
LOCATION:Batch New Southern Kitchen & Tap FTL\, 525 North Federal Highway\, Fort Lauderdale\, 33301\, United States
END:VEVENT
BEGIN:VEVENT
DTSTART;TZID=UTC:20290731T183000
DTEND;TZID=UTC:20290731T193000
DTSTAMP:20260422T015828
CREATED:20260106T201133Z
LAST-MODIFIED:20260106T201133Z
UID:10009241-1880217000-1880220600@innerpowerpartners.com
SUMMARY:IPP® FTL\, Wilton Manors\, & Pompano Beach Afterhours Connection Experience!
DESCRIPTION:
URL:https://innerpowerpartners.com/event/ipp-ftl-wilton-manors-pompano-beach-afterhours-connection-experience/2029-07-31/
LOCATION:Batch New Southern Kitchen & Tap FTL\, 525 North Federal Highway\, Fort Lauderdale\, 33301\, United States
END:VEVENT
BEGIN:VEVENT
DTSTART;TZID=UTC:20290807T183000
DTEND;TZID=UTC:20290807T193000
DTSTAMP:20260422T015828
CREATED:20260106T201133Z
LAST-MODIFIED:20260106T201133Z
UID:10009242-1880821800-1880825400@innerpowerpartners.com
SUMMARY:IPP® FTL\, Wilton Manors\, & Pompano Beach Afterhours Connection Experience!
DESCRIPTION:
URL:https://innerpowerpartners.com/event/ipp-ftl-wilton-manors-pompano-beach-afterhours-connection-experience/2029-08-07/
LOCATION:Batch New Southern Kitchen & Tap FTL\, 525 North Federal Highway\, Fort Lauderdale\, 33301\, United States
END:VEVENT
BEGIN:VEVENT
DTSTART;TZID=UTC:20290814T183000
DTEND;TZID=UTC:20290814T193000
DTSTAMP:20260422T015828
CREATED:20260106T201133Z
LAST-MODIFIED:20260106T201133Z
UID:10009243-1881426600-1881430200@innerpowerpartners.com
SUMMARY:IPP® FTL\, Wilton Manors\, & Pompano Beach Afterhours Connection Experience!
DESCRIPTION:
URL:https://innerpowerpartners.com/event/ipp-ftl-wilton-manors-pompano-beach-afterhours-connection-experience/2029-08-14/
LOCATION:Batch New Southern Kitchen & Tap FTL\, 525 North Federal Highway\, Fort Lauderdale\, 33301\, United States
END:VEVENT
BEGIN:VEVENT
DTSTART;TZID=UTC:20290821T183000
DTEND;TZID=UTC:20290821T193000
DTSTAMP:20260422T015828
CREATED:20260106T201133Z
LAST-MODIFIED:20260106T201133Z
UID:10009244-1882031400-1882035000@innerpowerpartners.com
SUMMARY:IPP® FTL\, Wilton Manors\, & Pompano Beach Afterhours Connection Experience!
DESCRIPTION:
URL:https://innerpowerpartners.com/event/ipp-ftl-wilton-manors-pompano-beach-afterhours-connection-experience/2029-08-21/
LOCATION:Batch New Southern Kitchen & Tap FTL\, 525 North Federal Highway\, Fort Lauderdale\, 33301\, United States
END:VEVENT
BEGIN:VEVENT
DTSTART;TZID=UTC:20290828T183000
DTEND;TZID=UTC:20290828T193000
DTSTAMP:20260422T015828
CREATED:20260106T201133Z
LAST-MODIFIED:20260106T201133Z
UID:10009245-1882636200-1882639800@innerpowerpartners.com
SUMMARY:IPP® FTL\, Wilton Manors\, & Pompano Beach Afterhours Connection Experience!
DESCRIPTION:
URL:https://innerpowerpartners.com/event/ipp-ftl-wilton-manors-pompano-beach-afterhours-connection-experience/2029-08-28/
LOCATION:Batch New Southern Kitchen & Tap FTL\, 525 North Federal Highway\, Fort Lauderdale\, 33301\, United States
END:VEVENT
BEGIN:VEVENT
DTSTART;TZID=UTC:20290904T183000
DTEND;TZID=UTC:20290904T193000
DTSTAMP:20260422T015828
CREATED:20260106T201133Z
LAST-MODIFIED:20260106T201133Z
UID:10009246-1883241000-1883244600@innerpowerpartners.com
SUMMARY:IPP® FTL\, Wilton Manors\, & Pompano Beach Afterhours Connection Experience!
DESCRIPTION:
URL:https://innerpowerpartners.com/event/ipp-ftl-wilton-manors-pompano-beach-afterhours-connection-experience/2029-09-04/
LOCATION:Batch New Southern Kitchen & Tap FTL\, 525 North Federal Highway\, Fort Lauderdale\, 33301\, United States
END:VEVENT
BEGIN:VEVENT
DTSTART;TZID=UTC:20290911T183000
DTEND;TZID=UTC:20290911T193000
DTSTAMP:20260422T015828
CREATED:20260106T201133Z
LAST-MODIFIED:20260106T201133Z
UID:10009247-1883845800-1883849400@innerpowerpartners.com
SUMMARY:IPP® FTL\, Wilton Manors\, & Pompano Beach Afterhours Connection Experience!
DESCRIPTION:
URL:https://innerpowerpartners.com/event/ipp-ftl-wilton-manors-pompano-beach-afterhours-connection-experience/2029-09-11/
LOCATION:Batch New Southern Kitchen & Tap FTL\, 525 North Federal Highway\, Fort Lauderdale\, 33301\, United States
END:VEVENT
BEGIN:VEVENT
DTSTART;TZID=UTC:20290918T183000
DTEND;TZID=UTC:20290918T193000
DTSTAMP:20260422T015828
CREATED:20260106T201133Z
LAST-MODIFIED:20260106T201133Z
UID:10009248-1884450600-1884454200@innerpowerpartners.com
SUMMARY:IPP® FTL\, Wilton Manors\, & Pompano Beach Afterhours Connection Experience!
DESCRIPTION:
URL:https://innerpowerpartners.com/event/ipp-ftl-wilton-manors-pompano-beach-afterhours-connection-experience/2029-09-18/
LOCATION:Batch New Southern Kitchen & Tap FTL\, 525 North Federal Highway\, Fort Lauderdale\, 33301\, United States
END:VEVENT
BEGIN:VEVENT
DTSTART;TZID=UTC:20290925T183000
DTEND;TZID=UTC:20290925T193000
DTSTAMP:20260422T015828
CREATED:20260106T201133Z
LAST-MODIFIED:20260106T201133Z
UID:10009249-1885055400-1885059000@innerpowerpartners.com
SUMMARY:IPP® FTL\, Wilton Manors\, & Pompano Beach Afterhours Connection Experience!
DESCRIPTION:
URL:https://innerpowerpartners.com/event/ipp-ftl-wilton-manors-pompano-beach-afterhours-connection-experience/2029-09-25/
LOCATION:Batch New Southern Kitchen & Tap FTL\, 525 North Federal Highway\, Fort Lauderdale\, 33301\, United States
END:VEVENT
BEGIN:VEVENT
DTSTART;TZID=UTC:20291002T183000
DTEND;TZID=UTC:20291002T193000
DTSTAMP:20260422T015828
CREATED:20260106T201133Z
LAST-MODIFIED:20260106T201133Z
UID:10009250-1885660200-1885663800@innerpowerpartners.com
SUMMARY:IPP® FTL\, Wilton Manors\, & Pompano Beach Afterhours Connection Experience!
DESCRIPTION:
URL:https://innerpowerpartners.com/event/ipp-ftl-wilton-manors-pompano-beach-afterhours-connection-experience/2029-10-02/
LOCATION:Batch New Southern Kitchen & Tap FTL\, 525 North Federal Highway\, Fort Lauderdale\, 33301\, United States
END:VEVENT
BEGIN:VEVENT
DTSTART;TZID=UTC:20291009T183000
DTEND;TZID=UTC:20291009T193000
DTSTAMP:20260422T015828
CREATED:20260106T201133Z
LAST-MODIFIED:20260106T201133Z
UID:10009251-1886265000-1886268600@innerpowerpartners.com
SUMMARY:IPP® FTL\, Wilton Manors\, & Pompano Beach Afterhours Connection Experience!
DESCRIPTION:
URL:https://innerpowerpartners.com/event/ipp-ftl-wilton-manors-pompano-beach-afterhours-connection-experience/2029-10-09/
LOCATION:Batch New Southern Kitchen & Tap FTL\, 525 North Federal Highway\, Fort Lauderdale\, 33301\, United States
END:VEVENT
BEGIN:VEVENT
DTSTART;TZID=UTC:20291016T183000
DTEND;TZID=UTC:20291016T193000
DTSTAMP:20260422T015828
CREATED:20260106T201133Z
LAST-MODIFIED:20260106T201133Z
UID:10009252-1886869800-1886873400@innerpowerpartners.com
SUMMARY:IPP® FTL\, Wilton Manors\, & Pompano Beach Afterhours Connection Experience!
DESCRIPTION:
URL:https://innerpowerpartners.com/event/ipp-ftl-wilton-manors-pompano-beach-afterhours-connection-experience/2029-10-16/
LOCATION:Batch New Southern Kitchen & Tap FTL\, 525 North Federal Highway\, Fort Lauderdale\, 33301\, United States
END:VEVENT
BEGIN:VEVENT
DTSTART;TZID=UTC:20291023T183000
DTEND;TZID=UTC:20291023T193000
DTSTAMP:20260422T015828
CREATED:20260106T201133Z
LAST-MODIFIED:20260106T201133Z
UID:10009253-1887474600-1887478200@innerpowerpartners.com
SUMMARY:IPP® FTL\, Wilton Manors\, & Pompano Beach Afterhours Connection Experience!
DESCRIPTION:
URL:https://innerpowerpartners.com/event/ipp-ftl-wilton-manors-pompano-beach-afterhours-connection-experience/2029-10-23/
LOCATION:Batch New Southern Kitchen & Tap FTL\, 525 North Federal Highway\, Fort Lauderdale\, 33301\, United States
END:VEVENT
BEGIN:VEVENT
DTSTART;TZID=UTC:20291030T183000
DTEND;TZID=UTC:20291030T193000
DTSTAMP:20260422T015828
CREATED:20260106T201133Z
LAST-MODIFIED:20260106T201133Z
UID:10009254-1888079400-1888083000@innerpowerpartners.com
SUMMARY:IPP® FTL\, Wilton Manors\, & Pompano Beach Afterhours Connection Experience!
DESCRIPTION:
URL:https://innerpowerpartners.com/event/ipp-ftl-wilton-manors-pompano-beach-afterhours-connection-experience/2029-10-30/
LOCATION:Batch New Southern Kitchen & Tap FTL\, 525 North Federal Highway\, Fort Lauderdale\, 33301\, United States
END:VEVENT
BEGIN:VEVENT
DTSTART;TZID=UTC:20291106T183000
DTEND;TZID=UTC:20291106T193000
DTSTAMP:20260422T015828
CREATED:20260106T201133Z
LAST-MODIFIED:20260106T201133Z
UID:10009255-1888684200-1888687800@innerpowerpartners.com
SUMMARY:IPP® FTL\, Wilton Manors\, & Pompano Beach Afterhours Connection Experience!
DESCRIPTION:
URL:https://innerpowerpartners.com/event/ipp-ftl-wilton-manors-pompano-beach-afterhours-connection-experience/2029-11-06/
LOCATION:Batch New Southern Kitchen & Tap FTL\, 525 North Federal Highway\, Fort Lauderdale\, 33301\, United States
END:VEVENT
BEGIN:VEVENT
DTSTART;TZID=UTC:20291113T183000
DTEND;TZID=UTC:20291113T193000
DTSTAMP:20260422T015828
CREATED:20260106T201133Z
LAST-MODIFIED:20260106T201133Z
UID:10009256-1889289000-1889292600@innerpowerpartners.com
SUMMARY:IPP® FTL\, Wilton Manors\, & Pompano Beach Afterhours Connection Experience!
DESCRIPTION:
URL:https://innerpowerpartners.com/event/ipp-ftl-wilton-manors-pompano-beach-afterhours-connection-experience/2029-11-13/
LOCATION:Batch New Southern Kitchen & Tap FTL\, 525 North Federal Highway\, Fort Lauderdale\, 33301\, United States
END:VEVENT
BEGIN:VEVENT
DTSTART;TZID=UTC:20291120T183000
DTEND;TZID=UTC:20291120T193000
DTSTAMP:20260422T015828
CREATED:20260106T201133Z
LAST-MODIFIED:20260106T201133Z
UID:10009257-1889893800-1889897400@innerpowerpartners.com
SUMMARY:IPP® FTL\, Wilton Manors\, & Pompano Beach Afterhours Connection Experience!
DESCRIPTION:
URL:https://innerpowerpartners.com/event/ipp-ftl-wilton-manors-pompano-beach-afterhours-connection-experience/2029-11-20/
LOCATION:Batch New Southern Kitchen & Tap FTL\, 525 North Federal Highway\, Fort Lauderdale\, 33301\, United States
END:VEVENT
BEGIN:VEVENT
DTSTART;TZID=UTC:20291127T183000
DTEND;TZID=UTC:20291127T193000
DTSTAMP:20260422T015828
CREATED:20260106T201133Z
LAST-MODIFIED:20260106T201133Z
UID:10009258-1890498600-1890502200@innerpowerpartners.com
SUMMARY:IPP® FTL\, Wilton Manors\, & Pompano Beach Afterhours Connection Experience!
DESCRIPTION:
URL:https://innerpowerpartners.com/event/ipp-ftl-wilton-manors-pompano-beach-afterhours-connection-experience/2029-11-27/
LOCATION:Batch New Southern Kitchen & Tap FTL\, 525 North Federal Highway\, Fort Lauderdale\, 33301\, United States
END:VEVENT
BEGIN:VEVENT
DTSTART;TZID=UTC:20291204T183000
DTEND;TZID=UTC:20291204T193000
DTSTAMP:20260422T015828
CREATED:20260106T201133Z
LAST-MODIFIED:20260106T201133Z
UID:10009259-1891103400-1891107000@innerpowerpartners.com
SUMMARY:IPP® FTL\, Wilton Manors\, & Pompano Beach Afterhours Connection Experience!
DESCRIPTION:
URL:https://innerpowerpartners.com/event/ipp-ftl-wilton-manors-pompano-beach-afterhours-connection-experience/2029-12-04/
LOCATION:Batch New Southern Kitchen & Tap FTL\, 525 North Federal Highway\, Fort Lauderdale\, 33301\, United States
END:VEVENT
BEGIN:VEVENT
DTSTART;TZID=UTC:20291211T183000
DTEND;TZID=UTC:20291211T193000
DTSTAMP:20260422T015828
CREATED:20260106T201133Z
LAST-MODIFIED:20260106T201133Z
UID:10009260-1891708200-1891711800@innerpowerpartners.com
SUMMARY:IPP® FTL\, Wilton Manors\, & Pompano Beach Afterhours Connection Experience!
DESCRIPTION:
URL:https://innerpowerpartners.com/event/ipp-ftl-wilton-manors-pompano-beach-afterhours-connection-experience/2029-12-11/
LOCATION:Batch New Southern Kitchen & Tap FTL\, 525 North Federal Highway\, Fort Lauderdale\, 33301\, United States
END:VEVENT
BEGIN:VEVENT
DTSTART;TZID=UTC:20291218T183000
DTEND;TZID=UTC:20291218T193000
DTSTAMP:20260422T015828
CREATED:20260106T201133Z
LAST-MODIFIED:20260106T201133Z
UID:10009261-1892313000-1892316600@innerpowerpartners.com
SUMMARY:IPP® FTL\, Wilton Manors\, & Pompano Beach Afterhours Connection Experience!
DESCRIPTION:
URL:https://innerpowerpartners.com/event/ipp-ftl-wilton-manors-pompano-beach-afterhours-connection-experience/2029-12-18/
LOCATION:Batch New Southern Kitchen & Tap FTL\, 525 North Federal Highway\, Fort Lauderdale\, 33301\, United States
END:VEVENT
BEGIN:VEVENT
DTSTART;TZID=UTC:20291225T183000
DTEND;TZID=UTC:20291225T193000
DTSTAMP:20260422T015828
CREATED:20260106T201133Z
LAST-MODIFIED:20260106T201133Z
UID:10009262-1892917800-1892921400@innerpowerpartners.com
SUMMARY:IPP® FTL\, Wilton Manors\, & Pompano Beach Afterhours Connection Experience!
DESCRIPTION:
URL:https://innerpowerpartners.com/event/ipp-ftl-wilton-manors-pompano-beach-afterhours-connection-experience/2029-12-25/
LOCATION:Batch New Southern Kitchen & Tap FTL\, 525 North Federal Highway\, Fort Lauderdale\, 33301\, United States
END:VEVENT
BEGIN:VEVENT
DTSTART;TZID=UTC:20300101T183000
DTEND;TZID=UTC:20300101T193000
DTSTAMP:20260422T015828
CREATED:20260106T201133Z
LAST-MODIFIED:20260106T201133Z
UID:10009263-1893522600-1893526200@innerpowerpartners.com
SUMMARY:IPP® FTL\, Wilton Manors\, & Pompano Beach Afterhours Connection Experience!
DESCRIPTION:
URL:https://innerpowerpartners.com/event/ipp-ftl-wilton-manors-pompano-beach-afterhours-connection-experience/2030-01-01/
LOCATION:Batch New Southern Kitchen & Tap FTL\, 525 North Federal Highway\, Fort Lauderdale\, 33301\, United States
END:VEVENT
BEGIN:VEVENT
DTSTART;TZID=UTC:20300108T183000
DTEND;TZID=UTC:20300108T193000
DTSTAMP:20260422T015828
CREATED:20260106T201133Z
LAST-MODIFIED:20260106T201133Z
UID:10009264-1894127400-1894131000@innerpowerpartners.com
SUMMARY:IPP® FTL\, Wilton Manors\, & Pompano Beach Afterhours Connection Experience!
DESCRIPTION:
URL:https://innerpowerpartners.com/event/ipp-ftl-wilton-manors-pompano-beach-afterhours-connection-experience/2030-01-08/
LOCATION:Batch New Southern Kitchen & Tap FTL\, 525 North Federal Highway\, Fort Lauderdale\, 33301\, United States
END:VEVENT
BEGIN:VEVENT
DTSTART;TZID=UTC:20300115T183000
DTEND;TZID=UTC:20300115T193000
DTSTAMP:20260422T015828
CREATED:20260106T201133Z
LAST-MODIFIED:20260106T201133Z
UID:10009265-1894732200-1894735800@innerpowerpartners.com
SUMMARY:IPP® FTL\, Wilton Manors\, & Pompano Beach Afterhours Connection Experience!
DESCRIPTION:
URL:https://innerpowerpartners.com/event/ipp-ftl-wilton-manors-pompano-beach-afterhours-connection-experience/2030-01-15/
LOCATION:Batch New Southern Kitchen & Tap FTL\, 525 North Federal Highway\, Fort Lauderdale\, 33301\, United States
END:VEVENT
BEGIN:VEVENT
DTSTART;TZID=UTC:20300122T183000
DTEND;TZID=UTC:20300122T193000
DTSTAMP:20260422T015828
CREATED:20260106T201133Z
LAST-MODIFIED:20260106T201133Z
UID:10009266-1895337000-1895340600@innerpowerpartners.com
SUMMARY:IPP® FTL\, Wilton Manors\, & Pompano Beach Afterhours Connection Experience!
DESCRIPTION:
URL:https://innerpowerpartners.com/event/ipp-ftl-wilton-manors-pompano-beach-afterhours-connection-experience/2030-01-22/
LOCATION:Batch New Southern Kitchen & Tap FTL\, 525 North Federal Highway\, Fort Lauderdale\, 33301\, United States
END:VEVENT
BEGIN:VEVENT
DTSTART;TZID=UTC:20300129T183000
DTEND;TZID=UTC:20300129T193000
DTSTAMP:20260422T015828
CREATED:20260106T201133Z
LAST-MODIFIED:20260106T201133Z
UID:10009267-1895941800-1895945400@innerpowerpartners.com
SUMMARY:IPP® FTL\, Wilton Manors\, & Pompano Beach Afterhours Connection Experience!
DESCRIPTION:
URL:https://innerpowerpartners.com/event/ipp-ftl-wilton-manors-pompano-beach-afterhours-connection-experience/2030-01-29/
LOCATION:Batch New Southern Kitchen & Tap FTL\, 525 North Federal Highway\, Fort Lauderdale\, 33301\, United States
END:VEVENT
BEGIN:VEVENT
DTSTART;TZID=UTC:20300205T183000
DTEND;TZID=UTC:20300205T193000
DTSTAMP:20260422T015828
CREATED:20260106T201133Z
LAST-MODIFIED:20260106T201133Z
UID:10009268-1896546600-1896550200@innerpowerpartners.com
SUMMARY:IPP® FTL\, Wilton Manors\, & Pompano Beach Afterhours Connection Experience!
DESCRIPTION:
URL:https://innerpowerpartners.com/event/ipp-ftl-wilton-manors-pompano-beach-afterhours-connection-experience/2030-02-05/
LOCATION:Batch New Southern Kitchen & Tap FTL\, 525 North Federal Highway\, Fort Lauderdale\, 33301\, United States
END:VEVENT
END:VCALENDAR