BEGIN:VCALENDAR
VERSION:2.0
PRODID:-//Inner Power Partners - ECPv6.15.18//NONSGML v1.0//EN
CALSCALE:GREGORIAN
METHOD:PUBLISH
X-ORIGINAL-URL:https://innerpowerpartners.com
X-WR-CALDESC:Events for Inner Power Partners
REFRESH-INTERVAL;VALUE=DURATION:PT1H
X-Robots-Tag:noindex
X-PUBLISHED-TTL:PT1H
BEGIN:VTIMEZONE
TZID:UTC
BEGIN:STANDARD
TZOFFSETFROM:+0000
TZOFFSETTO:+0000
TZNAME:UTC
DTSTART:20260101T000000
END:STANDARD
END:VTIMEZONE
BEGIN:VEVENT
DTSTART;TZID=UTC:20270907T183000
DTEND;TZID=UTC:20270907T193000
DTSTAMP:20260421T125403
CREATED:20260106T201133Z
LAST-MODIFIED:20260106T201133Z
UID:10009142-1820341800-1820345400@innerpowerpartners.com
SUMMARY:IPP® FTL\, Wilton Manors\, & Pompano Beach Afterhours Connection Experience!
DESCRIPTION:
URL:https://innerpowerpartners.com/event/ipp-ftl-wilton-manors-pompano-beach-afterhours-connection-experience/2027-09-07/
LOCATION:Batch New Southern Kitchen & Tap FTL\, 525 North Federal Highway\, Fort Lauderdale\, 33301\, United States
END:VEVENT
BEGIN:VEVENT
DTSTART;TZID=UTC:20270914T183000
DTEND;TZID=UTC:20270914T193000
DTSTAMP:20260421T125403
CREATED:20260106T201133Z
LAST-MODIFIED:20260106T201133Z
UID:10009143-1820946600-1820950200@innerpowerpartners.com
SUMMARY:IPP® FTL\, Wilton Manors\, & Pompano Beach Afterhours Connection Experience!
DESCRIPTION:
URL:https://innerpowerpartners.com/event/ipp-ftl-wilton-manors-pompano-beach-afterhours-connection-experience/2027-09-14/
LOCATION:Batch New Southern Kitchen & Tap FTL\, 525 North Federal Highway\, Fort Lauderdale\, 33301\, United States
END:VEVENT
BEGIN:VEVENT
DTSTART;TZID=UTC:20270921T183000
DTEND;TZID=UTC:20270921T193000
DTSTAMP:20260421T125403
CREATED:20260106T201133Z
LAST-MODIFIED:20260106T201133Z
UID:10009144-1821551400-1821555000@innerpowerpartners.com
SUMMARY:IPP® FTL\, Wilton Manors\, & Pompano Beach Afterhours Connection Experience!
DESCRIPTION:
URL:https://innerpowerpartners.com/event/ipp-ftl-wilton-manors-pompano-beach-afterhours-connection-experience/2027-09-21/
LOCATION:Batch New Southern Kitchen & Tap FTL\, 525 North Federal Highway\, Fort Lauderdale\, 33301\, United States
END:VEVENT
BEGIN:VEVENT
DTSTART;TZID=UTC:20270928T183000
DTEND;TZID=UTC:20270928T193000
DTSTAMP:20260421T125403
CREATED:20260106T201133Z
LAST-MODIFIED:20260106T201133Z
UID:10009145-1822156200-1822159800@innerpowerpartners.com
SUMMARY:IPP® FTL\, Wilton Manors\, & Pompano Beach Afterhours Connection Experience!
DESCRIPTION:
URL:https://innerpowerpartners.com/event/ipp-ftl-wilton-manors-pompano-beach-afterhours-connection-experience/2027-09-28/
LOCATION:Batch New Southern Kitchen & Tap FTL\, 525 North Federal Highway\, Fort Lauderdale\, 33301\, United States
END:VEVENT
BEGIN:VEVENT
DTSTART;TZID=UTC:20271005T183000
DTEND;TZID=UTC:20271005T193000
DTSTAMP:20260421T125403
CREATED:20260106T201133Z
LAST-MODIFIED:20260106T201133Z
UID:10009146-1822761000-1822764600@innerpowerpartners.com
SUMMARY:IPP® FTL\, Wilton Manors\, & Pompano Beach Afterhours Connection Experience!
DESCRIPTION:
URL:https://innerpowerpartners.com/event/ipp-ftl-wilton-manors-pompano-beach-afterhours-connection-experience/2027-10-05/
LOCATION:Batch New Southern Kitchen & Tap FTL\, 525 North Federal Highway\, Fort Lauderdale\, 33301\, United States
END:VEVENT
BEGIN:VEVENT
DTSTART;TZID=UTC:20271012T183000
DTEND;TZID=UTC:20271012T193000
DTSTAMP:20260421T125403
CREATED:20260106T201133Z
LAST-MODIFIED:20260106T201133Z
UID:10009147-1823365800-1823369400@innerpowerpartners.com
SUMMARY:IPP® FTL\, Wilton Manors\, & Pompano Beach Afterhours Connection Experience!
DESCRIPTION:
URL:https://innerpowerpartners.com/event/ipp-ftl-wilton-manors-pompano-beach-afterhours-connection-experience/2027-10-12/
LOCATION:Batch New Southern Kitchen & Tap FTL\, 525 North Federal Highway\, Fort Lauderdale\, 33301\, United States
END:VEVENT
BEGIN:VEVENT
DTSTART;TZID=UTC:20271019T183000
DTEND;TZID=UTC:20271019T193000
DTSTAMP:20260421T125403
CREATED:20260106T201133Z
LAST-MODIFIED:20260106T201133Z
UID:10009148-1823970600-1823974200@innerpowerpartners.com
SUMMARY:IPP® FTL\, Wilton Manors\, & Pompano Beach Afterhours Connection Experience!
DESCRIPTION:
URL:https://innerpowerpartners.com/event/ipp-ftl-wilton-manors-pompano-beach-afterhours-connection-experience/2027-10-19/
LOCATION:Batch New Southern Kitchen & Tap FTL\, 525 North Federal Highway\, Fort Lauderdale\, 33301\, United States
END:VEVENT
BEGIN:VEVENT
DTSTART;TZID=UTC:20271026T183000
DTEND;TZID=UTC:20271026T193000
DTSTAMP:20260421T125403
CREATED:20260106T201133Z
LAST-MODIFIED:20260106T201133Z
UID:10009149-1824575400-1824579000@innerpowerpartners.com
SUMMARY:IPP® FTL\, Wilton Manors\, & Pompano Beach Afterhours Connection Experience!
DESCRIPTION:
URL:https://innerpowerpartners.com/event/ipp-ftl-wilton-manors-pompano-beach-afterhours-connection-experience/2027-10-26/
LOCATION:Batch New Southern Kitchen & Tap FTL\, 525 North Federal Highway\, Fort Lauderdale\, 33301\, United States
END:VEVENT
BEGIN:VEVENT
DTSTART;TZID=UTC:20271102T183000
DTEND;TZID=UTC:20271102T193000
DTSTAMP:20260421T125403
CREATED:20260106T201133Z
LAST-MODIFIED:20260106T201133Z
UID:10009150-1825180200-1825183800@innerpowerpartners.com
SUMMARY:IPP® FTL\, Wilton Manors\, & Pompano Beach Afterhours Connection Experience!
DESCRIPTION:
URL:https://innerpowerpartners.com/event/ipp-ftl-wilton-manors-pompano-beach-afterhours-connection-experience/2027-11-02/
LOCATION:Batch New Southern Kitchen & Tap FTL\, 525 North Federal Highway\, Fort Lauderdale\, 33301\, United States
END:VEVENT
BEGIN:VEVENT
DTSTART;TZID=UTC:20271109T183000
DTEND;TZID=UTC:20271109T193000
DTSTAMP:20260421T125403
CREATED:20260106T201133Z
LAST-MODIFIED:20260106T201133Z
UID:10009151-1825785000-1825788600@innerpowerpartners.com
SUMMARY:IPP® FTL\, Wilton Manors\, & Pompano Beach Afterhours Connection Experience!
DESCRIPTION:
URL:https://innerpowerpartners.com/event/ipp-ftl-wilton-manors-pompano-beach-afterhours-connection-experience/2027-11-09/
LOCATION:Batch New Southern Kitchen & Tap FTL\, 525 North Federal Highway\, Fort Lauderdale\, 33301\, United States
END:VEVENT
BEGIN:VEVENT
DTSTART;TZID=UTC:20271116T183000
DTEND;TZID=UTC:20271116T193000
DTSTAMP:20260421T125403
CREATED:20260106T201133Z
LAST-MODIFIED:20260106T201133Z
UID:10009152-1826389800-1826393400@innerpowerpartners.com
SUMMARY:IPP® FTL\, Wilton Manors\, & Pompano Beach Afterhours Connection Experience!
DESCRIPTION:
URL:https://innerpowerpartners.com/event/ipp-ftl-wilton-manors-pompano-beach-afterhours-connection-experience/2027-11-16/
LOCATION:Batch New Southern Kitchen & Tap FTL\, 525 North Federal Highway\, Fort Lauderdale\, 33301\, United States
END:VEVENT
BEGIN:VEVENT
DTSTART;TZID=UTC:20271123T183000
DTEND;TZID=UTC:20271123T193000
DTSTAMP:20260421T125404
CREATED:20260106T201133Z
LAST-MODIFIED:20260106T201133Z
UID:10009153-1826994600-1826998200@innerpowerpartners.com
SUMMARY:IPP® FTL\, Wilton Manors\, & Pompano Beach Afterhours Connection Experience!
DESCRIPTION:
URL:https://innerpowerpartners.com/event/ipp-ftl-wilton-manors-pompano-beach-afterhours-connection-experience/2027-11-23/
LOCATION:Batch New Southern Kitchen & Tap FTL\, 525 North Federal Highway\, Fort Lauderdale\, 33301\, United States
END:VEVENT
BEGIN:VEVENT
DTSTART;TZID=UTC:20271130T183000
DTEND;TZID=UTC:20271130T193000
DTSTAMP:20260421T125404
CREATED:20260106T201133Z
LAST-MODIFIED:20260106T201133Z
UID:10009154-1827599400-1827603000@innerpowerpartners.com
SUMMARY:IPP® FTL\, Wilton Manors\, & Pompano Beach Afterhours Connection Experience!
DESCRIPTION:
URL:https://innerpowerpartners.com/event/ipp-ftl-wilton-manors-pompano-beach-afterhours-connection-experience/2027-11-30/
LOCATION:Batch New Southern Kitchen & Tap FTL\, 525 North Federal Highway\, Fort Lauderdale\, 33301\, United States
END:VEVENT
BEGIN:VEVENT
DTSTART;TZID=UTC:20271207T183000
DTEND;TZID=UTC:20271207T193000
DTSTAMP:20260421T125404
CREATED:20260106T201133Z
LAST-MODIFIED:20260106T201133Z
UID:10009155-1828204200-1828207800@innerpowerpartners.com
SUMMARY:IPP® FTL\, Wilton Manors\, & Pompano Beach Afterhours Connection Experience!
DESCRIPTION:
URL:https://innerpowerpartners.com/event/ipp-ftl-wilton-manors-pompano-beach-afterhours-connection-experience/2027-12-07/
LOCATION:Batch New Southern Kitchen & Tap FTL\, 525 North Federal Highway\, Fort Lauderdale\, 33301\, United States
END:VEVENT
BEGIN:VEVENT
DTSTART;TZID=UTC:20271214T183000
DTEND;TZID=UTC:20271214T193000
DTSTAMP:20260421T125404
CREATED:20260106T201133Z
LAST-MODIFIED:20260106T201133Z
UID:10009156-1828809000-1828812600@innerpowerpartners.com
SUMMARY:IPP® FTL\, Wilton Manors\, & Pompano Beach Afterhours Connection Experience!
DESCRIPTION:
URL:https://innerpowerpartners.com/event/ipp-ftl-wilton-manors-pompano-beach-afterhours-connection-experience/2027-12-14/
LOCATION:Batch New Southern Kitchen & Tap FTL\, 525 North Federal Highway\, Fort Lauderdale\, 33301\, United States
END:VEVENT
BEGIN:VEVENT
DTSTART;TZID=UTC:20271221T183000
DTEND;TZID=UTC:20271221T193000
DTSTAMP:20260421T125404
CREATED:20260106T201133Z
LAST-MODIFIED:20260106T201133Z
UID:10009157-1829413800-1829417400@innerpowerpartners.com
SUMMARY:IPP® FTL\, Wilton Manors\, & Pompano Beach Afterhours Connection Experience!
DESCRIPTION:
URL:https://innerpowerpartners.com/event/ipp-ftl-wilton-manors-pompano-beach-afterhours-connection-experience/2027-12-21/
LOCATION:Batch New Southern Kitchen & Tap FTL\, 525 North Federal Highway\, Fort Lauderdale\, 33301\, United States
END:VEVENT
BEGIN:VEVENT
DTSTART;TZID=UTC:20271228T183000
DTEND;TZID=UTC:20271228T193000
DTSTAMP:20260421T125404
CREATED:20260106T201133Z
LAST-MODIFIED:20260106T201133Z
UID:10009158-1830018600-1830022200@innerpowerpartners.com
SUMMARY:IPP® FTL\, Wilton Manors\, & Pompano Beach Afterhours Connection Experience!
DESCRIPTION:
URL:https://innerpowerpartners.com/event/ipp-ftl-wilton-manors-pompano-beach-afterhours-connection-experience/2027-12-28/
LOCATION:Batch New Southern Kitchen & Tap FTL\, 525 North Federal Highway\, Fort Lauderdale\, 33301\, United States
END:VEVENT
BEGIN:VEVENT
DTSTART;TZID=UTC:20280104T183000
DTEND;TZID=UTC:20280104T193000
DTSTAMP:20260421T125404
CREATED:20260106T201133Z
LAST-MODIFIED:20260106T201133Z
UID:10009159-1830623400-1830627000@innerpowerpartners.com
SUMMARY:IPP® FTL\, Wilton Manors\, & Pompano Beach Afterhours Connection Experience!
DESCRIPTION:
URL:https://innerpowerpartners.com/event/ipp-ftl-wilton-manors-pompano-beach-afterhours-connection-experience/2028-01-04/
LOCATION:Batch New Southern Kitchen & Tap FTL\, 525 North Federal Highway\, Fort Lauderdale\, 33301\, United States
END:VEVENT
BEGIN:VEVENT
DTSTART;TZID=UTC:20280111T183000
DTEND;TZID=UTC:20280111T193000
DTSTAMP:20260421T125404
CREATED:20260106T201133Z
LAST-MODIFIED:20260106T201133Z
UID:10009160-1831228200-1831231800@innerpowerpartners.com
SUMMARY:IPP® FTL\, Wilton Manors\, & Pompano Beach Afterhours Connection Experience!
DESCRIPTION:
URL:https://innerpowerpartners.com/event/ipp-ftl-wilton-manors-pompano-beach-afterhours-connection-experience/2028-01-11/
LOCATION:Batch New Southern Kitchen & Tap FTL\, 525 North Federal Highway\, Fort Lauderdale\, 33301\, United States
END:VEVENT
BEGIN:VEVENT
DTSTART;TZID=UTC:20280118T183000
DTEND;TZID=UTC:20280118T193000
DTSTAMP:20260421T125404
CREATED:20260106T201133Z
LAST-MODIFIED:20260106T201133Z
UID:10009161-1831833000-1831836600@innerpowerpartners.com
SUMMARY:IPP® FTL\, Wilton Manors\, & Pompano Beach Afterhours Connection Experience!
DESCRIPTION:
URL:https://innerpowerpartners.com/event/ipp-ftl-wilton-manors-pompano-beach-afterhours-connection-experience/2028-01-18/
LOCATION:Batch New Southern Kitchen & Tap FTL\, 525 North Federal Highway\, Fort Lauderdale\, 33301\, United States
END:VEVENT
BEGIN:VEVENT
DTSTART;TZID=UTC:20280125T183000
DTEND;TZID=UTC:20280125T193000
DTSTAMP:20260421T125404
CREATED:20260106T201133Z
LAST-MODIFIED:20260106T201133Z
UID:10009162-1832437800-1832441400@innerpowerpartners.com
SUMMARY:IPP® FTL\, Wilton Manors\, & Pompano Beach Afterhours Connection Experience!
DESCRIPTION:
URL:https://innerpowerpartners.com/event/ipp-ftl-wilton-manors-pompano-beach-afterhours-connection-experience/2028-01-25/
LOCATION:Batch New Southern Kitchen & Tap FTL\, 525 North Federal Highway\, Fort Lauderdale\, 33301\, United States
END:VEVENT
BEGIN:VEVENT
DTSTART;TZID=UTC:20280201T183000
DTEND;TZID=UTC:20280201T193000
DTSTAMP:20260421T125404
CREATED:20260106T201133Z
LAST-MODIFIED:20260106T201133Z
UID:10009163-1833042600-1833046200@innerpowerpartners.com
SUMMARY:IPP® FTL\, Wilton Manors\, & Pompano Beach Afterhours Connection Experience!
DESCRIPTION:
URL:https://innerpowerpartners.com/event/ipp-ftl-wilton-manors-pompano-beach-afterhours-connection-experience/2028-02-01/
LOCATION:Batch New Southern Kitchen & Tap FTL\, 525 North Federal Highway\, Fort Lauderdale\, 33301\, United States
END:VEVENT
BEGIN:VEVENT
DTSTART;TZID=UTC:20280208T183000
DTEND;TZID=UTC:20280208T193000
DTSTAMP:20260421T125404
CREATED:20260106T201133Z
LAST-MODIFIED:20260106T201133Z
UID:10009164-1833647400-1833651000@innerpowerpartners.com
SUMMARY:IPP® FTL\, Wilton Manors\, & Pompano Beach Afterhours Connection Experience!
DESCRIPTION:
URL:https://innerpowerpartners.com/event/ipp-ftl-wilton-manors-pompano-beach-afterhours-connection-experience/2028-02-08/
LOCATION:Batch New Southern Kitchen & Tap FTL\, 525 North Federal Highway\, Fort Lauderdale\, 33301\, United States
END:VEVENT
BEGIN:VEVENT
DTSTART;TZID=UTC:20280215T183000
DTEND;TZID=UTC:20280215T193000
DTSTAMP:20260421T125404
CREATED:20260106T201133Z
LAST-MODIFIED:20260106T201133Z
UID:10009165-1834252200-1834255800@innerpowerpartners.com
SUMMARY:IPP® FTL\, Wilton Manors\, & Pompano Beach Afterhours Connection Experience!
DESCRIPTION:
URL:https://innerpowerpartners.com/event/ipp-ftl-wilton-manors-pompano-beach-afterhours-connection-experience/2028-02-15/
LOCATION:Batch New Southern Kitchen & Tap FTL\, 525 North Federal Highway\, Fort Lauderdale\, 33301\, United States
END:VEVENT
BEGIN:VEVENT
DTSTART;TZID=UTC:20280222T183000
DTEND;TZID=UTC:20280222T193000
DTSTAMP:20260421T125404
CREATED:20260106T201133Z
LAST-MODIFIED:20260106T201133Z
UID:10009166-1834857000-1834860600@innerpowerpartners.com
SUMMARY:IPP® FTL\, Wilton Manors\, & Pompano Beach Afterhours Connection Experience!
DESCRIPTION:
URL:https://innerpowerpartners.com/event/ipp-ftl-wilton-manors-pompano-beach-afterhours-connection-experience/2028-02-22/
LOCATION:Batch New Southern Kitchen & Tap FTL\, 525 North Federal Highway\, Fort Lauderdale\, 33301\, United States
END:VEVENT
BEGIN:VEVENT
DTSTART;TZID=UTC:20280229T183000
DTEND;TZID=UTC:20280229T193000
DTSTAMP:20260421T125404
CREATED:20260106T201133Z
LAST-MODIFIED:20260106T201133Z
UID:10009167-1835461800-1835465400@innerpowerpartners.com
SUMMARY:IPP® FTL\, Wilton Manors\, & Pompano Beach Afterhours Connection Experience!
DESCRIPTION:
URL:https://innerpowerpartners.com/event/ipp-ftl-wilton-manors-pompano-beach-afterhours-connection-experience/2028-02-29/
LOCATION:Batch New Southern Kitchen & Tap FTL\, 525 North Federal Highway\, Fort Lauderdale\, 33301\, United States
END:VEVENT
BEGIN:VEVENT
DTSTART;TZID=UTC:20280307T183000
DTEND;TZID=UTC:20280307T193000
DTSTAMP:20260421T125404
CREATED:20260106T201133Z
LAST-MODIFIED:20260106T201133Z
UID:10009168-1836066600-1836070200@innerpowerpartners.com
SUMMARY:IPP® FTL\, Wilton Manors\, & Pompano Beach Afterhours Connection Experience!
DESCRIPTION:
URL:https://innerpowerpartners.com/event/ipp-ftl-wilton-manors-pompano-beach-afterhours-connection-experience/2028-03-07/
LOCATION:Batch New Southern Kitchen & Tap FTL\, 525 North Federal Highway\, Fort Lauderdale\, 33301\, United States
END:VEVENT
BEGIN:VEVENT
DTSTART;TZID=UTC:20280314T183000
DTEND;TZID=UTC:20280314T193000
DTSTAMP:20260421T125404
CREATED:20260106T201133Z
LAST-MODIFIED:20260106T201133Z
UID:10009169-1836671400-1836675000@innerpowerpartners.com
SUMMARY:IPP® FTL\, Wilton Manors\, & Pompano Beach Afterhours Connection Experience!
DESCRIPTION:
URL:https://innerpowerpartners.com/event/ipp-ftl-wilton-manors-pompano-beach-afterhours-connection-experience/2028-03-14/
LOCATION:Batch New Southern Kitchen & Tap FTL\, 525 North Federal Highway\, Fort Lauderdale\, 33301\, United States
END:VEVENT
BEGIN:VEVENT
DTSTART;TZID=UTC:20280321T183000
DTEND;TZID=UTC:20280321T193000
DTSTAMP:20260421T125404
CREATED:20260106T201133Z
LAST-MODIFIED:20260106T201133Z
UID:10009170-1837276200-1837279800@innerpowerpartners.com
SUMMARY:IPP® FTL\, Wilton Manors\, & Pompano Beach Afterhours Connection Experience!
DESCRIPTION:
URL:https://innerpowerpartners.com/event/ipp-ftl-wilton-manors-pompano-beach-afterhours-connection-experience/2028-03-21/
LOCATION:Batch New Southern Kitchen & Tap FTL\, 525 North Federal Highway\, Fort Lauderdale\, 33301\, United States
END:VEVENT
BEGIN:VEVENT
DTSTART;TZID=UTC:20280328T183000
DTEND;TZID=UTC:20280328T193000
DTSTAMP:20260421T125404
CREATED:20260106T201133Z
LAST-MODIFIED:20260106T201133Z
UID:10009171-1837881000-1837884600@innerpowerpartners.com
SUMMARY:IPP® FTL\, Wilton Manors\, & Pompano Beach Afterhours Connection Experience!
DESCRIPTION:
URL:https://innerpowerpartners.com/event/ipp-ftl-wilton-manors-pompano-beach-afterhours-connection-experience/2028-03-28/
LOCATION:Batch New Southern Kitchen & Tap FTL\, 525 North Federal Highway\, Fort Lauderdale\, 33301\, United States
END:VEVENT
END:VCALENDAR