BEGIN:VCALENDAR
VERSION:2.0
PRODID:-//Inner Power Partners - ECPv6.15.18//NONSGML v1.0//EN
CALSCALE:GREGORIAN
METHOD:PUBLISH
X-ORIGINAL-URL:https://innerpowerpartners.com
X-WR-CALDESC:Events for Inner Power Partners
REFRESH-INTERVAL;VALUE=DURATION:PT1H
X-Robots-Tag:noindex
X-PUBLISHED-TTL:PT1H
BEGIN:VTIMEZONE
TZID:UTC
BEGIN:STANDARD
TZOFFSETFROM:+0000
TZOFFSETTO:+0000
TZNAME:UTC
DTSTART:20250101T000000
END:STANDARD
END:VTIMEZONE
BEGIN:VEVENT
DTSTART;TZID=UTC:20260210T182000
DTEND;TZID=UTC:20260210T200000
DTSTAMP:20260421T085537
CREATED:20260204T193609Z
LAST-MODIFIED:20260204T193610Z
UID:10002892-1770747600-1770753600@innerpowerpartners.com
SUMMARY:IPP® Central Connection Experience!
DESCRIPTION:
URL:https://innerpowerpartners.com/event/ipp-central-2-2-2-2-2/
LOCATION:Dos Amigos\, 14917 Lyons road\, Delray Beach\, 33446\, United States
CATEGORIES:Meeting
END:VEVENT
END:VCALENDAR