BEGIN:VCALENDAR
VERSION:2.0
PRODID:-//Inner Power Partners - ECPv6.15.18//NONSGML v1.0//EN
CALSCALE:GREGORIAN
METHOD:PUBLISH
X-ORIGINAL-URL:https://innerpowerpartners.com
X-WR-CALDESC:Events for Inner Power Partners
REFRESH-INTERVAL;VALUE=DURATION:PT1H
X-Robots-Tag:noindex
X-PUBLISHED-TTL:PT1H
BEGIN:VTIMEZONE
TZID:UTC
BEGIN:STANDARD
TZOFFSETFROM:+0000
TZOFFSETTO:+0000
TZNAME:UTC
DTSTART:20230101T000000
END:STANDARD
END:VTIMEZONE
BEGIN:VEVENT
DTSTART;TZID=UTC:20250211T182000
DTEND;TZID=UTC:20250211T193000
DTSTAMP:20260420T123423
CREATED:20241228T000917Z
LAST-MODIFIED:20241228T000917Z
UID:10002840-1739298000-1739302200@innerpowerpartners.com
SUMMARY:IPP® Boynton Beach Professionals Connection Experience!
DESCRIPTION:
URL:https://innerpowerpartners.com/event/ipp-boynton-beach-2-2-2/2025-02-11/
LOCATION:NOBO Brewing\, 2901 NW Commerce Park Dr\, Boynton Beach\, 33426\, United States
CATEGORIES:Meeting
END:VEVENT
BEGIN:VEVENT
DTSTART;TZID=UTC:20250204T182000
DTEND;TZID=UTC:20250204T193000
DTSTAMP:20260420T123423
CREATED:20241228T000917Z
LAST-MODIFIED:20241228T000917Z
UID:10002839-1738693200-1738697400@innerpowerpartners.com
SUMMARY:IPP® Boynton Beach Professionals Connection Experience!
DESCRIPTION:
URL:https://innerpowerpartners.com/event/ipp-boynton-beach-2-2-2/2025-02-04/
LOCATION:NOBO Brewing\, 2901 NW Commerce Park Dr\, Boynton Beach\, 33426\, United States
CATEGORIES:Meeting
END:VEVENT
BEGIN:VEVENT
DTSTART;TZID=UTC:20250128T182000
DTEND;TZID=UTC:20250128T193000
DTSTAMP:20260420T123423
CREATED:20241228T000917Z
LAST-MODIFIED:20241228T000917Z
UID:10002838-1738088400-1738092600@innerpowerpartners.com
SUMMARY:IPP® Boynton Beach Professionals Connection Experience!
DESCRIPTION:
URL:https://innerpowerpartners.com/event/ipp-boynton-beach-2-2-2/2025-01-28/
LOCATION:NOBO Brewing\, 2901 NW Commerce Park Dr\, Boynton Beach\, 33426\, United States
CATEGORIES:Meeting
END:VEVENT
BEGIN:VEVENT
DTSTART;TZID=UTC:20250121T182000
DTEND;TZID=UTC:20250121T193000
DTSTAMP:20260420T123423
CREATED:20241228T000917Z
LAST-MODIFIED:20241228T000917Z
UID:10002837-1737483600-1737487800@innerpowerpartners.com
SUMMARY:IPP® Boynton Beach Professionals Connection Experience!
DESCRIPTION:
URL:https://innerpowerpartners.com/event/ipp-boynton-beach-2-2-2/2025-01-21/
LOCATION:NOBO Brewing\, 2901 NW Commerce Park Dr\, Boynton Beach\, 33426\, United States
CATEGORIES:Meeting
END:VEVENT
BEGIN:VEVENT
DTSTART;TZID=UTC:20250114T182000
DTEND;TZID=UTC:20250114T193000
DTSTAMP:20260420T123423
CREATED:20241228T000917Z
LAST-MODIFIED:20241228T000917Z
UID:10002836-1736878800-1736883000@innerpowerpartners.com
SUMMARY:IPP® Boynton Beach Professionals Connection Experience!
DESCRIPTION:
URL:https://innerpowerpartners.com/event/ipp-boynton-beach-2-2-2/2025-01-14/
LOCATION:NOBO Brewing\, 2901 NW Commerce Park Dr\, Boynton Beach\, 33426\, United States
CATEGORIES:Meeting
END:VEVENT
BEGIN:VEVENT
DTSTART;TZID=UTC:20250107T182000
DTEND;TZID=UTC:20250107T193000
DTSTAMP:20260420T123423
CREATED:20241228T000917Z
LAST-MODIFIED:20241228T000917Z
UID:10002835-1736274000-1736278200@innerpowerpartners.com
SUMMARY:IPP® Boynton Beach Professionals Connection Experience!
DESCRIPTION:
URL:https://innerpowerpartners.com/event/ipp-boynton-beach-2-2-2/2025-01-07/
LOCATION:NOBO Brewing\, 2901 NW Commerce Park Dr\, Boynton Beach\, 33426\, United States
CATEGORIES:Meeting
END:VEVENT
BEGIN:VEVENT
DTSTART;TZID=UTC:20241231T182000
DTEND;TZID=UTC:20241231T193000
DTSTAMP:20260420T123423
CREATED:20241228T000917Z
LAST-MODIFIED:20241228T000917Z
UID:10002834-1735669200-1735673400@innerpowerpartners.com
SUMMARY:IPP® Boynton Beach Professionals Connection Experience!
DESCRIPTION:
URL:https://innerpowerpartners.com/event/ipp-boynton-beach-2-2-2/2024-12-31/
LOCATION:NOBO Brewing\, 2901 NW Commerce Park Dr\, Boynton Beach\, 33426\, United States
CATEGORIES:Meeting
END:VEVENT
END:VCALENDAR