BEGIN:VCALENDAR
VERSION:2.0
PRODID:-//Inner Power Partners - ECPv6.15.18//NONSGML v1.0//EN
CALSCALE:GREGORIAN
METHOD:PUBLISH
X-WR-CALNAME:Inner Power Partners
X-ORIGINAL-URL:https://innerpowerpartners.com
X-WR-CALDESC:Events for Inner Power Partners
REFRESH-INTERVAL;VALUE=DURATION:PT1H
X-Robots-Tag:noindex
X-PUBLISHED-TTL:PT1H
BEGIN:VTIMEZONE
TZID:America/New_York
BEGIN:DAYLIGHT
TZOFFSETFROM:-0500
TZOFFSETTO:-0400
TZNAME:EDT
DTSTART:20250309T070000
END:DAYLIGHT
BEGIN:STANDARD
TZOFFSETFROM:-0400
TZOFFSETTO:-0500
TZNAME:EST
DTSTART:20251102T060000
END:STANDARD
BEGIN:DAYLIGHT
TZOFFSETFROM:-0500
TZOFFSETTO:-0400
TZNAME:EDT
DTSTART:20260308T070000
END:DAYLIGHT
BEGIN:STANDARD
TZOFFSETFROM:-0400
TZOFFSETTO:-0500
TZNAME:EST
DTSTART:20261101T060000
END:STANDARD
BEGIN:DAYLIGHT
TZOFFSETFROM:-0500
TZOFFSETTO:-0400
TZNAME:EDT
DTSTART:20270314T070000
END:DAYLIGHT
BEGIN:STANDARD
TZOFFSETFROM:-0400
TZOFFSETTO:-0500
TZNAME:EST
DTSTART:20271107T060000
END:STANDARD
END:VTIMEZONE
BEGIN:VTIMEZONE
TZID:UTC
BEGIN:STANDARD
TZOFFSETFROM:+0000
TZOFFSETTO:+0000
TZNAME:UTC
DTSTART:20240101T000000
END:STANDARD
END:VTIMEZONE
BEGIN:VEVENT
DTSTART;TZID=America/New_York:20260414T082000
DTEND;TZID=America/New_York:20260414T213000
DTSTAMP:20260421T103850
CREATED:20260325T191802Z
LAST-MODIFIED:20260325T191803Z
UID:10009417-1776154800-1776202200@innerpowerpartners.com
SUMMARY:IPP® Coral Springs\, Coconut Creek\, & Margate AM Connection Experience
DESCRIPTION:
URL:https://innerpowerpartners.com/event/ipp-coral-springs-coconut-creek-margate-am-connection-experience-2/2026-04-14/
LOCATION:Office Evolution\, 3301 n university drive\, Coral Springs\, FL\, 33065\, United States
END:VEVENT
BEGIN:VEVENT
DTSTART;TZID=America/New_York:20260407T082000
DTEND;TZID=America/New_York:20260407T213000
DTSTAMP:20260421T103850
CREATED:20260325T191802Z
LAST-MODIFIED:20260325T191803Z
UID:10009416-1775550000-1775597400@innerpowerpartners.com
SUMMARY:IPP® Coral Springs\, Coconut Creek\, & Margate AM Connection Experience
DESCRIPTION:
URL:https://innerpowerpartners.com/event/ipp-coral-springs-coconut-creek-margate-am-connection-experience-2/2026-04-07/
LOCATION:Office Evolution\, 3301 n university drive\, Coral Springs\, FL\, 33065\, United States
END:VEVENT
BEGIN:VEVENT
DTSTART;TZID=America/New_York:20260331T082000
DTEND;TZID=America/New_York:20260331T213000
DTSTAMP:20260421T103850
CREATED:20260325T191802Z
LAST-MODIFIED:20260325T191803Z
UID:10009326-1774945200-1774992600@innerpowerpartners.com
SUMMARY:IPP® Coral Springs\, Coconut Creek\, & Margate AM Connection Experience
DESCRIPTION:
URL:https://innerpowerpartners.com/event/ipp-coral-springs-coconut-creek-margate-am-connection-experience-2/2026-03-31/
LOCATION:Office Evolution\, 3301 n university drive\, Coral Springs\, FL\, 33065\, United States
END:VEVENT
BEGIN:VEVENT
DTSTART;TZID=UTC:20260324T082000
DTEND;TZID=UTC:20260324T213000
DTSTAMP:20260421T103850
CREATED:20260309T194822Z
LAST-MODIFIED:20260309T194822Z
UID:10009325-1774340400-1774387800@innerpowerpartners.com
SUMMARY:IPP® Coral Springs\, Coconut Creek\, & Margate AM Connection Experience
DESCRIPTION:
URL:https://innerpowerpartners.com/event/ipp-coral-springs-coconut-creek-margate-am-connection-experience/2026-03-24/
LOCATION:Office Evolution\, 3301 n university drive\, Coral Springs\, FL\, 33065\, United States
END:VEVENT
BEGIN:VEVENT
DTSTART;TZID=UTC:20260317T082000
DTEND;TZID=UTC:20260317T213000
DTSTAMP:20260421T103850
CREATED:20260309T194822Z
LAST-MODIFIED:20260309T194822Z
UID:10009324-1773735600-1773783000@innerpowerpartners.com
SUMMARY:IPP® Coral Springs\, Coconut Creek\, & Margate AM Connection Experience
DESCRIPTION:
URL:https://innerpowerpartners.com/event/ipp-coral-springs-coconut-creek-margate-am-connection-experience/2026-03-17/
LOCATION:Office Evolution\, 3301 n university drive\, Coral Springs\, FL\, 33065\, United States
END:VEVENT
BEGIN:VEVENT
DTSTART;TZID=UTC:20260107T122000
DTEND;TZID=UTC:20260107T133000
DTSTAMP:20260421T103850
CREATED:20260105T180321Z
LAST-MODIFIED:20260309T194437Z
UID:10003153-1767788400-1767792600@innerpowerpartners.com
SUMMARY:IPP® Coral Springs\, Coconut Creek\, Margate\, & Tamarac Connection Experience!
DESCRIPTION: 
URL:https://innerpowerpartners.com/event/coral-springs-2-2-2-2/
LOCATION:Office Evolution\, 3301 n university drive\, Coral Springs\, FL\, 33065\, United States
CATEGORIES:Meeting
END:VEVENT
BEGIN:VEVENT
DTSTART;TZID=UTC:20251217T122000
DTEND;TZID=UTC:20251217T133000
DTSTAMP:20260421T103850
CREATED:20251013T130036Z
LAST-MODIFIED:20251013T130037Z
UID:10003150-1765974000-1765978200@innerpowerpartners.com
SUMMARY:IPP® Coral Springs Professionals Connection Experience!
DESCRIPTION: 
URL:https://innerpowerpartners.com/event/coral-springs-2-2-2/2025-12-17/
LOCATION:Office Evolution\, 3301 n university drive\, Coral Springs\, FL\, 33065\, United States
CATEGORIES:Meeting
END:VEVENT
BEGIN:VEVENT
DTSTART;TZID=UTC:20251210T122000
DTEND;TZID=UTC:20251210T133000
DTSTAMP:20260421T103850
CREATED:20251013T130036Z
LAST-MODIFIED:20251013T130037Z
UID:10003149-1765369200-1765373400@innerpowerpartners.com
SUMMARY:IPP® Coral Springs Professionals Connection Experience!
DESCRIPTION: 
URL:https://innerpowerpartners.com/event/coral-springs-2-2-2/2025-12-10/
LOCATION:Office Evolution\, 3301 n university drive\, Coral Springs\, FL\, 33065\, United States
CATEGORIES:Meeting
END:VEVENT
BEGIN:VEVENT
DTSTART;TZID=UTC:20251203T122000
DTEND;TZID=UTC:20251203T133000
DTSTAMP:20260421T103850
CREATED:20251013T130036Z
LAST-MODIFIED:20251013T130037Z
UID:10003148-1764764400-1764768600@innerpowerpartners.com
SUMMARY:IPP® Coral Springs Professionals Connection Experience!
DESCRIPTION: 
URL:https://innerpowerpartners.com/event/coral-springs-2-2-2/2025-12-03/
LOCATION:Office Evolution\, 3301 n university drive\, Coral Springs\, FL\, 33065\, United States
CATEGORIES:Meeting
END:VEVENT
BEGIN:VEVENT
DTSTART;TZID=UTC:20251126T122000
DTEND;TZID=UTC:20251126T133000
DTSTAMP:20260421T103850
CREATED:20251013T130036Z
LAST-MODIFIED:20251013T130037Z
UID:10003147-1764159600-1764163800@innerpowerpartners.com
SUMMARY:IPP® Coral Springs Professionals Connection Experience!
DESCRIPTION: 
URL:https://innerpowerpartners.com/event/coral-springs-2-2-2/2025-11-26/
LOCATION:Office Evolution\, 3301 n university drive\, Coral Springs\, FL\, 33065\, United States
CATEGORIES:Meeting
END:VEVENT
BEGIN:VEVENT
DTSTART;TZID=UTC:20251119T122000
DTEND;TZID=UTC:20251119T133000
DTSTAMP:20260421T103850
CREATED:20251013T130036Z
LAST-MODIFIED:20251013T130037Z
UID:10003146-1763554800-1763559000@innerpowerpartners.com
SUMMARY:IPP® Coral Springs Professionals Connection Experience!
DESCRIPTION: 
URL:https://innerpowerpartners.com/event/coral-springs-2-2-2/2025-11-19/
LOCATION:Office Evolution\, 3301 n university drive\, Coral Springs\, FL\, 33065\, United States
CATEGORIES:Meeting
END:VEVENT
BEGIN:VEVENT
DTSTART;TZID=UTC:20251112T122000
DTEND;TZID=UTC:20251112T133000
DTSTAMP:20260421T103850
CREATED:20251013T130036Z
LAST-MODIFIED:20251013T130037Z
UID:10003145-1762950000-1762954200@innerpowerpartners.com
SUMMARY:IPP® Coral Springs Professionals Connection Experience!
DESCRIPTION: 
URL:https://innerpowerpartners.com/event/coral-springs-2-2-2/2025-11-12/
LOCATION:Office Evolution\, 3301 n university drive\, Coral Springs\, FL\, 33065\, United States
CATEGORIES:Meeting
END:VEVENT
BEGIN:VEVENT
DTSTART;TZID=UTC:20251105T122000
DTEND;TZID=UTC:20251105T133000
DTSTAMP:20260421T103850
CREATED:20251013T130036Z
LAST-MODIFIED:20251013T130037Z
UID:10003144-1762345200-1762349400@innerpowerpartners.com
SUMMARY:IPP® Coral Springs Professionals Connection Experience!
DESCRIPTION: 
URL:https://innerpowerpartners.com/event/coral-springs-2-2-2/2025-11-05/
LOCATION:Office Evolution\, 3301 n university drive\, Coral Springs\, FL\, 33065\, United States
CATEGORIES:Meeting
END:VEVENT
BEGIN:VEVENT
DTSTART;TZID=UTC:20251029T122000
DTEND;TZID=UTC:20251029T133000
DTSTAMP:20260421T103850
CREATED:20251013T130036Z
LAST-MODIFIED:20251013T130037Z
UID:10003143-1761740400-1761744600@innerpowerpartners.com
SUMMARY:IPP® Coral Springs Professionals Connection Experience!
DESCRIPTION: 
URL:https://innerpowerpartners.com/event/coral-springs-2-2-2/2025-10-29/
LOCATION:Office Evolution\, 3301 n university drive\, Coral Springs\, FL\, 33065\, United States
CATEGORIES:Meeting
END:VEVENT
BEGIN:VEVENT
DTSTART;TZID=UTC:20251022T122000
DTEND;TZID=UTC:20251022T133000
DTSTAMP:20260421T103850
CREATED:20251013T130036Z
LAST-MODIFIED:20251013T130037Z
UID:10003142-1761135600-1761139800@innerpowerpartners.com
SUMMARY:IPP® Coral Springs Professionals Connection Experience!
DESCRIPTION: 
URL:https://innerpowerpartners.com/event/coral-springs-2-2-2/2025-10-22/
LOCATION:Office Evolution\, 3301 n university drive\, Coral Springs\, FL\, 33065\, United States
CATEGORIES:Meeting
END:VEVENT
BEGIN:VEVENT
DTSTART;TZID=UTC:20251015T122000
DTEND;TZID=UTC:20251015T133000
DTSTAMP:20260421T103850
CREATED:20251013T130036Z
LAST-MODIFIED:20251013T130037Z
UID:10003141-1760530800-1760535000@innerpowerpartners.com
SUMMARY:IPP® Coral Springs Professionals Connection Experience!
DESCRIPTION: 
URL:https://innerpowerpartners.com/event/coral-springs-2-2-2/2025-10-15/
LOCATION:Office Evolution\, 3301 n university drive\, Coral Springs\, FL\, 33065\, United States
CATEGORIES:Meeting
END:VEVENT
BEGIN:VEVENT
DTSTART;TZID=UTC:20251008T122000
DTEND;TZID=UTC:20251008T133000
DTSTAMP:20260421T103850
CREATED:20241228T000559Z
LAST-MODIFIED:20241228T000559Z
UID:10003140-1759926000-1759930200@innerpowerpartners.com
SUMMARY:IPP® Coral Springs Professionals Connection Experience!
DESCRIPTION: 
URL:https://innerpowerpartners.com/event/coral-springs-2-2/2025-10-08/
LOCATION:Office Evolution\, 3301 n university drive\, Coral Springs\, FL\, 33065\, United States
CATEGORIES:Meeting
END:VEVENT
BEGIN:VEVENT
DTSTART;TZID=UTC:20251001T122000
DTEND;TZID=UTC:20251001T133000
DTSTAMP:20260421T103850
CREATED:20241228T000559Z
LAST-MODIFIED:20241228T000559Z
UID:10003139-1759321200-1759325400@innerpowerpartners.com
SUMMARY:IPP® Coral Springs Professionals Connection Experience!
DESCRIPTION: 
URL:https://innerpowerpartners.com/event/coral-springs-2-2/2025-10-01/
LOCATION:Office Evolution\, 3301 n university drive\, Coral Springs\, FL\, 33065\, United States
CATEGORIES:Meeting
END:VEVENT
BEGIN:VEVENT
DTSTART;TZID=UTC:20250924T122000
DTEND;TZID=UTC:20250924T133000
DTSTAMP:20260421T103850
CREATED:20241228T000559Z
LAST-MODIFIED:20241228T000559Z
UID:10003138-1758716400-1758720600@innerpowerpartners.com
SUMMARY:IPP® Coral Springs Professionals Connection Experience!
DESCRIPTION: 
URL:https://innerpowerpartners.com/event/coral-springs-2-2/2025-09-24/
LOCATION:Office Evolution\, 3301 n university drive\, Coral Springs\, FL\, 33065\, United States
CATEGORIES:Meeting
END:VEVENT
BEGIN:VEVENT
DTSTART;TZID=UTC:20250917T122000
DTEND;TZID=UTC:20250917T133000
DTSTAMP:20260421T103850
CREATED:20241228T000559Z
LAST-MODIFIED:20241228T000559Z
UID:10003137-1758111600-1758115800@innerpowerpartners.com
SUMMARY:IPP® Coral Springs Professionals Connection Experience!
DESCRIPTION: 
URL:https://innerpowerpartners.com/event/coral-springs-2-2/2025-09-17/
LOCATION:Office Evolution\, 3301 n university drive\, Coral Springs\, FL\, 33065\, United States
CATEGORIES:Meeting
END:VEVENT
BEGIN:VEVENT
DTSTART;TZID=UTC:20250910T122000
DTEND;TZID=UTC:20250910T133000
DTSTAMP:20260421T103850
CREATED:20241228T000559Z
LAST-MODIFIED:20241228T000559Z
UID:10003136-1757506800-1757511000@innerpowerpartners.com
SUMMARY:IPP® Coral Springs Professionals Connection Experience!
DESCRIPTION: 
URL:https://innerpowerpartners.com/event/coral-springs-2-2/2025-09-10/
LOCATION:Office Evolution\, 3301 n university drive\, Coral Springs\, FL\, 33065\, United States
CATEGORIES:Meeting
END:VEVENT
BEGIN:VEVENT
DTSTART;TZID=UTC:20250903T122000
DTEND;TZID=UTC:20250903T133000
DTSTAMP:20260421T103850
CREATED:20241228T000559Z
LAST-MODIFIED:20241228T000559Z
UID:10003135-1756902000-1756906200@innerpowerpartners.com
SUMMARY:IPP® Coral Springs Professionals Connection Experience!
DESCRIPTION: 
URL:https://innerpowerpartners.com/event/coral-springs-2-2/2025-09-03/
LOCATION:Office Evolution\, 3301 n university drive\, Coral Springs\, FL\, 33065\, United States
CATEGORIES:Meeting
END:VEVENT
BEGIN:VEVENT
DTSTART;TZID=UTC:20250827T122000
DTEND;TZID=UTC:20250827T133000
DTSTAMP:20260421T103850
CREATED:20241228T000559Z
LAST-MODIFIED:20241228T000559Z
UID:10003134-1756297200-1756301400@innerpowerpartners.com
SUMMARY:IPP® Coral Springs Professionals Connection Experience!
DESCRIPTION: 
URL:https://innerpowerpartners.com/event/coral-springs-2-2/2025-08-27/
LOCATION:Office Evolution\, 3301 n university drive\, Coral Springs\, FL\, 33065\, United States
CATEGORIES:Meeting
END:VEVENT
BEGIN:VEVENT
DTSTART;TZID=UTC:20250820T122000
DTEND;TZID=UTC:20250820T133000
DTSTAMP:20260421T103850
CREATED:20241228T000559Z
LAST-MODIFIED:20241228T000559Z
UID:10003133-1755692400-1755696600@innerpowerpartners.com
SUMMARY:IPP® Coral Springs Professionals Connection Experience!
DESCRIPTION: 
URL:https://innerpowerpartners.com/event/coral-springs-2-2/2025-08-20/
LOCATION:Office Evolution\, 3301 n university drive\, Coral Springs\, FL\, 33065\, United States
CATEGORIES:Meeting
END:VEVENT
BEGIN:VEVENT
DTSTART;TZID=UTC:20250813T122000
DTEND;TZID=UTC:20250813T133000
DTSTAMP:20260421T103850
CREATED:20241228T000559Z
LAST-MODIFIED:20241228T000559Z
UID:10003132-1755087600-1755091800@innerpowerpartners.com
SUMMARY:IPP® Coral Springs Professionals Connection Experience!
DESCRIPTION: 
URL:https://innerpowerpartners.com/event/coral-springs-2-2/2025-08-13/
LOCATION:Office Evolution\, 3301 n university drive\, Coral Springs\, FL\, 33065\, United States
CATEGORIES:Meeting
END:VEVENT
BEGIN:VEVENT
DTSTART;TZID=UTC:20250806T122000
DTEND;TZID=UTC:20250806T133000
DTSTAMP:20260421T103850
CREATED:20241228T000559Z
LAST-MODIFIED:20241228T000559Z
UID:10003131-1754482800-1754487000@innerpowerpartners.com
SUMMARY:IPP® Coral Springs Professionals Connection Experience!
DESCRIPTION: 
URL:https://innerpowerpartners.com/event/coral-springs-2-2/2025-08-06/
LOCATION:Office Evolution\, 3301 n university drive\, Coral Springs\, FL\, 33065\, United States
CATEGORIES:Meeting
END:VEVENT
BEGIN:VEVENT
DTSTART;TZID=UTC:20250730T122000
DTEND;TZID=UTC:20250730T133000
DTSTAMP:20260421T103850
CREATED:20241228T000559Z
LAST-MODIFIED:20241228T000559Z
UID:10003130-1753878000-1753882200@innerpowerpartners.com
SUMMARY:IPP® Coral Springs Professionals Connection Experience!
DESCRIPTION: 
URL:https://innerpowerpartners.com/event/coral-springs-2-2/2025-07-30/
LOCATION:Office Evolution\, 3301 n university drive\, Coral Springs\, FL\, 33065\, United States
CATEGORIES:Meeting
END:VEVENT
BEGIN:VEVENT
DTSTART;TZID=UTC:20250723T122000
DTEND;TZID=UTC:20250723T133000
DTSTAMP:20260421T103850
CREATED:20241228T000559Z
LAST-MODIFIED:20241228T000559Z
UID:10003129-1753273200-1753277400@innerpowerpartners.com
SUMMARY:IPP® Coral Springs Professionals Connection Experience!
DESCRIPTION: 
URL:https://innerpowerpartners.com/event/coral-springs-2-2/2025-07-23/
LOCATION:Office Evolution\, 3301 n university drive\, Coral Springs\, FL\, 33065\, United States
CATEGORIES:Meeting
END:VEVENT
BEGIN:VEVENT
DTSTART;TZID=UTC:20250716T122000
DTEND;TZID=UTC:20250716T133000
DTSTAMP:20260421T103850
CREATED:20241228T000559Z
LAST-MODIFIED:20241228T000559Z
UID:10003128-1752668400-1752672600@innerpowerpartners.com
SUMMARY:IPP® Coral Springs Professionals Connection Experience!
DESCRIPTION: 
URL:https://innerpowerpartners.com/event/coral-springs-2-2/2025-07-16/
LOCATION:Office Evolution\, 3301 n university drive\, Coral Springs\, FL\, 33065\, United States
CATEGORIES:Meeting
END:VEVENT
BEGIN:VEVENT
DTSTART;TZID=UTC:20250709T122000
DTEND;TZID=UTC:20250709T133000
DTSTAMP:20260421T103850
CREATED:20241228T000559Z
LAST-MODIFIED:20241228T000559Z
UID:10003127-1752063600-1752067800@innerpowerpartners.com
SUMMARY:IPP® Coral Springs Professionals Connection Experience!
DESCRIPTION: 
URL:https://innerpowerpartners.com/event/coral-springs-2-2/2025-07-09/
LOCATION:Office Evolution\, 3301 n university drive\, Coral Springs\, FL\, 33065\, United States
CATEGORIES:Meeting
END:VEVENT
END:VCALENDAR