BEGIN:VCALENDAR
VERSION:2.0
PRODID:-//Inner Power Partners - ECPv6.15.18//NONSGML v1.0//EN
CALSCALE:GREGORIAN
METHOD:PUBLISH
X-ORIGINAL-URL:https://innerpowerpartners.com
X-WR-CALDESC:Events for Inner Power Partners
REFRESH-INTERVAL;VALUE=DURATION:PT1H
X-Robots-Tag:noindex
X-PUBLISHED-TTL:PT1H
BEGIN:VTIMEZONE
TZID:America/New_York
BEGIN:DAYLIGHT
TZOFFSETFROM:-0500
TZOFFSETTO:-0400
TZNAME:EDT
DTSTART:20250309T070000
END:DAYLIGHT
BEGIN:STANDARD
TZOFFSETFROM:-0400
TZOFFSETTO:-0500
TZNAME:EST
DTSTART:20251102T060000
END:STANDARD
BEGIN:DAYLIGHT
TZOFFSETFROM:-0500
TZOFFSETTO:-0400
TZNAME:EDT
DTSTART:20260308T070000
END:DAYLIGHT
BEGIN:STANDARD
TZOFFSETFROM:-0400
TZOFFSETTO:-0500
TZNAME:EST
DTSTART:20261101T060000
END:STANDARD
BEGIN:DAYLIGHT
TZOFFSETFROM:-0500
TZOFFSETTO:-0400
TZNAME:EDT
DTSTART:20270314T070000
END:DAYLIGHT
BEGIN:STANDARD
TZOFFSETFROM:-0400
TZOFFSETTO:-0500
TZNAME:EST
DTSTART:20271107T060000
END:STANDARD
END:VTIMEZONE
BEGIN:VEVENT
DTSTART;TZID=America/New_York:20260421T082000
DTEND;TZID=America/New_York:20260421T213000
DTSTAMP:20260421T084722
CREATED:20260325T191802Z
LAST-MODIFIED:20260325T191803Z
UID:10009418-1776759600-1776807000@innerpowerpartners.com
SUMMARY:IPP® Coral Springs\, Coconut Creek\, & Margate AM Connection Experience
DESCRIPTION:
URL:https://innerpowerpartners.com/event/ipp-coral-springs-coconut-creek-margate-am-connection-experience-2/2026-04-21/
LOCATION:Office Evolution\, 3301 n university drive\, Coral Springs\, FL\, 33065\, United States
END:VEVENT
BEGIN:VEVENT
DTSTART;TZID=America/New_York:20260428T082000
DTEND;TZID=America/New_York:20260428T213000
DTSTAMP:20260421T084722
CREATED:20260325T191802Z
LAST-MODIFIED:20260325T191803Z
UID:10009419-1777364400-1777411800@innerpowerpartners.com
SUMMARY:IPP® Coral Springs\, Coconut Creek\, & Margate AM Connection Experience
DESCRIPTION:
URL:https://innerpowerpartners.com/event/ipp-coral-springs-coconut-creek-margate-am-connection-experience-2/2026-04-28/
LOCATION:Office Evolution\, 3301 n university drive\, Coral Springs\, FL\, 33065\, United States
END:VEVENT
BEGIN:VEVENT
DTSTART;TZID=America/New_York:20260505T082000
DTEND;TZID=America/New_York:20260505T213000
DTSTAMP:20260421T084722
CREATED:20260325T191802Z
LAST-MODIFIED:20260325T191803Z
UID:10009420-1777969200-1778016600@innerpowerpartners.com
SUMMARY:IPP® Coral Springs\, Coconut Creek\, & Margate AM Connection Experience
DESCRIPTION:
URL:https://innerpowerpartners.com/event/ipp-coral-springs-coconut-creek-margate-am-connection-experience-2/2026-05-05/
LOCATION:Office Evolution\, 3301 n university drive\, Coral Springs\, FL\, 33065\, United States
END:VEVENT
BEGIN:VEVENT
DTSTART;TZID=America/New_York:20260512T082000
DTEND;TZID=America/New_York:20260512T213000
DTSTAMP:20260421T084722
CREATED:20260325T191802Z
LAST-MODIFIED:20260325T191803Z
UID:10009421-1778574000-1778621400@innerpowerpartners.com
SUMMARY:IPP® Coral Springs\, Coconut Creek\, & Margate AM Connection Experience
DESCRIPTION:
URL:https://innerpowerpartners.com/event/ipp-coral-springs-coconut-creek-margate-am-connection-experience-2/2026-05-12/
LOCATION:Office Evolution\, 3301 n university drive\, Coral Springs\, FL\, 33065\, United States
END:VEVENT
BEGIN:VEVENT
DTSTART;TZID=America/New_York:20260519T082000
DTEND;TZID=America/New_York:20260519T213000
DTSTAMP:20260421T084722
CREATED:20260325T191802Z
LAST-MODIFIED:20260325T191803Z
UID:10009422-1779178800-1779226200@innerpowerpartners.com
SUMMARY:IPP® Coral Springs\, Coconut Creek\, & Margate AM Connection Experience
DESCRIPTION:
URL:https://innerpowerpartners.com/event/ipp-coral-springs-coconut-creek-margate-am-connection-experience-2/2026-05-19/
LOCATION:Office Evolution\, 3301 n university drive\, Coral Springs\, FL\, 33065\, United States
END:VEVENT
BEGIN:VEVENT
DTSTART;TZID=America/New_York:20260526T082000
DTEND;TZID=America/New_York:20260526T213000
DTSTAMP:20260421T084722
CREATED:20260325T191802Z
LAST-MODIFIED:20260325T191803Z
UID:10009423-1779783600-1779831000@innerpowerpartners.com
SUMMARY:IPP® Coral Springs\, Coconut Creek\, & Margate AM Connection Experience
DESCRIPTION:
URL:https://innerpowerpartners.com/event/ipp-coral-springs-coconut-creek-margate-am-connection-experience-2/2026-05-26/
LOCATION:Office Evolution\, 3301 n university drive\, Coral Springs\, FL\, 33065\, United States
END:VEVENT
BEGIN:VEVENT
DTSTART;TZID=America/New_York:20260602T082000
DTEND;TZID=America/New_York:20260602T213000
DTSTAMP:20260421T084722
CREATED:20260325T191802Z
LAST-MODIFIED:20260325T191803Z
UID:10009424-1780388400-1780435800@innerpowerpartners.com
SUMMARY:IPP® Coral Springs\, Coconut Creek\, & Margate AM Connection Experience
DESCRIPTION:
URL:https://innerpowerpartners.com/event/ipp-coral-springs-coconut-creek-margate-am-connection-experience-2/2026-06-02/
LOCATION:Office Evolution\, 3301 n university drive\, Coral Springs\, FL\, 33065\, United States
END:VEVENT
BEGIN:VEVENT
DTSTART;TZID=America/New_York:20260609T082000
DTEND;TZID=America/New_York:20260609T213000
DTSTAMP:20260421T084722
CREATED:20260325T191802Z
LAST-MODIFIED:20260325T191803Z
UID:10009425-1780993200-1781040600@innerpowerpartners.com
SUMMARY:IPP® Coral Springs\, Coconut Creek\, & Margate AM Connection Experience
DESCRIPTION:
URL:https://innerpowerpartners.com/event/ipp-coral-springs-coconut-creek-margate-am-connection-experience-2/2026-06-09/
LOCATION:Office Evolution\, 3301 n university drive\, Coral Springs\, FL\, 33065\, United States
END:VEVENT
BEGIN:VEVENT
DTSTART;TZID=America/New_York:20260616T082000
DTEND;TZID=America/New_York:20260616T213000
DTSTAMP:20260421T084722
CREATED:20260325T191802Z
LAST-MODIFIED:20260325T191803Z
UID:10009426-1781598000-1781645400@innerpowerpartners.com
SUMMARY:IPP® Coral Springs\, Coconut Creek\, & Margate AM Connection Experience
DESCRIPTION:
URL:https://innerpowerpartners.com/event/ipp-coral-springs-coconut-creek-margate-am-connection-experience-2/2026-06-16/
LOCATION:Office Evolution\, 3301 n university drive\, Coral Springs\, FL\, 33065\, United States
END:VEVENT
BEGIN:VEVENT
DTSTART;TZID=America/New_York:20260623T082000
DTEND;TZID=America/New_York:20260623T213000
DTSTAMP:20260421T084722
CREATED:20260325T191802Z
LAST-MODIFIED:20260325T191803Z
UID:10009427-1782202800-1782250200@innerpowerpartners.com
SUMMARY:IPP® Coral Springs\, Coconut Creek\, & Margate AM Connection Experience
DESCRIPTION:
URL:https://innerpowerpartners.com/event/ipp-coral-springs-coconut-creek-margate-am-connection-experience-2/2026-06-23/
LOCATION:Office Evolution\, 3301 n university drive\, Coral Springs\, FL\, 33065\, United States
END:VEVENT
BEGIN:VEVENT
DTSTART;TZID=America/New_York:20260630T082000
DTEND;TZID=America/New_York:20260630T213000
DTSTAMP:20260421T084722
CREATED:20260325T191802Z
LAST-MODIFIED:20260325T191803Z
UID:10009428-1782807600-1782855000@innerpowerpartners.com
SUMMARY:IPP® Coral Springs\, Coconut Creek\, & Margate AM Connection Experience
DESCRIPTION:
URL:https://innerpowerpartners.com/event/ipp-coral-springs-coconut-creek-margate-am-connection-experience-2/2026-06-30/
LOCATION:Office Evolution\, 3301 n university drive\, Coral Springs\, FL\, 33065\, United States
END:VEVENT
BEGIN:VEVENT
DTSTART;TZID=America/New_York:20260707T082000
DTEND;TZID=America/New_York:20260707T213000
DTSTAMP:20260421T084722
CREATED:20260325T191802Z
LAST-MODIFIED:20260325T191803Z
UID:10009429-1783412400-1783459800@innerpowerpartners.com
SUMMARY:IPP® Coral Springs\, Coconut Creek\, & Margate AM Connection Experience
DESCRIPTION:
URL:https://innerpowerpartners.com/event/ipp-coral-springs-coconut-creek-margate-am-connection-experience-2/2026-07-07/
LOCATION:Office Evolution\, 3301 n university drive\, Coral Springs\, FL\, 33065\, United States
END:VEVENT
BEGIN:VEVENT
DTSTART;TZID=America/New_York:20260714T082000
DTEND;TZID=America/New_York:20260714T213000
DTSTAMP:20260421T084722
CREATED:20260325T191802Z
LAST-MODIFIED:20260325T191803Z
UID:10009430-1784017200-1784064600@innerpowerpartners.com
SUMMARY:IPP® Coral Springs\, Coconut Creek\, & Margate AM Connection Experience
DESCRIPTION:
URL:https://innerpowerpartners.com/event/ipp-coral-springs-coconut-creek-margate-am-connection-experience-2/2026-07-14/
LOCATION:Office Evolution\, 3301 n university drive\, Coral Springs\, FL\, 33065\, United States
END:VEVENT
BEGIN:VEVENT
DTSTART;TZID=America/New_York:20260721T082000
DTEND;TZID=America/New_York:20260721T213000
DTSTAMP:20260421T084722
CREATED:20260325T191802Z
LAST-MODIFIED:20260325T191803Z
UID:10009431-1784622000-1784669400@innerpowerpartners.com
SUMMARY:IPP® Coral Springs\, Coconut Creek\, & Margate AM Connection Experience
DESCRIPTION:
URL:https://innerpowerpartners.com/event/ipp-coral-springs-coconut-creek-margate-am-connection-experience-2/2026-07-21/
LOCATION:Office Evolution\, 3301 n university drive\, Coral Springs\, FL\, 33065\, United States
END:VEVENT
BEGIN:VEVENT
DTSTART;TZID=America/New_York:20260728T082000
DTEND;TZID=America/New_York:20260728T213000
DTSTAMP:20260421T084722
CREATED:20260325T191802Z
LAST-MODIFIED:20260325T191803Z
UID:10009432-1785226800-1785274200@innerpowerpartners.com
SUMMARY:IPP® Coral Springs\, Coconut Creek\, & Margate AM Connection Experience
DESCRIPTION:
URL:https://innerpowerpartners.com/event/ipp-coral-springs-coconut-creek-margate-am-connection-experience-2/2026-07-28/
LOCATION:Office Evolution\, 3301 n university drive\, Coral Springs\, FL\, 33065\, United States
END:VEVENT
BEGIN:VEVENT
DTSTART;TZID=America/New_York:20260804T082000
DTEND;TZID=America/New_York:20260804T213000
DTSTAMP:20260421T084722
CREATED:20260325T191802Z
LAST-MODIFIED:20260325T191803Z
UID:10009433-1785831600-1785879000@innerpowerpartners.com
SUMMARY:IPP® Coral Springs\, Coconut Creek\, & Margate AM Connection Experience
DESCRIPTION:
URL:https://innerpowerpartners.com/event/ipp-coral-springs-coconut-creek-margate-am-connection-experience-2/2026-08-04/
LOCATION:Office Evolution\, 3301 n university drive\, Coral Springs\, FL\, 33065\, United States
END:VEVENT
BEGIN:VEVENT
DTSTART;TZID=America/New_York:20260811T082000
DTEND;TZID=America/New_York:20260811T213000
DTSTAMP:20260421T084722
CREATED:20260325T191802Z
LAST-MODIFIED:20260325T191803Z
UID:10009434-1786436400-1786483800@innerpowerpartners.com
SUMMARY:IPP® Coral Springs\, Coconut Creek\, & Margate AM Connection Experience
DESCRIPTION:
URL:https://innerpowerpartners.com/event/ipp-coral-springs-coconut-creek-margate-am-connection-experience-2/2026-08-11/
LOCATION:Office Evolution\, 3301 n university drive\, Coral Springs\, FL\, 33065\, United States
END:VEVENT
BEGIN:VEVENT
DTSTART;TZID=America/New_York:20260818T082000
DTEND;TZID=America/New_York:20260818T213000
DTSTAMP:20260421T084722
CREATED:20260325T191802Z
LAST-MODIFIED:20260325T191803Z
UID:10009435-1787041200-1787088600@innerpowerpartners.com
SUMMARY:IPP® Coral Springs\, Coconut Creek\, & Margate AM Connection Experience
DESCRIPTION:
URL:https://innerpowerpartners.com/event/ipp-coral-springs-coconut-creek-margate-am-connection-experience-2/2026-08-18/
LOCATION:Office Evolution\, 3301 n university drive\, Coral Springs\, FL\, 33065\, United States
END:VEVENT
BEGIN:VEVENT
DTSTART;TZID=America/New_York:20260825T082000
DTEND;TZID=America/New_York:20260825T213000
DTSTAMP:20260421T084722
CREATED:20260325T191802Z
LAST-MODIFIED:20260325T191803Z
UID:10009436-1787646000-1787693400@innerpowerpartners.com
SUMMARY:IPP® Coral Springs\, Coconut Creek\, & Margate AM Connection Experience
DESCRIPTION:
URL:https://innerpowerpartners.com/event/ipp-coral-springs-coconut-creek-margate-am-connection-experience-2/2026-08-25/
LOCATION:Office Evolution\, 3301 n university drive\, Coral Springs\, FL\, 33065\, United States
END:VEVENT
BEGIN:VEVENT
DTSTART;TZID=America/New_York:20260901T082000
DTEND;TZID=America/New_York:20260901T213000
DTSTAMP:20260421T084722
CREATED:20260325T191802Z
LAST-MODIFIED:20260325T191803Z
UID:10009437-1788250800-1788298200@innerpowerpartners.com
SUMMARY:IPP® Coral Springs\, Coconut Creek\, & Margate AM Connection Experience
DESCRIPTION:
URL:https://innerpowerpartners.com/event/ipp-coral-springs-coconut-creek-margate-am-connection-experience-2/2026-09-01/
LOCATION:Office Evolution\, 3301 n university drive\, Coral Springs\, FL\, 33065\, United States
END:VEVENT
BEGIN:VEVENT
DTSTART;TZID=America/New_York:20260908T082000
DTEND;TZID=America/New_York:20260908T213000
DTSTAMP:20260421T084722
CREATED:20260325T191802Z
LAST-MODIFIED:20260325T191803Z
UID:10009438-1788855600-1788903000@innerpowerpartners.com
SUMMARY:IPP® Coral Springs\, Coconut Creek\, & Margate AM Connection Experience
DESCRIPTION:
URL:https://innerpowerpartners.com/event/ipp-coral-springs-coconut-creek-margate-am-connection-experience-2/2026-09-08/
LOCATION:Office Evolution\, 3301 n university drive\, Coral Springs\, FL\, 33065\, United States
END:VEVENT
BEGIN:VEVENT
DTSTART;TZID=America/New_York:20260915T082000
DTEND;TZID=America/New_York:20260915T213000
DTSTAMP:20260421T084722
CREATED:20260325T191802Z
LAST-MODIFIED:20260325T191803Z
UID:10009439-1789460400-1789507800@innerpowerpartners.com
SUMMARY:IPP® Coral Springs\, Coconut Creek\, & Margate AM Connection Experience
DESCRIPTION:
URL:https://innerpowerpartners.com/event/ipp-coral-springs-coconut-creek-margate-am-connection-experience-2/2026-09-15/
LOCATION:Office Evolution\, 3301 n university drive\, Coral Springs\, FL\, 33065\, United States
END:VEVENT
BEGIN:VEVENT
DTSTART;TZID=America/New_York:20260922T082000
DTEND;TZID=America/New_York:20260922T213000
DTSTAMP:20260421T084722
CREATED:20260325T191802Z
LAST-MODIFIED:20260325T191803Z
UID:10009440-1790065200-1790112600@innerpowerpartners.com
SUMMARY:IPP® Coral Springs\, Coconut Creek\, & Margate AM Connection Experience
DESCRIPTION:
URL:https://innerpowerpartners.com/event/ipp-coral-springs-coconut-creek-margate-am-connection-experience-2/2026-09-22/
LOCATION:Office Evolution\, 3301 n university drive\, Coral Springs\, FL\, 33065\, United States
END:VEVENT
BEGIN:VEVENT
DTSTART;TZID=America/New_York:20260929T082000
DTEND;TZID=America/New_York:20260929T213000
DTSTAMP:20260421T084722
CREATED:20260325T191802Z
LAST-MODIFIED:20260325T191803Z
UID:10009441-1790670000-1790717400@innerpowerpartners.com
SUMMARY:IPP® Coral Springs\, Coconut Creek\, & Margate AM Connection Experience
DESCRIPTION:
URL:https://innerpowerpartners.com/event/ipp-coral-springs-coconut-creek-margate-am-connection-experience-2/2026-09-29/
LOCATION:Office Evolution\, 3301 n university drive\, Coral Springs\, FL\, 33065\, United States
END:VEVENT
BEGIN:VEVENT
DTSTART;TZID=America/New_York:20261006T082000
DTEND;TZID=America/New_York:20261006T213000
DTSTAMP:20260421T084722
CREATED:20260325T191802Z
LAST-MODIFIED:20260325T191803Z
UID:10009442-1791274800-1791322200@innerpowerpartners.com
SUMMARY:IPP® Coral Springs\, Coconut Creek\, & Margate AM Connection Experience
DESCRIPTION:
URL:https://innerpowerpartners.com/event/ipp-coral-springs-coconut-creek-margate-am-connection-experience-2/2026-10-06/
LOCATION:Office Evolution\, 3301 n university drive\, Coral Springs\, FL\, 33065\, United States
END:VEVENT
BEGIN:VEVENT
DTSTART;TZID=America/New_York:20261013T082000
DTEND;TZID=America/New_York:20261013T213000
DTSTAMP:20260421T084722
CREATED:20260325T191802Z
LAST-MODIFIED:20260325T191803Z
UID:10009443-1791879600-1791927000@innerpowerpartners.com
SUMMARY:IPP® Coral Springs\, Coconut Creek\, & Margate AM Connection Experience
DESCRIPTION:
URL:https://innerpowerpartners.com/event/ipp-coral-springs-coconut-creek-margate-am-connection-experience-2/2026-10-13/
LOCATION:Office Evolution\, 3301 n university drive\, Coral Springs\, FL\, 33065\, United States
END:VEVENT
BEGIN:VEVENT
DTSTART;TZID=America/New_York:20261020T082000
DTEND;TZID=America/New_York:20261020T213000
DTSTAMP:20260421T084722
CREATED:20260325T191802Z
LAST-MODIFIED:20260325T191803Z
UID:10009444-1792484400-1792531800@innerpowerpartners.com
SUMMARY:IPP® Coral Springs\, Coconut Creek\, & Margate AM Connection Experience
DESCRIPTION:
URL:https://innerpowerpartners.com/event/ipp-coral-springs-coconut-creek-margate-am-connection-experience-2/2026-10-20/
LOCATION:Office Evolution\, 3301 n university drive\, Coral Springs\, FL\, 33065\, United States
END:VEVENT
BEGIN:VEVENT
DTSTART;TZID=America/New_York:20261027T082000
DTEND;TZID=America/New_York:20261027T213000
DTSTAMP:20260421T084722
CREATED:20260325T191802Z
LAST-MODIFIED:20260325T191803Z
UID:10009445-1793089200-1793136600@innerpowerpartners.com
SUMMARY:IPP® Coral Springs\, Coconut Creek\, & Margate AM Connection Experience
DESCRIPTION:
URL:https://innerpowerpartners.com/event/ipp-coral-springs-coconut-creek-margate-am-connection-experience-2/2026-10-27/
LOCATION:Office Evolution\, 3301 n university drive\, Coral Springs\, FL\, 33065\, United States
END:VEVENT
BEGIN:VEVENT
DTSTART;TZID=America/New_York:20261103T082000
DTEND;TZID=America/New_York:20261103T213000
DTSTAMP:20260421T084722
CREATED:20260325T191802Z
LAST-MODIFIED:20260325T191803Z
UID:10009446-1793694000-1793741400@innerpowerpartners.com
SUMMARY:IPP® Coral Springs\, Coconut Creek\, & Margate AM Connection Experience
DESCRIPTION:
URL:https://innerpowerpartners.com/event/ipp-coral-springs-coconut-creek-margate-am-connection-experience-2/2026-11-03/
LOCATION:Office Evolution\, 3301 n university drive\, Coral Springs\, FL\, 33065\, United States
END:VEVENT
BEGIN:VEVENT
DTSTART;TZID=America/New_York:20261110T082000
DTEND;TZID=America/New_York:20261110T213000
DTSTAMP:20260421T084722
CREATED:20260325T191802Z
LAST-MODIFIED:20260325T191803Z
UID:10009447-1794298800-1794346200@innerpowerpartners.com
SUMMARY:IPP® Coral Springs\, Coconut Creek\, & Margate AM Connection Experience
DESCRIPTION:
URL:https://innerpowerpartners.com/event/ipp-coral-springs-coconut-creek-margate-am-connection-experience-2/2026-11-10/
LOCATION:Office Evolution\, 3301 n university drive\, Coral Springs\, FL\, 33065\, United States
END:VEVENT
END:VCALENDAR