BEGIN:VCALENDAR
VERSION:2.0
PRODID:-//Inner Power Partners - ECPv6.15.18//NONSGML v1.0//EN
CALSCALE:GREGORIAN
METHOD:PUBLISH
X-WR-CALNAME:Inner Power Partners
X-ORIGINAL-URL:https://innerpowerpartners.com
X-WR-CALDESC:Events for Inner Power Partners
REFRESH-INTERVAL;VALUE=DURATION:PT1H
X-Robots-Tag:noindex
X-PUBLISHED-TTL:PT1H
BEGIN:VTIMEZONE
TZID:America/New_York
BEGIN:DAYLIGHT
TZOFFSETFROM:-0500
TZOFFSETTO:-0400
TZNAME:EDT
DTSTART:20250309T070000
END:DAYLIGHT
BEGIN:STANDARD
TZOFFSETFROM:-0400
TZOFFSETTO:-0500
TZNAME:EST
DTSTART:20251102T060000
END:STANDARD
BEGIN:DAYLIGHT
TZOFFSETFROM:-0500
TZOFFSETTO:-0400
TZNAME:EDT
DTSTART:20260308T070000
END:DAYLIGHT
BEGIN:STANDARD
TZOFFSETFROM:-0400
TZOFFSETTO:-0500
TZNAME:EST
DTSTART:20261101T060000
END:STANDARD
BEGIN:DAYLIGHT
TZOFFSETFROM:-0500
TZOFFSETTO:-0400
TZNAME:EDT
DTSTART:20270314T070000
END:DAYLIGHT
BEGIN:STANDARD
TZOFFSETFROM:-0400
TZOFFSETTO:-0500
TZNAME:EST
DTSTART:20271107T060000
END:STANDARD
BEGIN:DAYLIGHT
TZOFFSETFROM:-0500
TZOFFSETTO:-0400
TZNAME:EDT
DTSTART:20280312T070000
END:DAYLIGHT
BEGIN:STANDARD
TZOFFSETFROM:-0400
TZOFFSETTO:-0500
TZNAME:EST
DTSTART:20281105T060000
END:STANDARD
END:VTIMEZONE
BEGIN:VEVENT
DTSTART;TZID=America/New_York:20261006T082000
DTEND;TZID=America/New_York:20261006T213000
DTSTAMP:20260421T121218
CREATED:20260325T191802Z
LAST-MODIFIED:20260325T191803Z
UID:10009442-1791274800-1791322200@innerpowerpartners.com
SUMMARY:IPP® Coral Springs\, Coconut Creek\, & Margate AM Connection Experience
DESCRIPTION:
URL:https://innerpowerpartners.com/event/ipp-coral-springs-coconut-creek-margate-am-connection-experience-2/2026-10-06/
LOCATION:Office Evolution\, 3301 n university drive\, Coral Springs\, FL\, 33065\, United States
END:VEVENT
BEGIN:VEVENT
DTSTART;TZID=America/New_York:20261013T082000
DTEND;TZID=America/New_York:20261013T213000
DTSTAMP:20260421T121218
CREATED:20260325T191802Z
LAST-MODIFIED:20260325T191803Z
UID:10009443-1791879600-1791927000@innerpowerpartners.com
SUMMARY:IPP® Coral Springs\, Coconut Creek\, & Margate AM Connection Experience
DESCRIPTION:
URL:https://innerpowerpartners.com/event/ipp-coral-springs-coconut-creek-margate-am-connection-experience-2/2026-10-13/
LOCATION:Office Evolution\, 3301 n university drive\, Coral Springs\, FL\, 33065\, United States
END:VEVENT
BEGIN:VEVENT
DTSTART;TZID=America/New_York:20261020T082000
DTEND;TZID=America/New_York:20261020T213000
DTSTAMP:20260421T121218
CREATED:20260325T191802Z
LAST-MODIFIED:20260325T191803Z
UID:10009444-1792484400-1792531800@innerpowerpartners.com
SUMMARY:IPP® Coral Springs\, Coconut Creek\, & Margate AM Connection Experience
DESCRIPTION:
URL:https://innerpowerpartners.com/event/ipp-coral-springs-coconut-creek-margate-am-connection-experience-2/2026-10-20/
LOCATION:Office Evolution\, 3301 n university drive\, Coral Springs\, FL\, 33065\, United States
END:VEVENT
BEGIN:VEVENT
DTSTART;TZID=America/New_York:20261027T082000
DTEND;TZID=America/New_York:20261027T213000
DTSTAMP:20260421T121218
CREATED:20260325T191802Z
LAST-MODIFIED:20260325T191803Z
UID:10009445-1793089200-1793136600@innerpowerpartners.com
SUMMARY:IPP® Coral Springs\, Coconut Creek\, & Margate AM Connection Experience
DESCRIPTION:
URL:https://innerpowerpartners.com/event/ipp-coral-springs-coconut-creek-margate-am-connection-experience-2/2026-10-27/
LOCATION:Office Evolution\, 3301 n university drive\, Coral Springs\, FL\, 33065\, United States
END:VEVENT
BEGIN:VEVENT
DTSTART;TZID=America/New_York:20261103T082000
DTEND;TZID=America/New_York:20261103T213000
DTSTAMP:20260421T121218
CREATED:20260325T191802Z
LAST-MODIFIED:20260325T191803Z
UID:10009446-1793694000-1793741400@innerpowerpartners.com
SUMMARY:IPP® Coral Springs\, Coconut Creek\, & Margate AM Connection Experience
DESCRIPTION:
URL:https://innerpowerpartners.com/event/ipp-coral-springs-coconut-creek-margate-am-connection-experience-2/2026-11-03/
LOCATION:Office Evolution\, 3301 n university drive\, Coral Springs\, FL\, 33065\, United States
END:VEVENT
BEGIN:VEVENT
DTSTART;TZID=America/New_York:20261110T082000
DTEND;TZID=America/New_York:20261110T213000
DTSTAMP:20260421T121218
CREATED:20260325T191802Z
LAST-MODIFIED:20260325T191803Z
UID:10009447-1794298800-1794346200@innerpowerpartners.com
SUMMARY:IPP® Coral Springs\, Coconut Creek\, & Margate AM Connection Experience
DESCRIPTION:
URL:https://innerpowerpartners.com/event/ipp-coral-springs-coconut-creek-margate-am-connection-experience-2/2026-11-10/
LOCATION:Office Evolution\, 3301 n university drive\, Coral Springs\, FL\, 33065\, United States
END:VEVENT
BEGIN:VEVENT
DTSTART;TZID=America/New_York:20261117T082000
DTEND;TZID=America/New_York:20261117T213000
DTSTAMP:20260421T121218
CREATED:20260325T191802Z
LAST-MODIFIED:20260325T191803Z
UID:10009448-1794903600-1794951000@innerpowerpartners.com
SUMMARY:IPP® Coral Springs\, Coconut Creek\, & Margate AM Connection Experience
DESCRIPTION:
URL:https://innerpowerpartners.com/event/ipp-coral-springs-coconut-creek-margate-am-connection-experience-2/2026-11-17/
LOCATION:Office Evolution\, 3301 n university drive\, Coral Springs\, FL\, 33065\, United States
END:VEVENT
BEGIN:VEVENT
DTSTART;TZID=America/New_York:20261124T082000
DTEND;TZID=America/New_York:20261124T213000
DTSTAMP:20260421T121218
CREATED:20260325T191802Z
LAST-MODIFIED:20260325T191803Z
UID:10009449-1795508400-1795555800@innerpowerpartners.com
SUMMARY:IPP® Coral Springs\, Coconut Creek\, & Margate AM Connection Experience
DESCRIPTION:
URL:https://innerpowerpartners.com/event/ipp-coral-springs-coconut-creek-margate-am-connection-experience-2/2026-11-24/
LOCATION:Office Evolution\, 3301 n university drive\, Coral Springs\, FL\, 33065\, United States
END:VEVENT
BEGIN:VEVENT
DTSTART;TZID=America/New_York:20261201T082000
DTEND;TZID=America/New_York:20261201T213000
DTSTAMP:20260421T121218
CREATED:20260325T191802Z
LAST-MODIFIED:20260325T191803Z
UID:10009450-1796113200-1796160600@innerpowerpartners.com
SUMMARY:IPP® Coral Springs\, Coconut Creek\, & Margate AM Connection Experience
DESCRIPTION:
URL:https://innerpowerpartners.com/event/ipp-coral-springs-coconut-creek-margate-am-connection-experience-2/2026-12-01/
LOCATION:Office Evolution\, 3301 n university drive\, Coral Springs\, FL\, 33065\, United States
END:VEVENT
BEGIN:VEVENT
DTSTART;TZID=America/New_York:20261208T082000
DTEND;TZID=America/New_York:20261208T213000
DTSTAMP:20260421T121218
CREATED:20260325T191802Z
LAST-MODIFIED:20260325T191803Z
UID:10009451-1796718000-1796765400@innerpowerpartners.com
SUMMARY:IPP® Coral Springs\, Coconut Creek\, & Margate AM Connection Experience
DESCRIPTION:
URL:https://innerpowerpartners.com/event/ipp-coral-springs-coconut-creek-margate-am-connection-experience-2/2026-12-08/
LOCATION:Office Evolution\, 3301 n university drive\, Coral Springs\, FL\, 33065\, United States
END:VEVENT
BEGIN:VEVENT
DTSTART;TZID=America/New_York:20261215T082000
DTEND;TZID=America/New_York:20261215T213000
DTSTAMP:20260421T121218
CREATED:20260325T191802Z
LAST-MODIFIED:20260325T191803Z
UID:10009452-1797322800-1797370200@innerpowerpartners.com
SUMMARY:IPP® Coral Springs\, Coconut Creek\, & Margate AM Connection Experience
DESCRIPTION:
URL:https://innerpowerpartners.com/event/ipp-coral-springs-coconut-creek-margate-am-connection-experience-2/2026-12-15/
LOCATION:Office Evolution\, 3301 n university drive\, Coral Springs\, FL\, 33065\, United States
END:VEVENT
BEGIN:VEVENT
DTSTART;TZID=America/New_York:20261222T082000
DTEND;TZID=America/New_York:20261222T213000
DTSTAMP:20260421T121218
CREATED:20260325T191802Z
LAST-MODIFIED:20260325T191803Z
UID:10009453-1797927600-1797975000@innerpowerpartners.com
SUMMARY:IPP® Coral Springs\, Coconut Creek\, & Margate AM Connection Experience
DESCRIPTION:
URL:https://innerpowerpartners.com/event/ipp-coral-springs-coconut-creek-margate-am-connection-experience-2/2026-12-22/
LOCATION:Office Evolution\, 3301 n university drive\, Coral Springs\, FL\, 33065\, United States
END:VEVENT
BEGIN:VEVENT
DTSTART;TZID=America/New_York:20261229T082000
DTEND;TZID=America/New_York:20261229T213000
DTSTAMP:20260421T121218
CREATED:20260325T191802Z
LAST-MODIFIED:20260325T191803Z
UID:10009454-1798532400-1798579800@innerpowerpartners.com
SUMMARY:IPP® Coral Springs\, Coconut Creek\, & Margate AM Connection Experience
DESCRIPTION:
URL:https://innerpowerpartners.com/event/ipp-coral-springs-coconut-creek-margate-am-connection-experience-2/2026-12-29/
LOCATION:Office Evolution\, 3301 n university drive\, Coral Springs\, FL\, 33065\, United States
END:VEVENT
BEGIN:VEVENT
DTSTART;TZID=America/New_York:20270105T082000
DTEND;TZID=America/New_York:20270105T213000
DTSTAMP:20260421T121218
CREATED:20260325T191802Z
LAST-MODIFIED:20260325T191803Z
UID:10009455-1799137200-1799184600@innerpowerpartners.com
SUMMARY:IPP® Coral Springs\, Coconut Creek\, & Margate AM Connection Experience
DESCRIPTION:
URL:https://innerpowerpartners.com/event/ipp-coral-springs-coconut-creek-margate-am-connection-experience-2/2027-01-05/
LOCATION:Office Evolution\, 3301 n university drive\, Coral Springs\, FL\, 33065\, United States
END:VEVENT
BEGIN:VEVENT
DTSTART;TZID=America/New_York:20270112T082000
DTEND;TZID=America/New_York:20270112T213000
DTSTAMP:20260421T121218
CREATED:20260325T191802Z
LAST-MODIFIED:20260325T191803Z
UID:10009456-1799742000-1799789400@innerpowerpartners.com
SUMMARY:IPP® Coral Springs\, Coconut Creek\, & Margate AM Connection Experience
DESCRIPTION:
URL:https://innerpowerpartners.com/event/ipp-coral-springs-coconut-creek-margate-am-connection-experience-2/2027-01-12/
LOCATION:Office Evolution\, 3301 n university drive\, Coral Springs\, FL\, 33065\, United States
END:VEVENT
BEGIN:VEVENT
DTSTART;TZID=America/New_York:20270119T082000
DTEND;TZID=America/New_York:20270119T213000
DTSTAMP:20260421T121218
CREATED:20260325T191802Z
LAST-MODIFIED:20260325T191803Z
UID:10009457-1800346800-1800394200@innerpowerpartners.com
SUMMARY:IPP® Coral Springs\, Coconut Creek\, & Margate AM Connection Experience
DESCRIPTION:
URL:https://innerpowerpartners.com/event/ipp-coral-springs-coconut-creek-margate-am-connection-experience-2/2027-01-19/
LOCATION:Office Evolution\, 3301 n university drive\, Coral Springs\, FL\, 33065\, United States
END:VEVENT
BEGIN:VEVENT
DTSTART;TZID=America/New_York:20270126T082000
DTEND;TZID=America/New_York:20270126T213000
DTSTAMP:20260421T121218
CREATED:20260325T191802Z
LAST-MODIFIED:20260325T191803Z
UID:10009458-1800951600-1800999000@innerpowerpartners.com
SUMMARY:IPP® Coral Springs\, Coconut Creek\, & Margate AM Connection Experience
DESCRIPTION:
URL:https://innerpowerpartners.com/event/ipp-coral-springs-coconut-creek-margate-am-connection-experience-2/2027-01-26/
LOCATION:Office Evolution\, 3301 n university drive\, Coral Springs\, FL\, 33065\, United States
END:VEVENT
BEGIN:VEVENT
DTSTART;TZID=America/New_York:20270202T082000
DTEND;TZID=America/New_York:20270202T213000
DTSTAMP:20260421T121218
CREATED:20260325T191802Z
LAST-MODIFIED:20260325T191803Z
UID:10009459-1801556400-1801603800@innerpowerpartners.com
SUMMARY:IPP® Coral Springs\, Coconut Creek\, & Margate AM Connection Experience
DESCRIPTION:
URL:https://innerpowerpartners.com/event/ipp-coral-springs-coconut-creek-margate-am-connection-experience-2/2027-02-02/
LOCATION:Office Evolution\, 3301 n university drive\, Coral Springs\, FL\, 33065\, United States
END:VEVENT
BEGIN:VEVENT
DTSTART;TZID=America/New_York:20270209T082000
DTEND;TZID=America/New_York:20270209T213000
DTSTAMP:20260421T121218
CREATED:20260325T191802Z
LAST-MODIFIED:20260325T191803Z
UID:10009460-1802161200-1802208600@innerpowerpartners.com
SUMMARY:IPP® Coral Springs\, Coconut Creek\, & Margate AM Connection Experience
DESCRIPTION:
URL:https://innerpowerpartners.com/event/ipp-coral-springs-coconut-creek-margate-am-connection-experience-2/2027-02-09/
LOCATION:Office Evolution\, 3301 n university drive\, Coral Springs\, FL\, 33065\, United States
END:VEVENT
BEGIN:VEVENT
DTSTART;TZID=America/New_York:20270216T082000
DTEND;TZID=America/New_York:20270216T213000
DTSTAMP:20260421T121218
CREATED:20260325T191802Z
LAST-MODIFIED:20260325T191803Z
UID:10009461-1802766000-1802813400@innerpowerpartners.com
SUMMARY:IPP® Coral Springs\, Coconut Creek\, & Margate AM Connection Experience
DESCRIPTION:
URL:https://innerpowerpartners.com/event/ipp-coral-springs-coconut-creek-margate-am-connection-experience-2/2027-02-16/
LOCATION:Office Evolution\, 3301 n university drive\, Coral Springs\, FL\, 33065\, United States
END:VEVENT
BEGIN:VEVENT
DTSTART;TZID=America/New_York:20270223T082000
DTEND;TZID=America/New_York:20270223T213000
DTSTAMP:20260421T121218
CREATED:20260325T191802Z
LAST-MODIFIED:20260325T191803Z
UID:10009462-1803370800-1803418200@innerpowerpartners.com
SUMMARY:IPP® Coral Springs\, Coconut Creek\, & Margate AM Connection Experience
DESCRIPTION:
URL:https://innerpowerpartners.com/event/ipp-coral-springs-coconut-creek-margate-am-connection-experience-2/2027-02-23/
LOCATION:Office Evolution\, 3301 n university drive\, Coral Springs\, FL\, 33065\, United States
END:VEVENT
BEGIN:VEVENT
DTSTART;TZID=America/New_York:20270302T082000
DTEND;TZID=America/New_York:20270302T213000
DTSTAMP:20260421T121218
CREATED:20260325T191802Z
LAST-MODIFIED:20260325T191803Z
UID:10009463-1803975600-1804023000@innerpowerpartners.com
SUMMARY:IPP® Coral Springs\, Coconut Creek\, & Margate AM Connection Experience
DESCRIPTION:
URL:https://innerpowerpartners.com/event/ipp-coral-springs-coconut-creek-margate-am-connection-experience-2/2027-03-02/
LOCATION:Office Evolution\, 3301 n university drive\, Coral Springs\, FL\, 33065\, United States
END:VEVENT
BEGIN:VEVENT
DTSTART;TZID=America/New_York:20270309T082000
DTEND;TZID=America/New_York:20270309T213000
DTSTAMP:20260421T121218
CREATED:20260325T191802Z
LAST-MODIFIED:20260325T191803Z
UID:10009464-1804580400-1804627800@innerpowerpartners.com
SUMMARY:IPP® Coral Springs\, Coconut Creek\, & Margate AM Connection Experience
DESCRIPTION:
URL:https://innerpowerpartners.com/event/ipp-coral-springs-coconut-creek-margate-am-connection-experience-2/2027-03-09/
LOCATION:Office Evolution\, 3301 n university drive\, Coral Springs\, FL\, 33065\, United States
END:VEVENT
BEGIN:VEVENT
DTSTART;TZID=America/New_York:20270316T082000
DTEND;TZID=America/New_York:20270316T213000
DTSTAMP:20260421T121218
CREATED:20260325T191802Z
LAST-MODIFIED:20260325T191803Z
UID:10009465-1805185200-1805232600@innerpowerpartners.com
SUMMARY:IPP® Coral Springs\, Coconut Creek\, & Margate AM Connection Experience
DESCRIPTION:
URL:https://innerpowerpartners.com/event/ipp-coral-springs-coconut-creek-margate-am-connection-experience-2/2027-03-16/
LOCATION:Office Evolution\, 3301 n university drive\, Coral Springs\, FL\, 33065\, United States
END:VEVENT
BEGIN:VEVENT
DTSTART;TZID=America/New_York:20270323T082000
DTEND;TZID=America/New_York:20270323T213000
DTSTAMP:20260421T121218
CREATED:20260325T191802Z
LAST-MODIFIED:20260325T191803Z
UID:10009466-1805790000-1805837400@innerpowerpartners.com
SUMMARY:IPP® Coral Springs\, Coconut Creek\, & Margate AM Connection Experience
DESCRIPTION:
URL:https://innerpowerpartners.com/event/ipp-coral-springs-coconut-creek-margate-am-connection-experience-2/2027-03-23/
LOCATION:Office Evolution\, 3301 n university drive\, Coral Springs\, FL\, 33065\, United States
END:VEVENT
BEGIN:VEVENT
DTSTART;TZID=America/New_York:20270330T082000
DTEND;TZID=America/New_York:20270330T213000
DTSTAMP:20260421T121218
CREATED:20260325T191802Z
LAST-MODIFIED:20260325T191803Z
UID:10009467-1806394800-1806442200@innerpowerpartners.com
SUMMARY:IPP® Coral Springs\, Coconut Creek\, & Margate AM Connection Experience
DESCRIPTION:
URL:https://innerpowerpartners.com/event/ipp-coral-springs-coconut-creek-margate-am-connection-experience-2/2027-03-30/
LOCATION:Office Evolution\, 3301 n university drive\, Coral Springs\, FL\, 33065\, United States
END:VEVENT
BEGIN:VEVENT
DTSTART;TZID=America/New_York:20270406T082000
DTEND;TZID=America/New_York:20270406T213000
DTSTAMP:20260421T121218
CREATED:20260325T191802Z
LAST-MODIFIED:20260325T191803Z
UID:10009468-1806999600-1807047000@innerpowerpartners.com
SUMMARY:IPP® Coral Springs\, Coconut Creek\, & Margate AM Connection Experience
DESCRIPTION:
URL:https://innerpowerpartners.com/event/ipp-coral-springs-coconut-creek-margate-am-connection-experience-2/2027-04-06/
LOCATION:Office Evolution\, 3301 n university drive\, Coral Springs\, FL\, 33065\, United States
END:VEVENT
BEGIN:VEVENT
DTSTART;TZID=America/New_York:20270413T082000
DTEND;TZID=America/New_York:20270413T213000
DTSTAMP:20260421T121218
CREATED:20260325T191802Z
LAST-MODIFIED:20260325T191803Z
UID:10009469-1807604400-1807651800@innerpowerpartners.com
SUMMARY:IPP® Coral Springs\, Coconut Creek\, & Margate AM Connection Experience
DESCRIPTION:
URL:https://innerpowerpartners.com/event/ipp-coral-springs-coconut-creek-margate-am-connection-experience-2/2027-04-13/
LOCATION:Office Evolution\, 3301 n university drive\, Coral Springs\, FL\, 33065\, United States
END:VEVENT
BEGIN:VEVENT
DTSTART;TZID=America/New_York:20270420T082000
DTEND;TZID=America/New_York:20270420T213000
DTSTAMP:20260421T121218
CREATED:20260325T191802Z
LAST-MODIFIED:20260325T191803Z
UID:10009470-1808209200-1808256600@innerpowerpartners.com
SUMMARY:IPP® Coral Springs\, Coconut Creek\, & Margate AM Connection Experience
DESCRIPTION:
URL:https://innerpowerpartners.com/event/ipp-coral-springs-coconut-creek-margate-am-connection-experience-2/2027-04-20/
LOCATION:Office Evolution\, 3301 n university drive\, Coral Springs\, FL\, 33065\, United States
END:VEVENT
BEGIN:VEVENT
DTSTART;TZID=America/New_York:20270427T082000
DTEND;TZID=America/New_York:20270427T213000
DTSTAMP:20260421T121218
CREATED:20260325T191802Z
LAST-MODIFIED:20260325T191803Z
UID:10009471-1808814000-1808861400@innerpowerpartners.com
SUMMARY:IPP® Coral Springs\, Coconut Creek\, & Margate AM Connection Experience
DESCRIPTION:
URL:https://innerpowerpartners.com/event/ipp-coral-springs-coconut-creek-margate-am-connection-experience-2/2027-04-27/
LOCATION:Office Evolution\, 3301 n university drive\, Coral Springs\, FL\, 33065\, United States
END:VEVENT
END:VCALENDAR