BEGIN:VCALENDAR
VERSION:2.0
PRODID:-//Inner Power Partners - ECPv6.15.18//NONSGML v1.0//EN
CALSCALE:GREGORIAN
METHOD:PUBLISH
X-WR-CALNAME:Inner Power Partners
X-ORIGINAL-URL:https://innerpowerpartners.com
X-WR-CALDESC:Events for Inner Power Partners
REFRESH-INTERVAL;VALUE=DURATION:PT1H
X-Robots-Tag:noindex
X-PUBLISHED-TTL:PT1H
BEGIN:VTIMEZONE
TZID:America/New_York
BEGIN:DAYLIGHT
TZOFFSETFROM:-0500
TZOFFSETTO:-0400
TZNAME:EDT
DTSTART:20260308T070000
END:DAYLIGHT
BEGIN:STANDARD
TZOFFSETFROM:-0400
TZOFFSETTO:-0500
TZNAME:EST
DTSTART:20261101T060000
END:STANDARD
BEGIN:DAYLIGHT
TZOFFSETFROM:-0500
TZOFFSETTO:-0400
TZNAME:EDT
DTSTART:20270314T070000
END:DAYLIGHT
BEGIN:STANDARD
TZOFFSETFROM:-0400
TZOFFSETTO:-0500
TZNAME:EST
DTSTART:20271107T060000
END:STANDARD
BEGIN:DAYLIGHT
TZOFFSETFROM:-0500
TZOFFSETTO:-0400
TZNAME:EDT
DTSTART:20280312T070000
END:DAYLIGHT
BEGIN:STANDARD
TZOFFSETFROM:-0400
TZOFFSETTO:-0500
TZNAME:EST
DTSTART:20281105T060000
END:STANDARD
END:VTIMEZONE
BEGIN:VEVENT
DTSTART;TZID=America/New_York:20270615T082000
DTEND;TZID=America/New_York:20270615T213000
DTSTAMP:20260421T165503
CREATED:20260325T191802Z
LAST-MODIFIED:20260325T191803Z
UID:10009478-1813047600-1813095000@innerpowerpartners.com
SUMMARY:IPP® Coral Springs\, Coconut Creek\, & Margate AM Connection Experience
DESCRIPTION:
URL:https://innerpowerpartners.com/event/ipp-coral-springs-coconut-creek-margate-am-connection-experience-2/2027-06-15/
LOCATION:Office Evolution\, 3301 n university drive\, Coral Springs\, FL\, 33065\, United States
END:VEVENT
BEGIN:VEVENT
DTSTART;TZID=America/New_York:20270622T082000
DTEND;TZID=America/New_York:20270622T213000
DTSTAMP:20260421T165503
CREATED:20260325T191802Z
LAST-MODIFIED:20260325T191803Z
UID:10009479-1813652400-1813699800@innerpowerpartners.com
SUMMARY:IPP® Coral Springs\, Coconut Creek\, & Margate AM Connection Experience
DESCRIPTION:
URL:https://innerpowerpartners.com/event/ipp-coral-springs-coconut-creek-margate-am-connection-experience-2/2027-06-22/
LOCATION:Office Evolution\, 3301 n university drive\, Coral Springs\, FL\, 33065\, United States
END:VEVENT
BEGIN:VEVENT
DTSTART;TZID=America/New_York:20270629T082000
DTEND;TZID=America/New_York:20270629T213000
DTSTAMP:20260421T165503
CREATED:20260325T191802Z
LAST-MODIFIED:20260325T191803Z
UID:10009480-1814257200-1814304600@innerpowerpartners.com
SUMMARY:IPP® Coral Springs\, Coconut Creek\, & Margate AM Connection Experience
DESCRIPTION:
URL:https://innerpowerpartners.com/event/ipp-coral-springs-coconut-creek-margate-am-connection-experience-2/2027-06-29/
LOCATION:Office Evolution\, 3301 n university drive\, Coral Springs\, FL\, 33065\, United States
END:VEVENT
BEGIN:VEVENT
DTSTART;TZID=America/New_York:20270706T082000
DTEND;TZID=America/New_York:20270706T213000
DTSTAMP:20260421T165503
CREATED:20260325T191802Z
LAST-MODIFIED:20260325T191803Z
UID:10009481-1814862000-1814909400@innerpowerpartners.com
SUMMARY:IPP® Coral Springs\, Coconut Creek\, & Margate AM Connection Experience
DESCRIPTION:
URL:https://innerpowerpartners.com/event/ipp-coral-springs-coconut-creek-margate-am-connection-experience-2/2027-07-06/
LOCATION:Office Evolution\, 3301 n university drive\, Coral Springs\, FL\, 33065\, United States
END:VEVENT
BEGIN:VEVENT
DTSTART;TZID=America/New_York:20270713T082000
DTEND;TZID=America/New_York:20270713T213000
DTSTAMP:20260421T165503
CREATED:20260325T191802Z
LAST-MODIFIED:20260325T191803Z
UID:10009482-1815466800-1815514200@innerpowerpartners.com
SUMMARY:IPP® Coral Springs\, Coconut Creek\, & Margate AM Connection Experience
DESCRIPTION:
URL:https://innerpowerpartners.com/event/ipp-coral-springs-coconut-creek-margate-am-connection-experience-2/2027-07-13/
LOCATION:Office Evolution\, 3301 n university drive\, Coral Springs\, FL\, 33065\, United States
END:VEVENT
BEGIN:VEVENT
DTSTART;TZID=America/New_York:20270720T082000
DTEND;TZID=America/New_York:20270720T213000
DTSTAMP:20260421T165503
CREATED:20260325T191802Z
LAST-MODIFIED:20260325T191803Z
UID:10009483-1816071600-1816119000@innerpowerpartners.com
SUMMARY:IPP® Coral Springs\, Coconut Creek\, & Margate AM Connection Experience
DESCRIPTION:
URL:https://innerpowerpartners.com/event/ipp-coral-springs-coconut-creek-margate-am-connection-experience-2/2027-07-20/
LOCATION:Office Evolution\, 3301 n university drive\, Coral Springs\, FL\, 33065\, United States
END:VEVENT
BEGIN:VEVENT
DTSTART;TZID=America/New_York:20270727T082000
DTEND;TZID=America/New_York:20270727T213000
DTSTAMP:20260421T165503
CREATED:20260325T191802Z
LAST-MODIFIED:20260325T191803Z
UID:10009484-1816676400-1816723800@innerpowerpartners.com
SUMMARY:IPP® Coral Springs\, Coconut Creek\, & Margate AM Connection Experience
DESCRIPTION:
URL:https://innerpowerpartners.com/event/ipp-coral-springs-coconut-creek-margate-am-connection-experience-2/2027-07-27/
LOCATION:Office Evolution\, 3301 n university drive\, Coral Springs\, FL\, 33065\, United States
END:VEVENT
BEGIN:VEVENT
DTSTART;TZID=America/New_York:20270803T082000
DTEND;TZID=America/New_York:20270803T213000
DTSTAMP:20260421T165503
CREATED:20260325T191802Z
LAST-MODIFIED:20260325T191803Z
UID:10009485-1817281200-1817328600@innerpowerpartners.com
SUMMARY:IPP® Coral Springs\, Coconut Creek\, & Margate AM Connection Experience
DESCRIPTION:
URL:https://innerpowerpartners.com/event/ipp-coral-springs-coconut-creek-margate-am-connection-experience-2/2027-08-03/
LOCATION:Office Evolution\, 3301 n university drive\, Coral Springs\, FL\, 33065\, United States
END:VEVENT
BEGIN:VEVENT
DTSTART;TZID=America/New_York:20270810T082000
DTEND;TZID=America/New_York:20270810T213000
DTSTAMP:20260421T165503
CREATED:20260325T191802Z
LAST-MODIFIED:20260325T191803Z
UID:10009486-1817886000-1817933400@innerpowerpartners.com
SUMMARY:IPP® Coral Springs\, Coconut Creek\, & Margate AM Connection Experience
DESCRIPTION:
URL:https://innerpowerpartners.com/event/ipp-coral-springs-coconut-creek-margate-am-connection-experience-2/2027-08-10/
LOCATION:Office Evolution\, 3301 n university drive\, Coral Springs\, FL\, 33065\, United States
END:VEVENT
BEGIN:VEVENT
DTSTART;TZID=America/New_York:20270817T082000
DTEND;TZID=America/New_York:20270817T213000
DTSTAMP:20260421T165503
CREATED:20260325T191802Z
LAST-MODIFIED:20260325T191803Z
UID:10009487-1818490800-1818538200@innerpowerpartners.com
SUMMARY:IPP® Coral Springs\, Coconut Creek\, & Margate AM Connection Experience
DESCRIPTION:
URL:https://innerpowerpartners.com/event/ipp-coral-springs-coconut-creek-margate-am-connection-experience-2/2027-08-17/
LOCATION:Office Evolution\, 3301 n university drive\, Coral Springs\, FL\, 33065\, United States
END:VEVENT
BEGIN:VEVENT
DTSTART;TZID=America/New_York:20270824T082000
DTEND;TZID=America/New_York:20270824T213000
DTSTAMP:20260421T165503
CREATED:20260325T191802Z
LAST-MODIFIED:20260325T191803Z
UID:10009488-1819095600-1819143000@innerpowerpartners.com
SUMMARY:IPP® Coral Springs\, Coconut Creek\, & Margate AM Connection Experience
DESCRIPTION:
URL:https://innerpowerpartners.com/event/ipp-coral-springs-coconut-creek-margate-am-connection-experience-2/2027-08-24/
LOCATION:Office Evolution\, 3301 n university drive\, Coral Springs\, FL\, 33065\, United States
END:VEVENT
BEGIN:VEVENT
DTSTART;TZID=America/New_York:20270831T082000
DTEND;TZID=America/New_York:20270831T213000
DTSTAMP:20260421T165503
CREATED:20260325T191802Z
LAST-MODIFIED:20260325T191803Z
UID:10009489-1819700400-1819747800@innerpowerpartners.com
SUMMARY:IPP® Coral Springs\, Coconut Creek\, & Margate AM Connection Experience
DESCRIPTION:
URL:https://innerpowerpartners.com/event/ipp-coral-springs-coconut-creek-margate-am-connection-experience-2/2027-08-31/
LOCATION:Office Evolution\, 3301 n university drive\, Coral Springs\, FL\, 33065\, United States
END:VEVENT
BEGIN:VEVENT
DTSTART;TZID=America/New_York:20270907T082000
DTEND;TZID=America/New_York:20270907T213000
DTSTAMP:20260421T165503
CREATED:20260325T191802Z
LAST-MODIFIED:20260325T191803Z
UID:10009490-1820305200-1820352600@innerpowerpartners.com
SUMMARY:IPP® Coral Springs\, Coconut Creek\, & Margate AM Connection Experience
DESCRIPTION:
URL:https://innerpowerpartners.com/event/ipp-coral-springs-coconut-creek-margate-am-connection-experience-2/2027-09-07/
LOCATION:Office Evolution\, 3301 n university drive\, Coral Springs\, FL\, 33065\, United States
END:VEVENT
BEGIN:VEVENT
DTSTART;TZID=America/New_York:20270914T082000
DTEND;TZID=America/New_York:20270914T213000
DTSTAMP:20260421T165503
CREATED:20260325T191802Z
LAST-MODIFIED:20260325T191803Z
UID:10009491-1820910000-1820957400@innerpowerpartners.com
SUMMARY:IPP® Coral Springs\, Coconut Creek\, & Margate AM Connection Experience
DESCRIPTION:
URL:https://innerpowerpartners.com/event/ipp-coral-springs-coconut-creek-margate-am-connection-experience-2/2027-09-14/
LOCATION:Office Evolution\, 3301 n university drive\, Coral Springs\, FL\, 33065\, United States
END:VEVENT
BEGIN:VEVENT
DTSTART;TZID=America/New_York:20270921T082000
DTEND;TZID=America/New_York:20270921T213000
DTSTAMP:20260421T165503
CREATED:20260325T191802Z
LAST-MODIFIED:20260325T191803Z
UID:10009492-1821514800-1821562200@innerpowerpartners.com
SUMMARY:IPP® Coral Springs\, Coconut Creek\, & Margate AM Connection Experience
DESCRIPTION:
URL:https://innerpowerpartners.com/event/ipp-coral-springs-coconut-creek-margate-am-connection-experience-2/2027-09-21/
LOCATION:Office Evolution\, 3301 n university drive\, Coral Springs\, FL\, 33065\, United States
END:VEVENT
BEGIN:VEVENT
DTSTART;TZID=America/New_York:20270928T082000
DTEND;TZID=America/New_York:20270928T213000
DTSTAMP:20260421T165503
CREATED:20260325T191802Z
LAST-MODIFIED:20260325T191803Z
UID:10009493-1822119600-1822167000@innerpowerpartners.com
SUMMARY:IPP® Coral Springs\, Coconut Creek\, & Margate AM Connection Experience
DESCRIPTION:
URL:https://innerpowerpartners.com/event/ipp-coral-springs-coconut-creek-margate-am-connection-experience-2/2027-09-28/
LOCATION:Office Evolution\, 3301 n university drive\, Coral Springs\, FL\, 33065\, United States
END:VEVENT
BEGIN:VEVENT
DTSTART;TZID=America/New_York:20271005T082000
DTEND;TZID=America/New_York:20271005T213000
DTSTAMP:20260421T165503
CREATED:20260325T191802Z
LAST-MODIFIED:20260325T191803Z
UID:10009494-1822724400-1822771800@innerpowerpartners.com
SUMMARY:IPP® Coral Springs\, Coconut Creek\, & Margate AM Connection Experience
DESCRIPTION:
URL:https://innerpowerpartners.com/event/ipp-coral-springs-coconut-creek-margate-am-connection-experience-2/2027-10-05/
LOCATION:Office Evolution\, 3301 n university drive\, Coral Springs\, FL\, 33065\, United States
END:VEVENT
BEGIN:VEVENT
DTSTART;TZID=America/New_York:20271012T082000
DTEND;TZID=America/New_York:20271012T213000
DTSTAMP:20260421T165503
CREATED:20260325T191802Z
LAST-MODIFIED:20260325T191803Z
UID:10009495-1823329200-1823376600@innerpowerpartners.com
SUMMARY:IPP® Coral Springs\, Coconut Creek\, & Margate AM Connection Experience
DESCRIPTION:
URL:https://innerpowerpartners.com/event/ipp-coral-springs-coconut-creek-margate-am-connection-experience-2/2027-10-12/
LOCATION:Office Evolution\, 3301 n university drive\, Coral Springs\, FL\, 33065\, United States
END:VEVENT
BEGIN:VEVENT
DTSTART;TZID=America/New_York:20271019T082000
DTEND;TZID=America/New_York:20271019T213000
DTSTAMP:20260421T165503
CREATED:20260325T191802Z
LAST-MODIFIED:20260325T191803Z
UID:10009496-1823934000-1823981400@innerpowerpartners.com
SUMMARY:IPP® Coral Springs\, Coconut Creek\, & Margate AM Connection Experience
DESCRIPTION:
URL:https://innerpowerpartners.com/event/ipp-coral-springs-coconut-creek-margate-am-connection-experience-2/2027-10-19/
LOCATION:Office Evolution\, 3301 n university drive\, Coral Springs\, FL\, 33065\, United States
END:VEVENT
BEGIN:VEVENT
DTSTART;TZID=America/New_York:20271026T082000
DTEND;TZID=America/New_York:20271026T213000
DTSTAMP:20260421T165503
CREATED:20260325T191802Z
LAST-MODIFIED:20260325T191803Z
UID:10009497-1824538800-1824586200@innerpowerpartners.com
SUMMARY:IPP® Coral Springs\, Coconut Creek\, & Margate AM Connection Experience
DESCRIPTION:
URL:https://innerpowerpartners.com/event/ipp-coral-springs-coconut-creek-margate-am-connection-experience-2/2027-10-26/
LOCATION:Office Evolution\, 3301 n university drive\, Coral Springs\, FL\, 33065\, United States
END:VEVENT
BEGIN:VEVENT
DTSTART;TZID=America/New_York:20271102T082000
DTEND;TZID=America/New_York:20271102T213000
DTSTAMP:20260421T165503
CREATED:20260325T191802Z
LAST-MODIFIED:20260325T191803Z
UID:10009498-1825143600-1825191000@innerpowerpartners.com
SUMMARY:IPP® Coral Springs\, Coconut Creek\, & Margate AM Connection Experience
DESCRIPTION:
URL:https://innerpowerpartners.com/event/ipp-coral-springs-coconut-creek-margate-am-connection-experience-2/2027-11-02/
LOCATION:Office Evolution\, 3301 n university drive\, Coral Springs\, FL\, 33065\, United States
END:VEVENT
BEGIN:VEVENT
DTSTART;TZID=America/New_York:20271109T082000
DTEND;TZID=America/New_York:20271109T213000
DTSTAMP:20260421T165503
CREATED:20260325T191802Z
LAST-MODIFIED:20260325T191803Z
UID:10009499-1825748400-1825795800@innerpowerpartners.com
SUMMARY:IPP® Coral Springs\, Coconut Creek\, & Margate AM Connection Experience
DESCRIPTION:
URL:https://innerpowerpartners.com/event/ipp-coral-springs-coconut-creek-margate-am-connection-experience-2/2027-11-09/
LOCATION:Office Evolution\, 3301 n university drive\, Coral Springs\, FL\, 33065\, United States
END:VEVENT
BEGIN:VEVENT
DTSTART;TZID=America/New_York:20271116T082000
DTEND;TZID=America/New_York:20271116T213000
DTSTAMP:20260421T165503
CREATED:20260325T191802Z
LAST-MODIFIED:20260325T191803Z
UID:10009500-1826353200-1826400600@innerpowerpartners.com
SUMMARY:IPP® Coral Springs\, Coconut Creek\, & Margate AM Connection Experience
DESCRIPTION:
URL:https://innerpowerpartners.com/event/ipp-coral-springs-coconut-creek-margate-am-connection-experience-2/2027-11-16/
LOCATION:Office Evolution\, 3301 n university drive\, Coral Springs\, FL\, 33065\, United States
END:VEVENT
BEGIN:VEVENT
DTSTART;TZID=America/New_York:20271123T082000
DTEND;TZID=America/New_York:20271123T213000
DTSTAMP:20260421T165503
CREATED:20260325T191802Z
LAST-MODIFIED:20260325T191803Z
UID:10009501-1826958000-1827005400@innerpowerpartners.com
SUMMARY:IPP® Coral Springs\, Coconut Creek\, & Margate AM Connection Experience
DESCRIPTION:
URL:https://innerpowerpartners.com/event/ipp-coral-springs-coconut-creek-margate-am-connection-experience-2/2027-11-23/
LOCATION:Office Evolution\, 3301 n university drive\, Coral Springs\, FL\, 33065\, United States
END:VEVENT
BEGIN:VEVENT
DTSTART;TZID=America/New_York:20271130T082000
DTEND;TZID=America/New_York:20271130T213000
DTSTAMP:20260421T165503
CREATED:20260325T191802Z
LAST-MODIFIED:20260325T191803Z
UID:10009502-1827562800-1827610200@innerpowerpartners.com
SUMMARY:IPP® Coral Springs\, Coconut Creek\, & Margate AM Connection Experience
DESCRIPTION:
URL:https://innerpowerpartners.com/event/ipp-coral-springs-coconut-creek-margate-am-connection-experience-2/2027-11-30/
LOCATION:Office Evolution\, 3301 n university drive\, Coral Springs\, FL\, 33065\, United States
END:VEVENT
BEGIN:VEVENT
DTSTART;TZID=America/New_York:20271207T082000
DTEND;TZID=America/New_York:20271207T213000
DTSTAMP:20260421T165503
CREATED:20260325T191802Z
LAST-MODIFIED:20260325T191803Z
UID:10009503-1828167600-1828215000@innerpowerpartners.com
SUMMARY:IPP® Coral Springs\, Coconut Creek\, & Margate AM Connection Experience
DESCRIPTION:
URL:https://innerpowerpartners.com/event/ipp-coral-springs-coconut-creek-margate-am-connection-experience-2/2027-12-07/
LOCATION:Office Evolution\, 3301 n university drive\, Coral Springs\, FL\, 33065\, United States
END:VEVENT
BEGIN:VEVENT
DTSTART;TZID=America/New_York:20271214T082000
DTEND;TZID=America/New_York:20271214T213000
DTSTAMP:20260421T165503
CREATED:20260325T191802Z
LAST-MODIFIED:20260325T191803Z
UID:10009504-1828772400-1828819800@innerpowerpartners.com
SUMMARY:IPP® Coral Springs\, Coconut Creek\, & Margate AM Connection Experience
DESCRIPTION:
URL:https://innerpowerpartners.com/event/ipp-coral-springs-coconut-creek-margate-am-connection-experience-2/2027-12-14/
LOCATION:Office Evolution\, 3301 n university drive\, Coral Springs\, FL\, 33065\, United States
END:VEVENT
END:VCALENDAR