BEGIN:VCALENDAR
VERSION:2.0
PRODID:-//Inner Power Partners - ECPv6.15.18//NONSGML v1.0//EN
CALSCALE:GREGORIAN
METHOD:PUBLISH
X-ORIGINAL-URL:https://innerpowerpartners.com
X-WR-CALDESC:Events for Inner Power Partners
REFRESH-INTERVAL;VALUE=DURATION:PT1H
X-Robots-Tag:noindex
X-PUBLISHED-TTL:PT1H
BEGIN:VTIMEZONE
TZID:UTC
BEGIN:STANDARD
TZOFFSETFROM:+0000
TZOFFSETTO:+0000
TZNAME:UTC
DTSTART:20240101T000000
END:STANDARD
END:VTIMEZONE
BEGIN:VEVENT
DTSTART;TZID=UTC:20250625T163000
DTEND;TZID=UTC:20250625T213000
DTSTAMP:20260422T012602
CREATED:20250520T131153Z
LAST-MODIFIED:20250520T131153Z
UID:10007408-1750869000-1750887000@innerpowerpartners.com
SUMMARY:Popstroke Member Get-together
DESCRIPTION:
URL:https://innerpowerpartners.com/event/popstroke-member-get-together/
LOCATION:Popstroke Delray Beach\, 1314 N Federal Hwy\, Delray Beach\, FL\, 33483\, United States
END:VEVENT
END:VCALENDAR