BEGIN:VCALENDAR
VERSION:2.0
PRODID:-//Inner Power Partners - ECPv6.15.18//NONSGML v1.0//EN
CALSCALE:GREGORIAN
METHOD:PUBLISH
X-ORIGINAL-URL:https://innerpowerpartners.com
X-WR-CALDESC:Events for Inner Power Partners
REFRESH-INTERVAL;VALUE=DURATION:PT1H
X-Robots-Tag:noindex
X-PUBLISHED-TTL:PT1H
BEGIN:VTIMEZONE
TZID:UTC
BEGIN:STANDARD
TZOFFSETFROM:+0000
TZOFFSETTO:+0000
TZNAME:UTC
DTSTART:20270101T000000
END:STANDARD
END:VTIMEZONE
BEGIN:VEVENT
DTSTART;TZID=UTC:20280525T122000
DTEND;TZID=UTC:20280525T133000
DTSTAMP:20260422T011639
CREATED:20260105T180656Z
LAST-MODIFIED:20260105T180656Z
UID:10003536-1842870000-1842874200@innerpowerpartners.com
SUMMARY:IPP® Boca Raton Connection Experience!
DESCRIPTION: 
URL:https://innerpowerpartners.com/event/ipp-east-boca-2-2-2-2/2028-05-25/
LOCATION:Quest Workspaces\, 1200 N Federal Hwy\, Boca Raton\, FL\, 33432\, United States
CATEGORIES:Meeting
END:VEVENT
BEGIN:VEVENT
DTSTART;TZID=UTC:20280601T122000
DTEND;TZID=UTC:20280601T133000
DTSTAMP:20260422T011639
CREATED:20260105T180656Z
LAST-MODIFIED:20260105T180656Z
UID:10003537-1843474800-1843479000@innerpowerpartners.com
SUMMARY:IPP® Boca Raton Connection Experience!
DESCRIPTION: 
URL:https://innerpowerpartners.com/event/ipp-east-boca-2-2-2-2/2028-06-01/
LOCATION:Quest Workspaces\, 1200 N Federal Hwy\, Boca Raton\, FL\, 33432\, United States
CATEGORIES:Meeting
END:VEVENT
BEGIN:VEVENT
DTSTART;TZID=UTC:20280608T122000
DTEND;TZID=UTC:20280608T133000
DTSTAMP:20260422T011639
CREATED:20260105T180656Z
LAST-MODIFIED:20260105T180656Z
UID:10003538-1844079600-1844083800@innerpowerpartners.com
SUMMARY:IPP® Boca Raton Connection Experience!
DESCRIPTION: 
URL:https://innerpowerpartners.com/event/ipp-east-boca-2-2-2-2/2028-06-08/
LOCATION:Quest Workspaces\, 1200 N Federal Hwy\, Boca Raton\, FL\, 33432\, United States
CATEGORIES:Meeting
END:VEVENT
BEGIN:VEVENT
DTSTART;TZID=UTC:20280615T122000
DTEND;TZID=UTC:20280615T133000
DTSTAMP:20260422T011639
CREATED:20260105T180656Z
LAST-MODIFIED:20260105T180656Z
UID:10003539-1844684400-1844688600@innerpowerpartners.com
SUMMARY:IPP® Boca Raton Connection Experience!
DESCRIPTION: 
URL:https://innerpowerpartners.com/event/ipp-east-boca-2-2-2-2/2028-06-15/
LOCATION:Quest Workspaces\, 1200 N Federal Hwy\, Boca Raton\, FL\, 33432\, United States
CATEGORIES:Meeting
END:VEVENT
BEGIN:VEVENT
DTSTART;TZID=UTC:20280622T122000
DTEND;TZID=UTC:20280622T133000
DTSTAMP:20260422T011639
CREATED:20260105T180656Z
LAST-MODIFIED:20260105T180656Z
UID:10003540-1845289200-1845293400@innerpowerpartners.com
SUMMARY:IPP® Boca Raton Connection Experience!
DESCRIPTION: 
URL:https://innerpowerpartners.com/event/ipp-east-boca-2-2-2-2/2028-06-22/
LOCATION:Quest Workspaces\, 1200 N Federal Hwy\, Boca Raton\, FL\, 33432\, United States
CATEGORIES:Meeting
END:VEVENT
BEGIN:VEVENT
DTSTART;TZID=UTC:20280629T122000
DTEND;TZID=UTC:20280629T133000
DTSTAMP:20260422T011639
CREATED:20260105T180656Z
LAST-MODIFIED:20260105T180656Z
UID:10003541-1845894000-1845898200@innerpowerpartners.com
SUMMARY:IPP® Boca Raton Connection Experience!
DESCRIPTION: 
URL:https://innerpowerpartners.com/event/ipp-east-boca-2-2-2-2/2028-06-29/
LOCATION:Quest Workspaces\, 1200 N Federal Hwy\, Boca Raton\, FL\, 33432\, United States
CATEGORIES:Meeting
END:VEVENT
BEGIN:VEVENT
DTSTART;TZID=UTC:20280706T122000
DTEND;TZID=UTC:20280706T133000
DTSTAMP:20260422T011639
CREATED:20260105T180656Z
LAST-MODIFIED:20260105T180656Z
UID:10003542-1846498800-1846503000@innerpowerpartners.com
SUMMARY:IPP® Boca Raton Connection Experience!
DESCRIPTION: 
URL:https://innerpowerpartners.com/event/ipp-east-boca-2-2-2-2/2028-07-06/
LOCATION:Quest Workspaces\, 1200 N Federal Hwy\, Boca Raton\, FL\, 33432\, United States
CATEGORIES:Meeting
END:VEVENT
BEGIN:VEVENT
DTSTART;TZID=UTC:20280713T122000
DTEND;TZID=UTC:20280713T133000
DTSTAMP:20260422T011639
CREATED:20260105T180656Z
LAST-MODIFIED:20260105T180656Z
UID:10003543-1847103600-1847107800@innerpowerpartners.com
SUMMARY:IPP® Boca Raton Connection Experience!
DESCRIPTION: 
URL:https://innerpowerpartners.com/event/ipp-east-boca-2-2-2-2/2028-07-13/
LOCATION:Quest Workspaces\, 1200 N Federal Hwy\, Boca Raton\, FL\, 33432\, United States
CATEGORIES:Meeting
END:VEVENT
BEGIN:VEVENT
DTSTART;TZID=UTC:20280720T122000
DTEND;TZID=UTC:20280720T133000
DTSTAMP:20260422T011639
CREATED:20260105T180656Z
LAST-MODIFIED:20260105T180656Z
UID:10003544-1847708400-1847712600@innerpowerpartners.com
SUMMARY:IPP® Boca Raton Connection Experience!
DESCRIPTION: 
URL:https://innerpowerpartners.com/event/ipp-east-boca-2-2-2-2/2028-07-20/
LOCATION:Quest Workspaces\, 1200 N Federal Hwy\, Boca Raton\, FL\, 33432\, United States
CATEGORIES:Meeting
END:VEVENT
BEGIN:VEVENT
DTSTART;TZID=UTC:20280727T122000
DTEND;TZID=UTC:20280727T133000
DTSTAMP:20260422T011639
CREATED:20260105T180656Z
LAST-MODIFIED:20260105T180656Z
UID:10003545-1848313200-1848317400@innerpowerpartners.com
SUMMARY:IPP® Boca Raton Connection Experience!
DESCRIPTION: 
URL:https://innerpowerpartners.com/event/ipp-east-boca-2-2-2-2/2028-07-27/
LOCATION:Quest Workspaces\, 1200 N Federal Hwy\, Boca Raton\, FL\, 33432\, United States
CATEGORIES:Meeting
END:VEVENT
BEGIN:VEVENT
DTSTART;TZID=UTC:20280803T122000
DTEND;TZID=UTC:20280803T133000
DTSTAMP:20260422T011639
CREATED:20260105T180656Z
LAST-MODIFIED:20260105T180656Z
UID:10003546-1848918000-1848922200@innerpowerpartners.com
SUMMARY:IPP® Boca Raton Connection Experience!
DESCRIPTION: 
URL:https://innerpowerpartners.com/event/ipp-east-boca-2-2-2-2/2028-08-03/
LOCATION:Quest Workspaces\, 1200 N Federal Hwy\, Boca Raton\, FL\, 33432\, United States
CATEGORIES:Meeting
END:VEVENT
BEGIN:VEVENT
DTSTART;TZID=UTC:20280810T122000
DTEND;TZID=UTC:20280810T133000
DTSTAMP:20260422T011639
CREATED:20260105T180656Z
LAST-MODIFIED:20260105T180656Z
UID:10003547-1849522800-1849527000@innerpowerpartners.com
SUMMARY:IPP® Boca Raton Connection Experience!
DESCRIPTION: 
URL:https://innerpowerpartners.com/event/ipp-east-boca-2-2-2-2/2028-08-10/
LOCATION:Quest Workspaces\, 1200 N Federal Hwy\, Boca Raton\, FL\, 33432\, United States
CATEGORIES:Meeting
END:VEVENT
BEGIN:VEVENT
DTSTART;TZID=UTC:20280817T122000
DTEND;TZID=UTC:20280817T133000
DTSTAMP:20260422T011639
CREATED:20260105T180656Z
LAST-MODIFIED:20260105T180656Z
UID:10003548-1850127600-1850131800@innerpowerpartners.com
SUMMARY:IPP® Boca Raton Connection Experience!
DESCRIPTION: 
URL:https://innerpowerpartners.com/event/ipp-east-boca-2-2-2-2/2028-08-17/
LOCATION:Quest Workspaces\, 1200 N Federal Hwy\, Boca Raton\, FL\, 33432\, United States
CATEGORIES:Meeting
END:VEVENT
BEGIN:VEVENT
DTSTART;TZID=UTC:20280824T122000
DTEND;TZID=UTC:20280824T133000
DTSTAMP:20260422T011639
CREATED:20260105T180656Z
LAST-MODIFIED:20260105T180656Z
UID:10003549-1850732400-1850736600@innerpowerpartners.com
SUMMARY:IPP® Boca Raton Connection Experience!
DESCRIPTION: 
URL:https://innerpowerpartners.com/event/ipp-east-boca-2-2-2-2/2028-08-24/
LOCATION:Quest Workspaces\, 1200 N Federal Hwy\, Boca Raton\, FL\, 33432\, United States
CATEGORIES:Meeting
END:VEVENT
BEGIN:VEVENT
DTSTART;TZID=UTC:20280831T122000
DTEND;TZID=UTC:20280831T133000
DTSTAMP:20260422T011639
CREATED:20260105T180656Z
LAST-MODIFIED:20260105T180656Z
UID:10003550-1851337200-1851341400@innerpowerpartners.com
SUMMARY:IPP® Boca Raton Connection Experience!
DESCRIPTION: 
URL:https://innerpowerpartners.com/event/ipp-east-boca-2-2-2-2/2028-08-31/
LOCATION:Quest Workspaces\, 1200 N Federal Hwy\, Boca Raton\, FL\, 33432\, United States
CATEGORIES:Meeting
END:VEVENT
BEGIN:VEVENT
DTSTART;TZID=UTC:20280907T122000
DTEND;TZID=UTC:20280907T133000
DTSTAMP:20260422T011639
CREATED:20260105T180656Z
LAST-MODIFIED:20260105T180656Z
UID:10003551-1851942000-1851946200@innerpowerpartners.com
SUMMARY:IPP® Boca Raton Connection Experience!
DESCRIPTION: 
URL:https://innerpowerpartners.com/event/ipp-east-boca-2-2-2-2/2028-09-07/
LOCATION:Quest Workspaces\, 1200 N Federal Hwy\, Boca Raton\, FL\, 33432\, United States
CATEGORIES:Meeting
END:VEVENT
BEGIN:VEVENT
DTSTART;TZID=UTC:20280914T122000
DTEND;TZID=UTC:20280914T133000
DTSTAMP:20260422T011639
CREATED:20260105T180656Z
LAST-MODIFIED:20260105T180656Z
UID:10003552-1852546800-1852551000@innerpowerpartners.com
SUMMARY:IPP® Boca Raton Connection Experience!
DESCRIPTION: 
URL:https://innerpowerpartners.com/event/ipp-east-boca-2-2-2-2/2028-09-14/
LOCATION:Quest Workspaces\, 1200 N Federal Hwy\, Boca Raton\, FL\, 33432\, United States
CATEGORIES:Meeting
END:VEVENT
BEGIN:VEVENT
DTSTART;TZID=UTC:20280921T122000
DTEND;TZID=UTC:20280921T133000
DTSTAMP:20260422T011639
CREATED:20260105T180656Z
LAST-MODIFIED:20260105T180656Z
UID:10003553-1853151600-1853155800@innerpowerpartners.com
SUMMARY:IPP® Boca Raton Connection Experience!
DESCRIPTION: 
URL:https://innerpowerpartners.com/event/ipp-east-boca-2-2-2-2/2028-09-21/
LOCATION:Quest Workspaces\, 1200 N Federal Hwy\, Boca Raton\, FL\, 33432\, United States
CATEGORIES:Meeting
END:VEVENT
BEGIN:VEVENT
DTSTART;TZID=UTC:20280928T122000
DTEND;TZID=UTC:20280928T133000
DTSTAMP:20260422T011639
CREATED:20260105T180656Z
LAST-MODIFIED:20260105T180656Z
UID:10003554-1853756400-1853760600@innerpowerpartners.com
SUMMARY:IPP® Boca Raton Connection Experience!
DESCRIPTION: 
URL:https://innerpowerpartners.com/event/ipp-east-boca-2-2-2-2/2028-09-28/
LOCATION:Quest Workspaces\, 1200 N Federal Hwy\, Boca Raton\, FL\, 33432\, United States
CATEGORIES:Meeting
END:VEVENT
BEGIN:VEVENT
DTSTART;TZID=UTC:20281005T122000
DTEND;TZID=UTC:20281005T133000
DTSTAMP:20260422T011639
CREATED:20260105T180656Z
LAST-MODIFIED:20260105T180656Z
UID:10003555-1854361200-1854365400@innerpowerpartners.com
SUMMARY:IPP® Boca Raton Connection Experience!
DESCRIPTION: 
URL:https://innerpowerpartners.com/event/ipp-east-boca-2-2-2-2/2028-10-05/
LOCATION:Quest Workspaces\, 1200 N Federal Hwy\, Boca Raton\, FL\, 33432\, United States
CATEGORIES:Meeting
END:VEVENT
BEGIN:VEVENT
DTSTART;TZID=UTC:20281012T122000
DTEND;TZID=UTC:20281012T133000
DTSTAMP:20260422T011639
CREATED:20260105T180656Z
LAST-MODIFIED:20260105T180656Z
UID:10003556-1854966000-1854970200@innerpowerpartners.com
SUMMARY:IPP® Boca Raton Connection Experience!
DESCRIPTION: 
URL:https://innerpowerpartners.com/event/ipp-east-boca-2-2-2-2/2028-10-12/
LOCATION:Quest Workspaces\, 1200 N Federal Hwy\, Boca Raton\, FL\, 33432\, United States
CATEGORIES:Meeting
END:VEVENT
BEGIN:VEVENT
DTSTART;TZID=UTC:20281019T122000
DTEND;TZID=UTC:20281019T133000
DTSTAMP:20260422T011639
CREATED:20260105T180656Z
LAST-MODIFIED:20260105T180656Z
UID:10003557-1855570800-1855575000@innerpowerpartners.com
SUMMARY:IPP® Boca Raton Connection Experience!
DESCRIPTION: 
URL:https://innerpowerpartners.com/event/ipp-east-boca-2-2-2-2/2028-10-19/
LOCATION:Quest Workspaces\, 1200 N Federal Hwy\, Boca Raton\, FL\, 33432\, United States
CATEGORIES:Meeting
END:VEVENT
BEGIN:VEVENT
DTSTART;TZID=UTC:20281026T122000
DTEND;TZID=UTC:20281026T133000
DTSTAMP:20260422T011639
CREATED:20260105T180656Z
LAST-MODIFIED:20260105T180656Z
UID:10003558-1856175600-1856179800@innerpowerpartners.com
SUMMARY:IPP® Boca Raton Connection Experience!
DESCRIPTION: 
URL:https://innerpowerpartners.com/event/ipp-east-boca-2-2-2-2/2028-10-26/
LOCATION:Quest Workspaces\, 1200 N Federal Hwy\, Boca Raton\, FL\, 33432\, United States
CATEGORIES:Meeting
END:VEVENT
BEGIN:VEVENT
DTSTART;TZID=UTC:20281102T122000
DTEND;TZID=UTC:20281102T133000
DTSTAMP:20260422T011639
CREATED:20260105T180656Z
LAST-MODIFIED:20260105T180656Z
UID:10003559-1856780400-1856784600@innerpowerpartners.com
SUMMARY:IPP® Boca Raton Connection Experience!
DESCRIPTION: 
URL:https://innerpowerpartners.com/event/ipp-east-boca-2-2-2-2/2028-11-02/
LOCATION:Quest Workspaces\, 1200 N Federal Hwy\, Boca Raton\, FL\, 33432\, United States
CATEGORIES:Meeting
END:VEVENT
BEGIN:VEVENT
DTSTART;TZID=UTC:20281109T122000
DTEND;TZID=UTC:20281109T133000
DTSTAMP:20260422T011639
CREATED:20260105T180656Z
LAST-MODIFIED:20260105T180656Z
UID:10003560-1857385200-1857389400@innerpowerpartners.com
SUMMARY:IPP® Boca Raton Connection Experience!
DESCRIPTION: 
URL:https://innerpowerpartners.com/event/ipp-east-boca-2-2-2-2/2028-11-09/
LOCATION:Quest Workspaces\, 1200 N Federal Hwy\, Boca Raton\, FL\, 33432\, United States
CATEGORIES:Meeting
END:VEVENT
BEGIN:VEVENT
DTSTART;TZID=UTC:20281116T122000
DTEND;TZID=UTC:20281116T133000
DTSTAMP:20260422T011639
CREATED:20260105T180656Z
LAST-MODIFIED:20260105T180656Z
UID:10003561-1857990000-1857994200@innerpowerpartners.com
SUMMARY:IPP® Boca Raton Connection Experience!
DESCRIPTION: 
URL:https://innerpowerpartners.com/event/ipp-east-boca-2-2-2-2/2028-11-16/
LOCATION:Quest Workspaces\, 1200 N Federal Hwy\, Boca Raton\, FL\, 33432\, United States
CATEGORIES:Meeting
END:VEVENT
BEGIN:VEVENT
DTSTART;TZID=UTC:20281123T122000
DTEND;TZID=UTC:20281123T133000
DTSTAMP:20260422T011639
CREATED:20260105T180656Z
LAST-MODIFIED:20260105T180656Z
UID:10003562-1858594800-1858599000@innerpowerpartners.com
SUMMARY:IPP® Boca Raton Connection Experience!
DESCRIPTION: 
URL:https://innerpowerpartners.com/event/ipp-east-boca-2-2-2-2/2028-11-23/
LOCATION:Quest Workspaces\, 1200 N Federal Hwy\, Boca Raton\, FL\, 33432\, United States
CATEGORIES:Meeting
END:VEVENT
BEGIN:VEVENT
DTSTART;TZID=UTC:20281130T122000
DTEND;TZID=UTC:20281130T133000
DTSTAMP:20260422T011639
CREATED:20260105T180656Z
LAST-MODIFIED:20260105T180656Z
UID:10003563-1859199600-1859203800@innerpowerpartners.com
SUMMARY:IPP® Boca Raton Connection Experience!
DESCRIPTION: 
URL:https://innerpowerpartners.com/event/ipp-east-boca-2-2-2-2/2028-11-30/
LOCATION:Quest Workspaces\, 1200 N Federal Hwy\, Boca Raton\, FL\, 33432\, United States
CATEGORIES:Meeting
END:VEVENT
BEGIN:VEVENT
DTSTART;TZID=UTC:20281207T122000
DTEND;TZID=UTC:20281207T133000
DTSTAMP:20260422T011639
CREATED:20260105T180656Z
LAST-MODIFIED:20260105T180656Z
UID:10003564-1859804400-1859808600@innerpowerpartners.com
SUMMARY:IPP® Boca Raton Connection Experience!
DESCRIPTION: 
URL:https://innerpowerpartners.com/event/ipp-east-boca-2-2-2-2/2028-12-07/
LOCATION:Quest Workspaces\, 1200 N Federal Hwy\, Boca Raton\, FL\, 33432\, United States
CATEGORIES:Meeting
END:VEVENT
BEGIN:VEVENT
DTSTART;TZID=UTC:20281214T122000
DTEND;TZID=UTC:20281214T133000
DTSTAMP:20260422T011639
CREATED:20260105T180656Z
LAST-MODIFIED:20260105T180656Z
UID:10003565-1860409200-1860413400@innerpowerpartners.com
SUMMARY:IPP® Boca Raton Connection Experience!
DESCRIPTION: 
URL:https://innerpowerpartners.com/event/ipp-east-boca-2-2-2-2/2028-12-14/
LOCATION:Quest Workspaces\, 1200 N Federal Hwy\, Boca Raton\, FL\, 33432\, United States
CATEGORIES:Meeting
END:VEVENT
END:VCALENDAR