BEGIN:VCALENDAR
VERSION:2.0
PRODID:-//Inner Power Partners - ECPv6.15.18//NONSGML v1.0//EN
CALSCALE:GREGORIAN
METHOD:PUBLISH
X-WR-CALNAME:Inner Power Partners
X-ORIGINAL-URL:https://innerpowerpartners.com
X-WR-CALDESC:Events for Inner Power Partners
REFRESH-INTERVAL;VALUE=DURATION:PT1H
X-Robots-Tag:noindex
X-PUBLISHED-TTL:PT1H
BEGIN:VTIMEZONE
TZID:UTC
BEGIN:STANDARD
TZOFFSETFROM:+0000
TZOFFSETTO:+0000
TZNAME:UTC
DTSTART:20280101T000000
END:STANDARD
END:VTIMEZONE
BEGIN:VEVENT
DTSTART;TZID=UTC:20290201T122000
DTEND;TZID=UTC:20290201T133000
DTSTAMP:20260422T063356
CREATED:20260105T180656Z
LAST-MODIFIED:20260105T180656Z
UID:10004947-1864642800-1864647000@innerpowerpartners.com
SUMMARY:IPP® Boca Raton Connection Experience!
DESCRIPTION: 
URL:https://innerpowerpartners.com/event/ipp-east-boca-2-2-2-2/2029-02-01/
LOCATION:Quest Workspaces\, 1200 N Federal Hwy\, Boca Raton\, FL\, 33432\, United States
CATEGORIES:Meeting
END:VEVENT
BEGIN:VEVENT
DTSTART;TZID=UTC:20290208T122000
DTEND;TZID=UTC:20290208T133000
DTSTAMP:20260422T063356
CREATED:20260105T180656Z
LAST-MODIFIED:20260105T180656Z
UID:10004948-1865247600-1865251800@innerpowerpartners.com
SUMMARY:IPP® Boca Raton Connection Experience!
DESCRIPTION: 
URL:https://innerpowerpartners.com/event/ipp-east-boca-2-2-2-2/2029-02-08/
LOCATION:Quest Workspaces\, 1200 N Federal Hwy\, Boca Raton\, FL\, 33432\, United States
CATEGORIES:Meeting
END:VEVENT
BEGIN:VEVENT
DTSTART;TZID=UTC:20290215T122000
DTEND;TZID=UTC:20290215T133000
DTSTAMP:20260422T063356
CREATED:20260105T180656Z
LAST-MODIFIED:20260105T180656Z
UID:10004949-1865852400-1865856600@innerpowerpartners.com
SUMMARY:IPP® Boca Raton Connection Experience!
DESCRIPTION: 
URL:https://innerpowerpartners.com/event/ipp-east-boca-2-2-2-2/2029-02-15/
LOCATION:Quest Workspaces\, 1200 N Federal Hwy\, Boca Raton\, FL\, 33432\, United States
CATEGORIES:Meeting
END:VEVENT
BEGIN:VEVENT
DTSTART;TZID=UTC:20290222T122000
DTEND;TZID=UTC:20290222T133000
DTSTAMP:20260422T063356
CREATED:20260105T180656Z
LAST-MODIFIED:20260105T180656Z
UID:10004950-1866457200-1866461400@innerpowerpartners.com
SUMMARY:IPP® Boca Raton Connection Experience!
DESCRIPTION: 
URL:https://innerpowerpartners.com/event/ipp-east-boca-2-2-2-2/2029-02-22/
LOCATION:Quest Workspaces\, 1200 N Federal Hwy\, Boca Raton\, FL\, 33432\, United States
CATEGORIES:Meeting
END:VEVENT
BEGIN:VEVENT
DTSTART;TZID=UTC:20290301T122000
DTEND;TZID=UTC:20290301T133000
DTSTAMP:20260422T063356
CREATED:20260105T180656Z
LAST-MODIFIED:20260105T180656Z
UID:10004951-1867062000-1867066200@innerpowerpartners.com
SUMMARY:IPP® Boca Raton Connection Experience!
DESCRIPTION: 
URL:https://innerpowerpartners.com/event/ipp-east-boca-2-2-2-2/2029-03-01/
LOCATION:Quest Workspaces\, 1200 N Federal Hwy\, Boca Raton\, FL\, 33432\, United States
CATEGORIES:Meeting
END:VEVENT
BEGIN:VEVENT
DTSTART;TZID=UTC:20290308T122000
DTEND;TZID=UTC:20290308T133000
DTSTAMP:20260422T063356
CREATED:20260105T180656Z
LAST-MODIFIED:20260105T180656Z
UID:10004952-1867666800-1867671000@innerpowerpartners.com
SUMMARY:IPP® Boca Raton Connection Experience!
DESCRIPTION: 
URL:https://innerpowerpartners.com/event/ipp-east-boca-2-2-2-2/2029-03-08/
LOCATION:Quest Workspaces\, 1200 N Federal Hwy\, Boca Raton\, FL\, 33432\, United States
CATEGORIES:Meeting
END:VEVENT
BEGIN:VEVENT
DTSTART;TZID=UTC:20290315T122000
DTEND;TZID=UTC:20290315T133000
DTSTAMP:20260422T063356
CREATED:20260105T180656Z
LAST-MODIFIED:20260105T180656Z
UID:10004953-1868271600-1868275800@innerpowerpartners.com
SUMMARY:IPP® Boca Raton Connection Experience!
DESCRIPTION: 
URL:https://innerpowerpartners.com/event/ipp-east-boca-2-2-2-2/2029-03-15/
LOCATION:Quest Workspaces\, 1200 N Federal Hwy\, Boca Raton\, FL\, 33432\, United States
CATEGORIES:Meeting
END:VEVENT
BEGIN:VEVENT
DTSTART;TZID=UTC:20290322T122000
DTEND;TZID=UTC:20290322T133000
DTSTAMP:20260422T063356
CREATED:20260105T180656Z
LAST-MODIFIED:20260105T180656Z
UID:10004954-1868876400-1868880600@innerpowerpartners.com
SUMMARY:IPP® Boca Raton Connection Experience!
DESCRIPTION: 
URL:https://innerpowerpartners.com/event/ipp-east-boca-2-2-2-2/2029-03-22/
LOCATION:Quest Workspaces\, 1200 N Federal Hwy\, Boca Raton\, FL\, 33432\, United States
CATEGORIES:Meeting
END:VEVENT
BEGIN:VEVENT
DTSTART;TZID=UTC:20290329T122000
DTEND;TZID=UTC:20290329T133000
DTSTAMP:20260422T063356
CREATED:20260105T180656Z
LAST-MODIFIED:20260105T180656Z
UID:10004955-1869481200-1869485400@innerpowerpartners.com
SUMMARY:IPP® Boca Raton Connection Experience!
DESCRIPTION: 
URL:https://innerpowerpartners.com/event/ipp-east-boca-2-2-2-2/2029-03-29/
LOCATION:Quest Workspaces\, 1200 N Federal Hwy\, Boca Raton\, FL\, 33432\, United States
CATEGORIES:Meeting
END:VEVENT
BEGIN:VEVENT
DTSTART;TZID=UTC:20290405T122000
DTEND;TZID=UTC:20290405T133000
DTSTAMP:20260422T063356
CREATED:20260105T180656Z
LAST-MODIFIED:20260105T180656Z
UID:10004956-1870086000-1870090200@innerpowerpartners.com
SUMMARY:IPP® Boca Raton Connection Experience!
DESCRIPTION: 
URL:https://innerpowerpartners.com/event/ipp-east-boca-2-2-2-2/2029-04-05/
LOCATION:Quest Workspaces\, 1200 N Federal Hwy\, Boca Raton\, FL\, 33432\, United States
CATEGORIES:Meeting
END:VEVENT
BEGIN:VEVENT
DTSTART;TZID=UTC:20290412T122000
DTEND;TZID=UTC:20290412T133000
DTSTAMP:20260422T063356
CREATED:20260105T180656Z
LAST-MODIFIED:20260105T180656Z
UID:10004957-1870690800-1870695000@innerpowerpartners.com
SUMMARY:IPP® Boca Raton Connection Experience!
DESCRIPTION: 
URL:https://innerpowerpartners.com/event/ipp-east-boca-2-2-2-2/2029-04-12/
LOCATION:Quest Workspaces\, 1200 N Federal Hwy\, Boca Raton\, FL\, 33432\, United States
CATEGORIES:Meeting
END:VEVENT
BEGIN:VEVENT
DTSTART;TZID=UTC:20290419T122000
DTEND;TZID=UTC:20290419T133000
DTSTAMP:20260422T063356
CREATED:20260105T180656Z
LAST-MODIFIED:20260105T180656Z
UID:10004958-1871295600-1871299800@innerpowerpartners.com
SUMMARY:IPP® Boca Raton Connection Experience!
DESCRIPTION: 
URL:https://innerpowerpartners.com/event/ipp-east-boca-2-2-2-2/2029-04-19/
LOCATION:Quest Workspaces\, 1200 N Federal Hwy\, Boca Raton\, FL\, 33432\, United States
CATEGORIES:Meeting
END:VEVENT
BEGIN:VEVENT
DTSTART;TZID=UTC:20290426T122000
DTEND;TZID=UTC:20290426T133000
DTSTAMP:20260422T063356
CREATED:20260105T180656Z
LAST-MODIFIED:20260105T180656Z
UID:10004959-1871900400-1871904600@innerpowerpartners.com
SUMMARY:IPP® Boca Raton Connection Experience!
DESCRIPTION: 
URL:https://innerpowerpartners.com/event/ipp-east-boca-2-2-2-2/2029-04-26/
LOCATION:Quest Workspaces\, 1200 N Federal Hwy\, Boca Raton\, FL\, 33432\, United States
CATEGORIES:Meeting
END:VEVENT
BEGIN:VEVENT
DTSTART;TZID=UTC:20290503T122000
DTEND;TZID=UTC:20290503T133000
DTSTAMP:20260422T063356
CREATED:20260105T180656Z
LAST-MODIFIED:20260105T180656Z
UID:10004960-1872505200-1872509400@innerpowerpartners.com
SUMMARY:IPP® Boca Raton Connection Experience!
DESCRIPTION: 
URL:https://innerpowerpartners.com/event/ipp-east-boca-2-2-2-2/2029-05-03/
LOCATION:Quest Workspaces\, 1200 N Federal Hwy\, Boca Raton\, FL\, 33432\, United States
CATEGORIES:Meeting
END:VEVENT
BEGIN:VEVENT
DTSTART;TZID=UTC:20290510T122000
DTEND;TZID=UTC:20290510T133000
DTSTAMP:20260422T063356
CREATED:20260105T180656Z
LAST-MODIFIED:20260105T180656Z
UID:10004961-1873110000-1873114200@innerpowerpartners.com
SUMMARY:IPP® Boca Raton Connection Experience!
DESCRIPTION: 
URL:https://innerpowerpartners.com/event/ipp-east-boca-2-2-2-2/2029-05-10/
LOCATION:Quest Workspaces\, 1200 N Federal Hwy\, Boca Raton\, FL\, 33432\, United States
CATEGORIES:Meeting
END:VEVENT
BEGIN:VEVENT
DTSTART;TZID=UTC:20290517T122000
DTEND;TZID=UTC:20290517T133000
DTSTAMP:20260422T063356
CREATED:20260105T180656Z
LAST-MODIFIED:20260105T180656Z
UID:10004962-1873714800-1873719000@innerpowerpartners.com
SUMMARY:IPP® Boca Raton Connection Experience!
DESCRIPTION: 
URL:https://innerpowerpartners.com/event/ipp-east-boca-2-2-2-2/2029-05-17/
LOCATION:Quest Workspaces\, 1200 N Federal Hwy\, Boca Raton\, FL\, 33432\, United States
CATEGORIES:Meeting
END:VEVENT
BEGIN:VEVENT
DTSTART;TZID=UTC:20290524T122000
DTEND;TZID=UTC:20290524T133000
DTSTAMP:20260422T063356
CREATED:20260105T180656Z
LAST-MODIFIED:20260105T180656Z
UID:10004963-1874319600-1874323800@innerpowerpartners.com
SUMMARY:IPP® Boca Raton Connection Experience!
DESCRIPTION: 
URL:https://innerpowerpartners.com/event/ipp-east-boca-2-2-2-2/2029-05-24/
LOCATION:Quest Workspaces\, 1200 N Federal Hwy\, Boca Raton\, FL\, 33432\, United States
CATEGORIES:Meeting
END:VEVENT
BEGIN:VEVENT
DTSTART;TZID=UTC:20290531T122000
DTEND;TZID=UTC:20290531T133000
DTSTAMP:20260422T063356
CREATED:20260105T180656Z
LAST-MODIFIED:20260105T180656Z
UID:10004964-1874924400-1874928600@innerpowerpartners.com
SUMMARY:IPP® Boca Raton Connection Experience!
DESCRIPTION: 
URL:https://innerpowerpartners.com/event/ipp-east-boca-2-2-2-2/2029-05-31/
LOCATION:Quest Workspaces\, 1200 N Federal Hwy\, Boca Raton\, FL\, 33432\, United States
CATEGORIES:Meeting
END:VEVENT
BEGIN:VEVENT
DTSTART;TZID=UTC:20290607T122000
DTEND;TZID=UTC:20290607T133000
DTSTAMP:20260422T063356
CREATED:20260105T180656Z
LAST-MODIFIED:20260105T180656Z
UID:10004965-1875529200-1875533400@innerpowerpartners.com
SUMMARY:IPP® Boca Raton Connection Experience!
DESCRIPTION: 
URL:https://innerpowerpartners.com/event/ipp-east-boca-2-2-2-2/2029-06-07/
LOCATION:Quest Workspaces\, 1200 N Federal Hwy\, Boca Raton\, FL\, 33432\, United States
CATEGORIES:Meeting
END:VEVENT
BEGIN:VEVENT
DTSTART;TZID=UTC:20290614T122000
DTEND;TZID=UTC:20290614T133000
DTSTAMP:20260422T063356
CREATED:20260105T180656Z
LAST-MODIFIED:20260105T180656Z
UID:10004966-1876134000-1876138200@innerpowerpartners.com
SUMMARY:IPP® Boca Raton Connection Experience!
DESCRIPTION: 
URL:https://innerpowerpartners.com/event/ipp-east-boca-2-2-2-2/2029-06-14/
LOCATION:Quest Workspaces\, 1200 N Federal Hwy\, Boca Raton\, FL\, 33432\, United States
CATEGORIES:Meeting
END:VEVENT
BEGIN:VEVENT
DTSTART;TZID=UTC:20290621T122000
DTEND;TZID=UTC:20290621T133000
DTSTAMP:20260422T063356
CREATED:20260105T180656Z
LAST-MODIFIED:20260105T180656Z
UID:10004967-1876738800-1876743000@innerpowerpartners.com
SUMMARY:IPP® Boca Raton Connection Experience!
DESCRIPTION: 
URL:https://innerpowerpartners.com/event/ipp-east-boca-2-2-2-2/2029-06-21/
LOCATION:Quest Workspaces\, 1200 N Federal Hwy\, Boca Raton\, FL\, 33432\, United States
CATEGORIES:Meeting
END:VEVENT
BEGIN:VEVENT
DTSTART;TZID=UTC:20290628T122000
DTEND;TZID=UTC:20290628T133000
DTSTAMP:20260422T063356
CREATED:20260105T180656Z
LAST-MODIFIED:20260105T180656Z
UID:10004968-1877343600-1877347800@innerpowerpartners.com
SUMMARY:IPP® Boca Raton Connection Experience!
DESCRIPTION: 
URL:https://innerpowerpartners.com/event/ipp-east-boca-2-2-2-2/2029-06-28/
LOCATION:Quest Workspaces\, 1200 N Federal Hwy\, Boca Raton\, FL\, 33432\, United States
CATEGORIES:Meeting
END:VEVENT
BEGIN:VEVENT
DTSTART;TZID=UTC:20290705T122000
DTEND;TZID=UTC:20290705T133000
DTSTAMP:20260422T063356
CREATED:20260105T180656Z
LAST-MODIFIED:20260105T180656Z
UID:10004969-1877948400-1877952600@innerpowerpartners.com
SUMMARY:IPP® Boca Raton Connection Experience!
DESCRIPTION: 
URL:https://innerpowerpartners.com/event/ipp-east-boca-2-2-2-2/2029-07-05/
LOCATION:Quest Workspaces\, 1200 N Federal Hwy\, Boca Raton\, FL\, 33432\, United States
CATEGORIES:Meeting
END:VEVENT
BEGIN:VEVENT
DTSTART;TZID=UTC:20290712T122000
DTEND;TZID=UTC:20290712T133000
DTSTAMP:20260422T063356
CREATED:20260105T180656Z
LAST-MODIFIED:20260105T180656Z
UID:10004970-1878553200-1878557400@innerpowerpartners.com
SUMMARY:IPP® Boca Raton Connection Experience!
DESCRIPTION: 
URL:https://innerpowerpartners.com/event/ipp-east-boca-2-2-2-2/2029-07-12/
LOCATION:Quest Workspaces\, 1200 N Federal Hwy\, Boca Raton\, FL\, 33432\, United States
CATEGORIES:Meeting
END:VEVENT
BEGIN:VEVENT
DTSTART;TZID=UTC:20290719T122000
DTEND;TZID=UTC:20290719T133000
DTSTAMP:20260422T063356
CREATED:20260105T180656Z
LAST-MODIFIED:20260105T180656Z
UID:10004971-1879158000-1879162200@innerpowerpartners.com
SUMMARY:IPP® Boca Raton Connection Experience!
DESCRIPTION: 
URL:https://innerpowerpartners.com/event/ipp-east-boca-2-2-2-2/2029-07-19/
LOCATION:Quest Workspaces\, 1200 N Federal Hwy\, Boca Raton\, FL\, 33432\, United States
CATEGORIES:Meeting
END:VEVENT
BEGIN:VEVENT
DTSTART;TZID=UTC:20290726T122000
DTEND;TZID=UTC:20290726T133000
DTSTAMP:20260422T063356
CREATED:20260105T180656Z
LAST-MODIFIED:20260105T180656Z
UID:10005634-1879762800-1879767000@innerpowerpartners.com
SUMMARY:IPP® Boca Raton Connection Experience!
DESCRIPTION: 
URL:https://innerpowerpartners.com/event/ipp-east-boca-2-2-2-2/2029-07-26/
LOCATION:Quest Workspaces\, 1200 N Federal Hwy\, Boca Raton\, FL\, 33432\, United States
CATEGORIES:Meeting
END:VEVENT
BEGIN:VEVENT
DTSTART;TZID=UTC:20290802T122000
DTEND;TZID=UTC:20290802T133000
DTSTAMP:20260422T063356
CREATED:20260105T180656Z
LAST-MODIFIED:20260105T180656Z
UID:10005635-1880367600-1880371800@innerpowerpartners.com
SUMMARY:IPP® Boca Raton Connection Experience!
DESCRIPTION: 
URL:https://innerpowerpartners.com/event/ipp-east-boca-2-2-2-2/2029-08-02/
LOCATION:Quest Workspaces\, 1200 N Federal Hwy\, Boca Raton\, FL\, 33432\, United States
CATEGORIES:Meeting
END:VEVENT
BEGIN:VEVENT
DTSTART;TZID=UTC:20290809T122000
DTEND;TZID=UTC:20290809T133000
DTSTAMP:20260422T063356
CREATED:20260105T180656Z
LAST-MODIFIED:20260105T180656Z
UID:10005636-1880972400-1880976600@innerpowerpartners.com
SUMMARY:IPP® Boca Raton Connection Experience!
DESCRIPTION: 
URL:https://innerpowerpartners.com/event/ipp-east-boca-2-2-2-2/2029-08-09/
LOCATION:Quest Workspaces\, 1200 N Federal Hwy\, Boca Raton\, FL\, 33432\, United States
CATEGORIES:Meeting
END:VEVENT
BEGIN:VEVENT
DTSTART;TZID=UTC:20290816T122000
DTEND;TZID=UTC:20290816T133000
DTSTAMP:20260422T063356
CREATED:20260105T180656Z
LAST-MODIFIED:20260105T180656Z
UID:10005637-1881577200-1881581400@innerpowerpartners.com
SUMMARY:IPP® Boca Raton Connection Experience!
DESCRIPTION: 
URL:https://innerpowerpartners.com/event/ipp-east-boca-2-2-2-2/2029-08-16/
LOCATION:Quest Workspaces\, 1200 N Federal Hwy\, Boca Raton\, FL\, 33432\, United States
CATEGORIES:Meeting
END:VEVENT
BEGIN:VEVENT
DTSTART;TZID=UTC:20290823T122000
DTEND;TZID=UTC:20290823T133000
DTSTAMP:20260422T063356
CREATED:20260105T180656Z
LAST-MODIFIED:20260105T180656Z
UID:10005638-1882182000-1882186200@innerpowerpartners.com
SUMMARY:IPP® Boca Raton Connection Experience!
DESCRIPTION: 
URL:https://innerpowerpartners.com/event/ipp-east-boca-2-2-2-2/2029-08-23/
LOCATION:Quest Workspaces\, 1200 N Federal Hwy\, Boca Raton\, FL\, 33432\, United States
CATEGORIES:Meeting
END:VEVENT
END:VCALENDAR