BEGIN:VCALENDAR
VERSION:2.0
PRODID:-//Inner Power Partners - ECPv6.15.18//NONSGML v1.0//EN
CALSCALE:GREGORIAN
METHOD:PUBLISH
X-ORIGINAL-URL:https://innerpowerpartners.com
X-WR-CALDESC:Events for Inner Power Partners
REFRESH-INTERVAL;VALUE=DURATION:PT1H
X-Robots-Tag:noindex
X-PUBLISHED-TTL:PT1H
BEGIN:VTIMEZONE
TZID:UTC
BEGIN:STANDARD
TZOFFSETFROM:+0000
TZOFFSETTO:+0000
TZNAME:UTC
DTSTART:20290101T000000
END:STANDARD
END:VTIMEZONE
BEGIN:VEVENT
DTSTART;TZID=UTC:20300404T122000
DTEND;TZID=UTC:20300404T133000
DTSTAMP:20260424T124850
CREATED:20260105T180656Z
LAST-MODIFIED:20260105T180656Z
UID:10007423-1901535600-1901539800@innerpowerpartners.com
SUMMARY:IPP® Boca Raton Connection Experience!
DESCRIPTION: 
URL:https://innerpowerpartners.com/event/ipp-east-boca-2-2-2-2/2030-04-04/
LOCATION:Quest Workspaces\, 1200 N Federal Hwy\, Boca Raton\, FL\, 33432\, United States
CATEGORIES:Meeting
END:VEVENT
BEGIN:VEVENT
DTSTART;TZID=UTC:20300411T122000
DTEND;TZID=UTC:20300411T133000
DTSTAMP:20260424T124850
CREATED:20260105T180656Z
LAST-MODIFIED:20260105T180656Z
UID:10007424-1902140400-1902144600@innerpowerpartners.com
SUMMARY:IPP® Boca Raton Connection Experience!
DESCRIPTION: 
URL:https://innerpowerpartners.com/event/ipp-east-boca-2-2-2-2/2030-04-11/
LOCATION:Quest Workspaces\, 1200 N Federal Hwy\, Boca Raton\, FL\, 33432\, United States
CATEGORIES:Meeting
END:VEVENT
BEGIN:VEVENT
DTSTART;TZID=UTC:20300418T122000
DTEND;TZID=UTC:20300418T133000
DTSTAMP:20260424T124850
CREATED:20260105T180656Z
LAST-MODIFIED:20260105T180656Z
UID:10007425-1902745200-1902749400@innerpowerpartners.com
SUMMARY:IPP® Boca Raton Connection Experience!
DESCRIPTION: 
URL:https://innerpowerpartners.com/event/ipp-east-boca-2-2-2-2/2030-04-18/
LOCATION:Quest Workspaces\, 1200 N Federal Hwy\, Boca Raton\, FL\, 33432\, United States
CATEGORIES:Meeting
END:VEVENT
BEGIN:VEVENT
DTSTART;TZID=UTC:20300425T122000
DTEND;TZID=UTC:20300425T133000
DTSTAMP:20260424T124850
CREATED:20260105T180656Z
LAST-MODIFIED:20260105T180656Z
UID:10007426-1903350000-1903354200@innerpowerpartners.com
SUMMARY:IPP® Boca Raton Connection Experience!
DESCRIPTION: 
URL:https://innerpowerpartners.com/event/ipp-east-boca-2-2-2-2/2030-04-25/
LOCATION:Quest Workspaces\, 1200 N Federal Hwy\, Boca Raton\, FL\, 33432\, United States
CATEGORIES:Meeting
END:VEVENT
BEGIN:VEVENT
DTSTART;TZID=UTC:20300502T122000
DTEND;TZID=UTC:20300502T133000
DTSTAMP:20260424T124850
CREATED:20260105T180656Z
LAST-MODIFIED:20260105T180656Z
UID:10007427-1903954800-1903959000@innerpowerpartners.com
SUMMARY:IPP® Boca Raton Connection Experience!
DESCRIPTION: 
URL:https://innerpowerpartners.com/event/ipp-east-boca-2-2-2-2/2030-05-02/
LOCATION:Quest Workspaces\, 1200 N Federal Hwy\, Boca Raton\, FL\, 33432\, United States
CATEGORIES:Meeting
END:VEVENT
BEGIN:VEVENT
DTSTART;TZID=UTC:20300509T122000
DTEND;TZID=UTC:20300509T133000
DTSTAMP:20260424T124850
CREATED:20260105T180656Z
LAST-MODIFIED:20260105T180656Z
UID:10007428-1904559600-1904563800@innerpowerpartners.com
SUMMARY:IPP® Boca Raton Connection Experience!
DESCRIPTION: 
URL:https://innerpowerpartners.com/event/ipp-east-boca-2-2-2-2/2030-05-09/
LOCATION:Quest Workspaces\, 1200 N Federal Hwy\, Boca Raton\, FL\, 33432\, United States
CATEGORIES:Meeting
END:VEVENT
BEGIN:VEVENT
DTSTART;TZID=UTC:20300516T122000
DTEND;TZID=UTC:20300516T133000
DTSTAMP:20260424T124850
CREATED:20260105T180656Z
LAST-MODIFIED:20260105T180656Z
UID:10007429-1905164400-1905168600@innerpowerpartners.com
SUMMARY:IPP® Boca Raton Connection Experience!
DESCRIPTION: 
URL:https://innerpowerpartners.com/event/ipp-east-boca-2-2-2-2/2030-05-16/
LOCATION:Quest Workspaces\, 1200 N Federal Hwy\, Boca Raton\, FL\, 33432\, United States
CATEGORIES:Meeting
END:VEVENT
BEGIN:VEVENT
DTSTART;TZID=UTC:20300523T122000
DTEND;TZID=UTC:20300523T133000
DTSTAMP:20260424T124850
CREATED:20260105T180656Z
LAST-MODIFIED:20260105T180656Z
UID:10007430-1905769200-1905773400@innerpowerpartners.com
SUMMARY:IPP® Boca Raton Connection Experience!
DESCRIPTION: 
URL:https://innerpowerpartners.com/event/ipp-east-boca-2-2-2-2/2030-05-23/
LOCATION:Quest Workspaces\, 1200 N Federal Hwy\, Boca Raton\, FL\, 33432\, United States
CATEGORIES:Meeting
END:VEVENT
BEGIN:VEVENT
DTSTART;TZID=UTC:20300530T122000
DTEND;TZID=UTC:20300530T133000
DTSTAMP:20260424T124850
CREATED:20260105T180656Z
LAST-MODIFIED:20260105T180656Z
UID:10007431-1906374000-1906378200@innerpowerpartners.com
SUMMARY:IPP® Boca Raton Connection Experience!
DESCRIPTION: 
URL:https://innerpowerpartners.com/event/ipp-east-boca-2-2-2-2/2030-05-30/
LOCATION:Quest Workspaces\, 1200 N Federal Hwy\, Boca Raton\, FL\, 33432\, United States
CATEGORIES:Meeting
END:VEVENT
BEGIN:VEVENT
DTSTART;TZID=UTC:20300606T122000
DTEND;TZID=UTC:20300606T133000
DTSTAMP:20260424T124850
CREATED:20260105T180656Z
LAST-MODIFIED:20260105T180656Z
UID:10008102-1906978800-1906983000@innerpowerpartners.com
SUMMARY:IPP® Boca Raton Connection Experience!
DESCRIPTION: 
URL:https://innerpowerpartners.com/event/ipp-east-boca-2-2-2-2/2030-06-06/
LOCATION:Quest Workspaces\, 1200 N Federal Hwy\, Boca Raton\, FL\, 33432\, United States
CATEGORIES:Meeting
END:VEVENT
BEGIN:VEVENT
DTSTART;TZID=UTC:20300613T122000
DTEND;TZID=UTC:20300613T133000
DTSTAMP:20260424T124850
CREATED:20260105T180656Z
LAST-MODIFIED:20260105T180656Z
UID:10008103-1907583600-1907587800@innerpowerpartners.com
SUMMARY:IPP® Boca Raton Connection Experience!
DESCRIPTION: 
URL:https://innerpowerpartners.com/event/ipp-east-boca-2-2-2-2/2030-06-13/
LOCATION:Quest Workspaces\, 1200 N Federal Hwy\, Boca Raton\, FL\, 33432\, United States
CATEGORIES:Meeting
END:VEVENT
BEGIN:VEVENT
DTSTART;TZID=UTC:20300620T122000
DTEND;TZID=UTC:20300620T133000
DTSTAMP:20260424T124850
CREATED:20260105T180656Z
LAST-MODIFIED:20260105T180656Z
UID:10008104-1908188400-1908192600@innerpowerpartners.com
SUMMARY:IPP® Boca Raton Connection Experience!
DESCRIPTION: 
URL:https://innerpowerpartners.com/event/ipp-east-boca-2-2-2-2/2030-06-20/
LOCATION:Quest Workspaces\, 1200 N Federal Hwy\, Boca Raton\, FL\, 33432\, United States
CATEGORIES:Meeting
END:VEVENT
BEGIN:VEVENT
DTSTART;TZID=UTC:20300627T122000
DTEND;TZID=UTC:20300627T133000
DTSTAMP:20260424T124850
CREATED:20260105T180656Z
LAST-MODIFIED:20260105T180656Z
UID:10008105-1908793200-1908797400@innerpowerpartners.com
SUMMARY:IPP® Boca Raton Connection Experience!
DESCRIPTION: 
URL:https://innerpowerpartners.com/event/ipp-east-boca-2-2-2-2/2030-06-27/
LOCATION:Quest Workspaces\, 1200 N Federal Hwy\, Boca Raton\, FL\, 33432\, United States
CATEGORIES:Meeting
END:VEVENT
BEGIN:VEVENT
DTSTART;TZID=UTC:20300704T122000
DTEND;TZID=UTC:20300704T133000
DTSTAMP:20260424T124850
CREATED:20260105T180656Z
LAST-MODIFIED:20260105T180656Z
UID:10008106-1909398000-1909402200@innerpowerpartners.com
SUMMARY:IPP® Boca Raton Connection Experience!
DESCRIPTION: 
URL:https://innerpowerpartners.com/event/ipp-east-boca-2-2-2-2/2030-07-04/
LOCATION:Quest Workspaces\, 1200 N Federal Hwy\, Boca Raton\, FL\, 33432\, United States
CATEGORIES:Meeting
END:VEVENT
BEGIN:VEVENT
DTSTART;TZID=UTC:20300711T122000
DTEND;TZID=UTC:20300711T133000
DTSTAMP:20260424T124850
CREATED:20260105T180656Z
LAST-MODIFIED:20260105T180656Z
UID:10008107-1910002800-1910007000@innerpowerpartners.com
SUMMARY:IPP® Boca Raton Connection Experience!
DESCRIPTION: 
URL:https://innerpowerpartners.com/event/ipp-east-boca-2-2-2-2/2030-07-11/
LOCATION:Quest Workspaces\, 1200 N Federal Hwy\, Boca Raton\, FL\, 33432\, United States
CATEGORIES:Meeting
END:VEVENT
BEGIN:VEVENT
DTSTART;TZID=UTC:20300718T122000
DTEND;TZID=UTC:20300718T133000
DTSTAMP:20260424T124850
CREATED:20260105T180656Z
LAST-MODIFIED:20260105T180656Z
UID:10008108-1910607600-1910611800@innerpowerpartners.com
SUMMARY:IPP® Boca Raton Connection Experience!
DESCRIPTION: 
URL:https://innerpowerpartners.com/event/ipp-east-boca-2-2-2-2/2030-07-18/
LOCATION:Quest Workspaces\, 1200 N Federal Hwy\, Boca Raton\, FL\, 33432\, United States
CATEGORIES:Meeting
END:VEVENT
BEGIN:VEVENT
DTSTART;TZID=UTC:20300725T122000
DTEND;TZID=UTC:20300725T133000
DTSTAMP:20260424T124850
CREATED:20260105T180656Z
LAST-MODIFIED:20260105T180656Z
UID:10008109-1911212400-1911216600@innerpowerpartners.com
SUMMARY:IPP® Boca Raton Connection Experience!
DESCRIPTION: 
URL:https://innerpowerpartners.com/event/ipp-east-boca-2-2-2-2/2030-07-25/
LOCATION:Quest Workspaces\, 1200 N Federal Hwy\, Boca Raton\, FL\, 33432\, United States
CATEGORIES:Meeting
END:VEVENT
BEGIN:VEVENT
DTSTART;TZID=UTC:20300801T122000
DTEND;TZID=UTC:20300801T133000
DTSTAMP:20260424T124850
CREATED:20260105T180656Z
LAST-MODIFIED:20260105T180656Z
UID:10008110-1911817200-1911821400@innerpowerpartners.com
SUMMARY:IPP® Boca Raton Connection Experience!
DESCRIPTION: 
URL:https://innerpowerpartners.com/event/ipp-east-boca-2-2-2-2/2030-08-01/
LOCATION:Quest Workspaces\, 1200 N Federal Hwy\, Boca Raton\, FL\, 33432\, United States
CATEGORIES:Meeting
END:VEVENT
BEGIN:VEVENT
DTSTART;TZID=UTC:20300808T122000
DTEND;TZID=UTC:20300808T133000
DTSTAMP:20260424T124850
CREATED:20260105T180656Z
LAST-MODIFIED:20260105T180656Z
UID:10008111-1912422000-1912426200@innerpowerpartners.com
SUMMARY:IPP® Boca Raton Connection Experience!
DESCRIPTION: 
URL:https://innerpowerpartners.com/event/ipp-east-boca-2-2-2-2/2030-08-08/
LOCATION:Quest Workspaces\, 1200 N Federal Hwy\, Boca Raton\, FL\, 33432\, United States
CATEGORIES:Meeting
END:VEVENT
BEGIN:VEVENT
DTSTART;TZID=UTC:20300815T122000
DTEND;TZID=UTC:20300815T133000
DTSTAMP:20260424T124850
CREATED:20260105T180656Z
LAST-MODIFIED:20260105T180656Z
UID:10008112-1913026800-1913031000@innerpowerpartners.com
SUMMARY:IPP® Boca Raton Connection Experience!
DESCRIPTION: 
URL:https://innerpowerpartners.com/event/ipp-east-boca-2-2-2-2/2030-08-15/
LOCATION:Quest Workspaces\, 1200 N Federal Hwy\, Boca Raton\, FL\, 33432\, United States
CATEGORIES:Meeting
END:VEVENT
BEGIN:VEVENT
DTSTART;TZID=UTC:20300822T122000
DTEND;TZID=UTC:20300822T133000
DTSTAMP:20260424T124850
CREATED:20260105T180656Z
LAST-MODIFIED:20260105T180656Z
UID:10008113-1913631600-1913635800@innerpowerpartners.com
SUMMARY:IPP® Boca Raton Connection Experience!
DESCRIPTION: 
URL:https://innerpowerpartners.com/event/ipp-east-boca-2-2-2-2/2030-08-22/
LOCATION:Quest Workspaces\, 1200 N Federal Hwy\, Boca Raton\, FL\, 33432\, United States
CATEGORIES:Meeting
END:VEVENT
BEGIN:VEVENT
DTSTART;TZID=UTC:20300829T122000
DTEND;TZID=UTC:20300829T133000
DTSTAMP:20260424T124850
CREATED:20260105T180656Z
LAST-MODIFIED:20260105T180656Z
UID:10008114-1914236400-1914240600@innerpowerpartners.com
SUMMARY:IPP® Boca Raton Connection Experience!
DESCRIPTION: 
URL:https://innerpowerpartners.com/event/ipp-east-boca-2-2-2-2/2030-08-29/
LOCATION:Quest Workspaces\, 1200 N Federal Hwy\, Boca Raton\, FL\, 33432\, United States
CATEGORIES:Meeting
END:VEVENT
BEGIN:VEVENT
DTSTART;TZID=UTC:20300905T122000
DTEND;TZID=UTC:20300905T133000
DTSTAMP:20260424T124850
CREATED:20260105T180656Z
LAST-MODIFIED:20260105T180656Z
UID:10008115-1914841200-1914845400@innerpowerpartners.com
SUMMARY:IPP® Boca Raton Connection Experience!
DESCRIPTION: 
URL:https://innerpowerpartners.com/event/ipp-east-boca-2-2-2-2/2030-09-05/
LOCATION:Quest Workspaces\, 1200 N Federal Hwy\, Boca Raton\, FL\, 33432\, United States
CATEGORIES:Meeting
END:VEVENT
BEGIN:VEVENT
DTSTART;TZID=UTC:20300912T122000
DTEND;TZID=UTC:20300912T133000
DTSTAMP:20260424T124850
CREATED:20260105T180656Z
LAST-MODIFIED:20260105T180656Z
UID:10008116-1915446000-1915450200@innerpowerpartners.com
SUMMARY:IPP® Boca Raton Connection Experience!
DESCRIPTION: 
URL:https://innerpowerpartners.com/event/ipp-east-boca-2-2-2-2/2030-09-12/
LOCATION:Quest Workspaces\, 1200 N Federal Hwy\, Boca Raton\, FL\, 33432\, United States
CATEGORIES:Meeting
END:VEVENT
BEGIN:VEVENT
DTSTART;TZID=UTC:20300919T122000
DTEND;TZID=UTC:20300919T133000
DTSTAMP:20260424T124850
CREATED:20260105T180656Z
LAST-MODIFIED:20260105T180656Z
UID:10008117-1916050800-1916055000@innerpowerpartners.com
SUMMARY:IPP® Boca Raton Connection Experience!
DESCRIPTION: 
URL:https://innerpowerpartners.com/event/ipp-east-boca-2-2-2-2/2030-09-19/
LOCATION:Quest Workspaces\, 1200 N Federal Hwy\, Boca Raton\, FL\, 33432\, United States
CATEGORIES:Meeting
END:VEVENT
BEGIN:VEVENT
DTSTART;TZID=UTC:20300926T122000
DTEND;TZID=UTC:20300926T133000
DTSTAMP:20260424T124850
CREATED:20260105T180656Z
LAST-MODIFIED:20260105T180656Z
UID:10008118-1916655600-1916659800@innerpowerpartners.com
SUMMARY:IPP® Boca Raton Connection Experience!
DESCRIPTION: 
URL:https://innerpowerpartners.com/event/ipp-east-boca-2-2-2-2/2030-09-26/
LOCATION:Quest Workspaces\, 1200 N Federal Hwy\, Boca Raton\, FL\, 33432\, United States
CATEGORIES:Meeting
END:VEVENT
BEGIN:VEVENT
DTSTART;TZID=UTC:20301003T122000
DTEND;TZID=UTC:20301003T133000
DTSTAMP:20260424T124850
CREATED:20260105T180656Z
LAST-MODIFIED:20260105T180656Z
UID:10008119-1917260400-1917264600@innerpowerpartners.com
SUMMARY:IPP® Boca Raton Connection Experience!
DESCRIPTION: 
URL:https://innerpowerpartners.com/event/ipp-east-boca-2-2-2-2/2030-10-03/
LOCATION:Quest Workspaces\, 1200 N Federal Hwy\, Boca Raton\, FL\, 33432\, United States
CATEGORIES:Meeting
END:VEVENT
BEGIN:VEVENT
DTSTART;TZID=UTC:20301010T122000
DTEND;TZID=UTC:20301010T133000
DTSTAMP:20260424T124850
CREATED:20260105T180656Z
LAST-MODIFIED:20260105T180656Z
UID:10008120-1917865200-1917869400@innerpowerpartners.com
SUMMARY:IPP® Boca Raton Connection Experience!
DESCRIPTION: 
URL:https://innerpowerpartners.com/event/ipp-east-boca-2-2-2-2/2030-10-10/
LOCATION:Quest Workspaces\, 1200 N Federal Hwy\, Boca Raton\, FL\, 33432\, United States
CATEGORIES:Meeting
END:VEVENT
BEGIN:VEVENT
DTSTART;TZID=UTC:20301017T122000
DTEND;TZID=UTC:20301017T133000
DTSTAMP:20260424T124850
CREATED:20260105T180656Z
LAST-MODIFIED:20260105T180656Z
UID:10009044-1918470000-1918474200@innerpowerpartners.com
SUMMARY:IPP® Boca Raton Connection Experience!
DESCRIPTION: 
URL:https://innerpowerpartners.com/event/ipp-east-boca-2-2-2-2/2030-10-17/
LOCATION:Quest Workspaces\, 1200 N Federal Hwy\, Boca Raton\, FL\, 33432\, United States
CATEGORIES:Meeting
END:VEVENT
BEGIN:VEVENT
DTSTART;TZID=UTC:20301024T122000
DTEND;TZID=UTC:20301024T133000
DTSTAMP:20260424T124850
CREATED:20260105T180656Z
LAST-MODIFIED:20260105T180656Z
UID:10009045-1919074800-1919079000@innerpowerpartners.com
SUMMARY:IPP® Boca Raton Connection Experience!
DESCRIPTION: 
URL:https://innerpowerpartners.com/event/ipp-east-boca-2-2-2-2/2030-10-24/
LOCATION:Quest Workspaces\, 1200 N Federal Hwy\, Boca Raton\, FL\, 33432\, United States
CATEGORIES:Meeting
END:VEVENT
END:VCALENDAR