BEGIN:VCALENDAR
VERSION:2.0
PRODID:-//Inner Power Partners - ECPv6.15.18//NONSGML v1.0//EN
CALSCALE:GREGORIAN
METHOD:PUBLISH
X-WR-CALNAME:Inner Power Partners
X-ORIGINAL-URL:https://innerpowerpartners.com
X-WR-CALDESC:Events for Inner Power Partners
REFRESH-INTERVAL;VALUE=DURATION:PT1H
X-Robots-Tag:noindex
X-PUBLISHED-TTL:PT1H
BEGIN:VTIMEZONE
TZID:UTC
BEGIN:STANDARD
TZOFFSETFROM:+0000
TZOFFSETTO:+0000
TZNAME:UTC
DTSTART:20250101T000000
END:STANDARD
END:VTIMEZONE
BEGIN:VEVENT
DTSTART;TZID=UTC:20260716T122000
DTEND;TZID=UTC:20260716T133000
DTSTAMP:20260421T121219
CREATED:20260105T180656Z
LAST-MODIFIED:20260105T180656Z
UID:10003439-1784204400-1784208600@innerpowerpartners.com
SUMMARY:IPP® Boca Raton Connection Experience!
DESCRIPTION: 
URL:https://innerpowerpartners.com/event/ipp-east-boca-2-2-2-2/2026-07-16/
LOCATION:Quest Workspaces\, 1200 N Federal Hwy\, Boca Raton\, FL\, 33432\, United States
CATEGORIES:Meeting
END:VEVENT
BEGIN:VEVENT
DTSTART;TZID=UTC:20260723T122000
DTEND;TZID=UTC:20260723T133000
DTSTAMP:20260421T121219
CREATED:20260105T180656Z
LAST-MODIFIED:20260105T180656Z
UID:10003440-1784809200-1784813400@innerpowerpartners.com
SUMMARY:IPP® Boca Raton Connection Experience!
DESCRIPTION: 
URL:https://innerpowerpartners.com/event/ipp-east-boca-2-2-2-2/2026-07-23/
LOCATION:Quest Workspaces\, 1200 N Federal Hwy\, Boca Raton\, FL\, 33432\, United States
CATEGORIES:Meeting
END:VEVENT
BEGIN:VEVENT
DTSTART;TZID=UTC:20260730T122000
DTEND;TZID=UTC:20260730T133000
DTSTAMP:20260421T121219
CREATED:20260105T180656Z
LAST-MODIFIED:20260105T180656Z
UID:10003441-1785414000-1785418200@innerpowerpartners.com
SUMMARY:IPP® Boca Raton Connection Experience!
DESCRIPTION: 
URL:https://innerpowerpartners.com/event/ipp-east-boca-2-2-2-2/2026-07-30/
LOCATION:Quest Workspaces\, 1200 N Federal Hwy\, Boca Raton\, FL\, 33432\, United States
CATEGORIES:Meeting
END:VEVENT
BEGIN:VEVENT
DTSTART;TZID=UTC:20260806T122000
DTEND;TZID=UTC:20260806T133000
DTSTAMP:20260421T121219
CREATED:20260105T180656Z
LAST-MODIFIED:20260105T180656Z
UID:10003442-1786018800-1786023000@innerpowerpartners.com
SUMMARY:IPP® Boca Raton Connection Experience!
DESCRIPTION: 
URL:https://innerpowerpartners.com/event/ipp-east-boca-2-2-2-2/2026-08-06/
LOCATION:Quest Workspaces\, 1200 N Federal Hwy\, Boca Raton\, FL\, 33432\, United States
CATEGORIES:Meeting
END:VEVENT
BEGIN:VEVENT
DTSTART;TZID=UTC:20260813T122000
DTEND;TZID=UTC:20260813T133000
DTSTAMP:20260421T121219
CREATED:20260105T180656Z
LAST-MODIFIED:20260105T180656Z
UID:10003443-1786623600-1786627800@innerpowerpartners.com
SUMMARY:IPP® Boca Raton Connection Experience!
DESCRIPTION: 
URL:https://innerpowerpartners.com/event/ipp-east-boca-2-2-2-2/2026-08-13/
LOCATION:Quest Workspaces\, 1200 N Federal Hwy\, Boca Raton\, FL\, 33432\, United States
CATEGORIES:Meeting
END:VEVENT
BEGIN:VEVENT
DTSTART;TZID=UTC:20260820T122000
DTEND;TZID=UTC:20260820T133000
DTSTAMP:20260421T121219
CREATED:20260105T180656Z
LAST-MODIFIED:20260105T180656Z
UID:10003444-1787228400-1787232600@innerpowerpartners.com
SUMMARY:IPP® Boca Raton Connection Experience!
DESCRIPTION: 
URL:https://innerpowerpartners.com/event/ipp-east-boca-2-2-2-2/2026-08-20/
LOCATION:Quest Workspaces\, 1200 N Federal Hwy\, Boca Raton\, FL\, 33432\, United States
CATEGORIES:Meeting
END:VEVENT
BEGIN:VEVENT
DTSTART;TZID=UTC:20260827T122000
DTEND;TZID=UTC:20260827T133000
DTSTAMP:20260421T121219
CREATED:20260105T180656Z
LAST-MODIFIED:20260105T180656Z
UID:10003445-1787833200-1787837400@innerpowerpartners.com
SUMMARY:IPP® Boca Raton Connection Experience!
DESCRIPTION: 
URL:https://innerpowerpartners.com/event/ipp-east-boca-2-2-2-2/2026-08-27/
LOCATION:Quest Workspaces\, 1200 N Federal Hwy\, Boca Raton\, FL\, 33432\, United States
CATEGORIES:Meeting
END:VEVENT
BEGIN:VEVENT
DTSTART;TZID=UTC:20260903T122000
DTEND;TZID=UTC:20260903T133000
DTSTAMP:20260421T121219
CREATED:20260105T180656Z
LAST-MODIFIED:20260105T180656Z
UID:10003446-1788438000-1788442200@innerpowerpartners.com
SUMMARY:IPP® Boca Raton Connection Experience!
DESCRIPTION: 
URL:https://innerpowerpartners.com/event/ipp-east-boca-2-2-2-2/2026-09-03/
LOCATION:Quest Workspaces\, 1200 N Federal Hwy\, Boca Raton\, FL\, 33432\, United States
CATEGORIES:Meeting
END:VEVENT
BEGIN:VEVENT
DTSTART;TZID=UTC:20260910T122000
DTEND;TZID=UTC:20260910T133000
DTSTAMP:20260421T121219
CREATED:20260105T180656Z
LAST-MODIFIED:20260105T180656Z
UID:10003447-1789042800-1789047000@innerpowerpartners.com
SUMMARY:IPP® Boca Raton Connection Experience!
DESCRIPTION: 
URL:https://innerpowerpartners.com/event/ipp-east-boca-2-2-2-2/2026-09-10/
LOCATION:Quest Workspaces\, 1200 N Federal Hwy\, Boca Raton\, FL\, 33432\, United States
CATEGORIES:Meeting
END:VEVENT
BEGIN:VEVENT
DTSTART;TZID=UTC:20260917T122000
DTEND;TZID=UTC:20260917T133000
DTSTAMP:20260421T121219
CREATED:20260105T180656Z
LAST-MODIFIED:20260105T180656Z
UID:10003448-1789647600-1789651800@innerpowerpartners.com
SUMMARY:IPP® Boca Raton Connection Experience!
DESCRIPTION: 
URL:https://innerpowerpartners.com/event/ipp-east-boca-2-2-2-2/2026-09-17/
LOCATION:Quest Workspaces\, 1200 N Federal Hwy\, Boca Raton\, FL\, 33432\, United States
CATEGORIES:Meeting
END:VEVENT
BEGIN:VEVENT
DTSTART;TZID=UTC:20260924T122000
DTEND;TZID=UTC:20260924T133000
DTSTAMP:20260421T121219
CREATED:20260105T180656Z
LAST-MODIFIED:20260105T180656Z
UID:10003449-1790252400-1790256600@innerpowerpartners.com
SUMMARY:IPP® Boca Raton Connection Experience!
DESCRIPTION: 
URL:https://innerpowerpartners.com/event/ipp-east-boca-2-2-2-2/2026-09-24/
LOCATION:Quest Workspaces\, 1200 N Federal Hwy\, Boca Raton\, FL\, 33432\, United States
CATEGORIES:Meeting
END:VEVENT
BEGIN:VEVENT
DTSTART;TZID=UTC:20261001T122000
DTEND;TZID=UTC:20261001T133000
DTSTAMP:20260421T121219
CREATED:20260105T180656Z
LAST-MODIFIED:20260105T180656Z
UID:10003450-1790857200-1790861400@innerpowerpartners.com
SUMMARY:IPP® Boca Raton Connection Experience!
DESCRIPTION: 
URL:https://innerpowerpartners.com/event/ipp-east-boca-2-2-2-2/2026-10-01/
LOCATION:Quest Workspaces\, 1200 N Federal Hwy\, Boca Raton\, FL\, 33432\, United States
CATEGORIES:Meeting
END:VEVENT
BEGIN:VEVENT
DTSTART;TZID=UTC:20261008T122000
DTEND;TZID=UTC:20261008T133000
DTSTAMP:20260421T121219
CREATED:20260105T180656Z
LAST-MODIFIED:20260105T180656Z
UID:10003451-1791462000-1791466200@innerpowerpartners.com
SUMMARY:IPP® Boca Raton Connection Experience!
DESCRIPTION: 
URL:https://innerpowerpartners.com/event/ipp-east-boca-2-2-2-2/2026-10-08/
LOCATION:Quest Workspaces\, 1200 N Federal Hwy\, Boca Raton\, FL\, 33432\, United States
CATEGORIES:Meeting
END:VEVENT
BEGIN:VEVENT
DTSTART;TZID=UTC:20261015T122000
DTEND;TZID=UTC:20261015T133000
DTSTAMP:20260421T121219
CREATED:20260105T180656Z
LAST-MODIFIED:20260105T180656Z
UID:10003452-1792066800-1792071000@innerpowerpartners.com
SUMMARY:IPP® Boca Raton Connection Experience!
DESCRIPTION: 
URL:https://innerpowerpartners.com/event/ipp-east-boca-2-2-2-2/2026-10-15/
LOCATION:Quest Workspaces\, 1200 N Federal Hwy\, Boca Raton\, FL\, 33432\, United States
CATEGORIES:Meeting
END:VEVENT
BEGIN:VEVENT
DTSTART;TZID=UTC:20261022T122000
DTEND;TZID=UTC:20261022T133000
DTSTAMP:20260421T121219
CREATED:20260105T180656Z
LAST-MODIFIED:20260105T180656Z
UID:10003453-1792671600-1792675800@innerpowerpartners.com
SUMMARY:IPP® Boca Raton Connection Experience!
DESCRIPTION: 
URL:https://innerpowerpartners.com/event/ipp-east-boca-2-2-2-2/2026-10-22/
LOCATION:Quest Workspaces\, 1200 N Federal Hwy\, Boca Raton\, FL\, 33432\, United States
CATEGORIES:Meeting
END:VEVENT
BEGIN:VEVENT
DTSTART;TZID=UTC:20261029T122000
DTEND;TZID=UTC:20261029T133000
DTSTAMP:20260421T121219
CREATED:20260105T180656Z
LAST-MODIFIED:20260105T180656Z
UID:10003454-1793276400-1793280600@innerpowerpartners.com
SUMMARY:IPP® Boca Raton Connection Experience!
DESCRIPTION: 
URL:https://innerpowerpartners.com/event/ipp-east-boca-2-2-2-2/2026-10-29/
LOCATION:Quest Workspaces\, 1200 N Federal Hwy\, Boca Raton\, FL\, 33432\, United States
CATEGORIES:Meeting
END:VEVENT
BEGIN:VEVENT
DTSTART;TZID=UTC:20261105T122000
DTEND;TZID=UTC:20261105T133000
DTSTAMP:20260421T121219
CREATED:20260105T180656Z
LAST-MODIFIED:20260105T180656Z
UID:10003455-1793881200-1793885400@innerpowerpartners.com
SUMMARY:IPP® Boca Raton Connection Experience!
DESCRIPTION: 
URL:https://innerpowerpartners.com/event/ipp-east-boca-2-2-2-2/2026-11-05/
LOCATION:Quest Workspaces\, 1200 N Federal Hwy\, Boca Raton\, FL\, 33432\, United States
CATEGORIES:Meeting
END:VEVENT
BEGIN:VEVENT
DTSTART;TZID=UTC:20261112T122000
DTEND;TZID=UTC:20261112T133000
DTSTAMP:20260421T121219
CREATED:20260105T180656Z
LAST-MODIFIED:20260105T180656Z
UID:10003456-1794486000-1794490200@innerpowerpartners.com
SUMMARY:IPP® Boca Raton Connection Experience!
DESCRIPTION: 
URL:https://innerpowerpartners.com/event/ipp-east-boca-2-2-2-2/2026-11-12/
LOCATION:Quest Workspaces\, 1200 N Federal Hwy\, Boca Raton\, FL\, 33432\, United States
CATEGORIES:Meeting
END:VEVENT
BEGIN:VEVENT
DTSTART;TZID=UTC:20261119T122000
DTEND;TZID=UTC:20261119T133000
DTSTAMP:20260421T121219
CREATED:20260105T180656Z
LAST-MODIFIED:20260105T180656Z
UID:10003457-1795090800-1795095000@innerpowerpartners.com
SUMMARY:IPP® Boca Raton Connection Experience!
DESCRIPTION: 
URL:https://innerpowerpartners.com/event/ipp-east-boca-2-2-2-2/2026-11-19/
LOCATION:Quest Workspaces\, 1200 N Federal Hwy\, Boca Raton\, FL\, 33432\, United States
CATEGORIES:Meeting
END:VEVENT
BEGIN:VEVENT
DTSTART;TZID=UTC:20261203T122000
DTEND;TZID=UTC:20261203T133000
DTSTAMP:20260421T121219
CREATED:20260105T180656Z
LAST-MODIFIED:20260105T180656Z
UID:10003459-1796300400-1796304600@innerpowerpartners.com
SUMMARY:IPP® Boca Raton Connection Experience!
DESCRIPTION: 
URL:https://innerpowerpartners.com/event/ipp-east-boca-2-2-2-2/2026-12-03/
LOCATION:Quest Workspaces\, 1200 N Federal Hwy\, Boca Raton\, FL\, 33432\, United States
CATEGORIES:Meeting
END:VEVENT
BEGIN:VEVENT
DTSTART;TZID=UTC:20261210T122000
DTEND;TZID=UTC:20261210T133000
DTSTAMP:20260421T121219
CREATED:20260105T180656Z
LAST-MODIFIED:20260105T180656Z
UID:10003460-1796905200-1796909400@innerpowerpartners.com
SUMMARY:IPP® Boca Raton Connection Experience!
DESCRIPTION: 
URL:https://innerpowerpartners.com/event/ipp-east-boca-2-2-2-2/2026-12-10/
LOCATION:Quest Workspaces\, 1200 N Federal Hwy\, Boca Raton\, FL\, 33432\, United States
CATEGORIES:Meeting
END:VEVENT
BEGIN:VEVENT
DTSTART;TZID=UTC:20261217T122000
DTEND;TZID=UTC:20261217T133000
DTSTAMP:20260421T121219
CREATED:20260105T180656Z
LAST-MODIFIED:20260105T180656Z
UID:10003461-1797510000-1797514200@innerpowerpartners.com
SUMMARY:IPP® Boca Raton Connection Experience!
DESCRIPTION: 
URL:https://innerpowerpartners.com/event/ipp-east-boca-2-2-2-2/2026-12-17/
LOCATION:Quest Workspaces\, 1200 N Federal Hwy\, Boca Raton\, FL\, 33432\, United States
CATEGORIES:Meeting
END:VEVENT
BEGIN:VEVENT
DTSTART;TZID=UTC:20261224T122000
DTEND;TZID=UTC:20261224T133000
DTSTAMP:20260421T121219
CREATED:20260105T180656Z
LAST-MODIFIED:20260105T180656Z
UID:10003462-1798114800-1798119000@innerpowerpartners.com
SUMMARY:IPP® Boca Raton Connection Experience!
DESCRIPTION: 
URL:https://innerpowerpartners.com/event/ipp-east-boca-2-2-2-2/2026-12-24/
LOCATION:Quest Workspaces\, 1200 N Federal Hwy\, Boca Raton\, FL\, 33432\, United States
CATEGORIES:Meeting
END:VEVENT
BEGIN:VEVENT
DTSTART;TZID=UTC:20261231T122000
DTEND;TZID=UTC:20261231T133000
DTSTAMP:20260421T121219
CREATED:20260105T180656Z
LAST-MODIFIED:20260105T180656Z
UID:10003463-1798719600-1798723800@innerpowerpartners.com
SUMMARY:IPP® Boca Raton Connection Experience!
DESCRIPTION: 
URL:https://innerpowerpartners.com/event/ipp-east-boca-2-2-2-2/2026-12-31/
LOCATION:Quest Workspaces\, 1200 N Federal Hwy\, Boca Raton\, FL\, 33432\, United States
CATEGORIES:Meeting
END:VEVENT
BEGIN:VEVENT
DTSTART;TZID=UTC:20270107T122000
DTEND;TZID=UTC:20270107T133000
DTSTAMP:20260421T121219
CREATED:20260105T180656Z
LAST-MODIFIED:20260105T180656Z
UID:10003464-1799324400-1799328600@innerpowerpartners.com
SUMMARY:IPP® Boca Raton Connection Experience!
DESCRIPTION: 
URL:https://innerpowerpartners.com/event/ipp-east-boca-2-2-2-2/2027-01-07/
LOCATION:Quest Workspaces\, 1200 N Federal Hwy\, Boca Raton\, FL\, 33432\, United States
CATEGORIES:Meeting
END:VEVENT
BEGIN:VEVENT
DTSTART;TZID=UTC:20270114T122000
DTEND;TZID=UTC:20270114T133000
DTSTAMP:20260421T121219
CREATED:20260105T180656Z
LAST-MODIFIED:20260105T180656Z
UID:10003465-1799929200-1799933400@innerpowerpartners.com
SUMMARY:IPP® Boca Raton Connection Experience!
DESCRIPTION: 
URL:https://innerpowerpartners.com/event/ipp-east-boca-2-2-2-2/2027-01-14/
LOCATION:Quest Workspaces\, 1200 N Federal Hwy\, Boca Raton\, FL\, 33432\, United States
CATEGORIES:Meeting
END:VEVENT
BEGIN:VEVENT
DTSTART;TZID=UTC:20270121T122000
DTEND;TZID=UTC:20270121T133000
DTSTAMP:20260421T121219
CREATED:20260105T180656Z
LAST-MODIFIED:20260105T180656Z
UID:10003466-1800534000-1800538200@innerpowerpartners.com
SUMMARY:IPP® Boca Raton Connection Experience!
DESCRIPTION: 
URL:https://innerpowerpartners.com/event/ipp-east-boca-2-2-2-2/2027-01-21/
LOCATION:Quest Workspaces\, 1200 N Federal Hwy\, Boca Raton\, FL\, 33432\, United States
CATEGORIES:Meeting
END:VEVENT
BEGIN:VEVENT
DTSTART;TZID=UTC:20270128T122000
DTEND;TZID=UTC:20270128T133000
DTSTAMP:20260421T121219
CREATED:20260105T180656Z
LAST-MODIFIED:20260105T180656Z
UID:10003467-1801138800-1801143000@innerpowerpartners.com
SUMMARY:IPP® Boca Raton Connection Experience!
DESCRIPTION: 
URL:https://innerpowerpartners.com/event/ipp-east-boca-2-2-2-2/2027-01-28/
LOCATION:Quest Workspaces\, 1200 N Federal Hwy\, Boca Raton\, FL\, 33432\, United States
CATEGORIES:Meeting
END:VEVENT
BEGIN:VEVENT
DTSTART;TZID=UTC:20270204T122000
DTEND;TZID=UTC:20270204T133000
DTSTAMP:20260421T121219
CREATED:20260105T180656Z
LAST-MODIFIED:20260105T180656Z
UID:10003468-1801743600-1801747800@innerpowerpartners.com
SUMMARY:IPP® Boca Raton Connection Experience!
DESCRIPTION: 
URL:https://innerpowerpartners.com/event/ipp-east-boca-2-2-2-2/2027-02-04/
LOCATION:Quest Workspaces\, 1200 N Federal Hwy\, Boca Raton\, FL\, 33432\, United States
CATEGORIES:Meeting
END:VEVENT
BEGIN:VEVENT
DTSTART;TZID=UTC:20270211T122000
DTEND;TZID=UTC:20270211T133000
DTSTAMP:20260421T121219
CREATED:20260105T180656Z
LAST-MODIFIED:20260105T180656Z
UID:10003469-1802348400-1802352600@innerpowerpartners.com
SUMMARY:IPP® Boca Raton Connection Experience!
DESCRIPTION: 
URL:https://innerpowerpartners.com/event/ipp-east-boca-2-2-2-2/2027-02-11/
LOCATION:Quest Workspaces\, 1200 N Federal Hwy\, Boca Raton\, FL\, 33432\, United States
CATEGORIES:Meeting
END:VEVENT
END:VCALENDAR