BEGIN:VCALENDAR
VERSION:2.0
PRODID:-//Inner Power Partners - ECPv6.15.18//NONSGML v1.0//EN
CALSCALE:GREGORIAN
METHOD:PUBLISH
X-WR-CALNAME:Inner Power Partners
X-ORIGINAL-URL:https://innerpowerpartners.com
X-WR-CALDESC:Events for Inner Power Partners
REFRESH-INTERVAL;VALUE=DURATION:PT1H
X-Robots-Tag:noindex
X-PUBLISHED-TTL:PT1H
BEGIN:VTIMEZONE
TZID:UTC
BEGIN:STANDARD
TZOFFSETFROM:+0000
TZOFFSETTO:+0000
TZNAME:UTC
DTSTART:20290101T000000
END:STANDARD
END:VTIMEZONE
BEGIN:VEVENT
DTSTART;TZID=UTC:20300919T122000
DTEND;TZID=UTC:20300919T133000
DTSTAMP:20260424T155317
CREATED:20260105T180656Z
LAST-MODIFIED:20260105T180656Z
UID:10008117-1916050800-1916055000@innerpowerpartners.com
SUMMARY:IPP® Boca Raton Connection Experience!
DESCRIPTION: 
URL:https://innerpowerpartners.com/event/ipp-east-boca-2-2-2-2/2030-09-19/
LOCATION:Quest Workspaces\, 1200 N Federal Hwy\, Boca Raton\, FL\, 33432\, United States
CATEGORIES:Meeting
END:VEVENT
BEGIN:VEVENT
DTSTART;TZID=UTC:20300926T122000
DTEND;TZID=UTC:20300926T133000
DTSTAMP:20260424T155317
CREATED:20260105T180656Z
LAST-MODIFIED:20260105T180656Z
UID:10008118-1916655600-1916659800@innerpowerpartners.com
SUMMARY:IPP® Boca Raton Connection Experience!
DESCRIPTION: 
URL:https://innerpowerpartners.com/event/ipp-east-boca-2-2-2-2/2030-09-26/
LOCATION:Quest Workspaces\, 1200 N Federal Hwy\, Boca Raton\, FL\, 33432\, United States
CATEGORIES:Meeting
END:VEVENT
BEGIN:VEVENT
DTSTART;TZID=UTC:20301003T122000
DTEND;TZID=UTC:20301003T133000
DTSTAMP:20260424T155317
CREATED:20260105T180656Z
LAST-MODIFIED:20260105T180656Z
UID:10008119-1917260400-1917264600@innerpowerpartners.com
SUMMARY:IPP® Boca Raton Connection Experience!
DESCRIPTION: 
URL:https://innerpowerpartners.com/event/ipp-east-boca-2-2-2-2/2030-10-03/
LOCATION:Quest Workspaces\, 1200 N Federal Hwy\, Boca Raton\, FL\, 33432\, United States
CATEGORIES:Meeting
END:VEVENT
BEGIN:VEVENT
DTSTART;TZID=UTC:20301010T122000
DTEND;TZID=UTC:20301010T133000
DTSTAMP:20260424T155317
CREATED:20260105T180656Z
LAST-MODIFIED:20260105T180656Z
UID:10008120-1917865200-1917869400@innerpowerpartners.com
SUMMARY:IPP® Boca Raton Connection Experience!
DESCRIPTION: 
URL:https://innerpowerpartners.com/event/ipp-east-boca-2-2-2-2/2030-10-10/
LOCATION:Quest Workspaces\, 1200 N Federal Hwy\, Boca Raton\, FL\, 33432\, United States
CATEGORIES:Meeting
END:VEVENT
BEGIN:VEVENT
DTSTART;TZID=UTC:20301017T122000
DTEND;TZID=UTC:20301017T133000
DTSTAMP:20260424T155317
CREATED:20260105T180656Z
LAST-MODIFIED:20260105T180656Z
UID:10009044-1918470000-1918474200@innerpowerpartners.com
SUMMARY:IPP® Boca Raton Connection Experience!
DESCRIPTION: 
URL:https://innerpowerpartners.com/event/ipp-east-boca-2-2-2-2/2030-10-17/
LOCATION:Quest Workspaces\, 1200 N Federal Hwy\, Boca Raton\, FL\, 33432\, United States
CATEGORIES:Meeting
END:VEVENT
BEGIN:VEVENT
DTSTART;TZID=UTC:20301024T122000
DTEND;TZID=UTC:20301024T133000
DTSTAMP:20260424T155317
CREATED:20260105T180656Z
LAST-MODIFIED:20260105T180656Z
UID:10009045-1919074800-1919079000@innerpowerpartners.com
SUMMARY:IPP® Boca Raton Connection Experience!
DESCRIPTION: 
URL:https://innerpowerpartners.com/event/ipp-east-boca-2-2-2-2/2030-10-24/
LOCATION:Quest Workspaces\, 1200 N Federal Hwy\, Boca Raton\, FL\, 33432\, United States
CATEGORIES:Meeting
END:VEVENT
BEGIN:VEVENT
DTSTART;TZID=UTC:20301031T122000
DTEND;TZID=UTC:20301031T133000
DTSTAMP:20260424T155317
CREATED:20260105T180656Z
LAST-MODIFIED:20260105T180656Z
UID:10009046-1919679600-1919683800@innerpowerpartners.com
SUMMARY:IPP® Boca Raton Connection Experience!
DESCRIPTION: 
URL:https://innerpowerpartners.com/event/ipp-east-boca-2-2-2-2/2030-10-31/
LOCATION:Quest Workspaces\, 1200 N Federal Hwy\, Boca Raton\, FL\, 33432\, United States
CATEGORIES:Meeting
END:VEVENT
BEGIN:VEVENT
DTSTART;TZID=UTC:20301107T122000
DTEND;TZID=UTC:20301107T133000
DTSTAMP:20260424T155317
CREATED:20260105T180656Z
LAST-MODIFIED:20260105T180656Z
UID:10009047-1920284400-1920288600@innerpowerpartners.com
SUMMARY:IPP® Boca Raton Connection Experience!
DESCRIPTION: 
URL:https://innerpowerpartners.com/event/ipp-east-boca-2-2-2-2/2030-11-07/
LOCATION:Quest Workspaces\, 1200 N Federal Hwy\, Boca Raton\, FL\, 33432\, United States
CATEGORIES:Meeting
END:VEVENT
BEGIN:VEVENT
DTSTART;TZID=UTC:20301114T122000
DTEND;TZID=UTC:20301114T133000
DTSTAMP:20260424T155317
CREATED:20260105T180656Z
LAST-MODIFIED:20260105T180656Z
UID:10009048-1920889200-1920893400@innerpowerpartners.com
SUMMARY:IPP® Boca Raton Connection Experience!
DESCRIPTION: 
URL:https://innerpowerpartners.com/event/ipp-east-boca-2-2-2-2/2030-11-14/
LOCATION:Quest Workspaces\, 1200 N Federal Hwy\, Boca Raton\, FL\, 33432\, United States
CATEGORIES:Meeting
END:VEVENT
BEGIN:VEVENT
DTSTART;TZID=UTC:20301121T122000
DTEND;TZID=UTC:20301121T133000
DTSTAMP:20260424T155317
CREATED:20260105T180656Z
LAST-MODIFIED:20260105T180656Z
UID:10009049-1921494000-1921498200@innerpowerpartners.com
SUMMARY:IPP® Boca Raton Connection Experience!
DESCRIPTION: 
URL:https://innerpowerpartners.com/event/ipp-east-boca-2-2-2-2/2030-11-21/
LOCATION:Quest Workspaces\, 1200 N Federal Hwy\, Boca Raton\, FL\, 33432\, United States
CATEGORIES:Meeting
END:VEVENT
BEGIN:VEVENT
DTSTART;TZID=UTC:20301128T122000
DTEND;TZID=UTC:20301128T133000
DTSTAMP:20260424T155317
CREATED:20260105T180656Z
LAST-MODIFIED:20260105T180656Z
UID:10009050-1922098800-1922103000@innerpowerpartners.com
SUMMARY:IPP® Boca Raton Connection Experience!
DESCRIPTION: 
URL:https://innerpowerpartners.com/event/ipp-east-boca-2-2-2-2/2030-11-28/
LOCATION:Quest Workspaces\, 1200 N Federal Hwy\, Boca Raton\, FL\, 33432\, United States
CATEGORIES:Meeting
END:VEVENT
BEGIN:VEVENT
DTSTART;TZID=UTC:20301205T122000
DTEND;TZID=UTC:20301205T133000
DTSTAMP:20260424T155317
CREATED:20260105T180656Z
LAST-MODIFIED:20260105T180656Z
UID:10009051-1922703600-1922707800@innerpowerpartners.com
SUMMARY:IPP® Boca Raton Connection Experience!
DESCRIPTION: 
URL:https://innerpowerpartners.com/event/ipp-east-boca-2-2-2-2/2030-12-05/
LOCATION:Quest Workspaces\, 1200 N Federal Hwy\, Boca Raton\, FL\, 33432\, United States
CATEGORIES:Meeting
END:VEVENT
BEGIN:VEVENT
DTSTART;TZID=UTC:20301212T122000
DTEND;TZID=UTC:20301212T133000
DTSTAMP:20260424T155317
CREATED:20260105T180656Z
LAST-MODIFIED:20260105T180656Z
UID:10009052-1923308400-1923312600@innerpowerpartners.com
SUMMARY:IPP® Boca Raton Connection Experience!
DESCRIPTION: 
URL:https://innerpowerpartners.com/event/ipp-east-boca-2-2-2-2/2030-12-12/
LOCATION:Quest Workspaces\, 1200 N Federal Hwy\, Boca Raton\, FL\, 33432\, United States
CATEGORIES:Meeting
END:VEVENT
BEGIN:VEVENT
DTSTART;TZID=UTC:20301219T122000
DTEND;TZID=UTC:20301219T133000
DTSTAMP:20260424T155317
CREATED:20260105T180656Z
LAST-MODIFIED:20260105T180656Z
UID:10009053-1923913200-1923917400@innerpowerpartners.com
SUMMARY:IPP® Boca Raton Connection Experience!
DESCRIPTION: 
URL:https://innerpowerpartners.com/event/ipp-east-boca-2-2-2-2/2030-12-19/
LOCATION:Quest Workspaces\, 1200 N Federal Hwy\, Boca Raton\, FL\, 33432\, United States
CATEGORIES:Meeting
END:VEVENT
BEGIN:VEVENT
DTSTART;TZID=UTC:20301226T122000
DTEND;TZID=UTC:20301226T133000
DTSTAMP:20260424T155317
CREATED:20260105T180656Z
LAST-MODIFIED:20260105T180656Z
UID:10009054-1924518000-1924522200@innerpowerpartners.com
SUMMARY:IPP® Boca Raton Connection Experience!
DESCRIPTION: 
URL:https://innerpowerpartners.com/event/ipp-east-boca-2-2-2-2/2030-12-26/
LOCATION:Quest Workspaces\, 1200 N Federal Hwy\, Boca Raton\, FL\, 33432\, United States
CATEGORIES:Meeting
END:VEVENT
BEGIN:VEVENT
DTSTART;TZID=UTC:20310102T122000
DTEND;TZID=UTC:20310102T133000
DTSTAMP:20260424T155317
CREATED:20260105T180656Z
LAST-MODIFIED:20260105T180656Z
UID:10009055-1925122800-1925127000@innerpowerpartners.com
SUMMARY:IPP® Boca Raton Connection Experience!
DESCRIPTION: 
URL:https://innerpowerpartners.com/event/ipp-east-boca-2-2-2-2/2031-01-02/
LOCATION:Quest Workspaces\, 1200 N Federal Hwy\, Boca Raton\, FL\, 33432\, United States
CATEGORIES:Meeting
END:VEVENT
END:VCALENDAR