BEGIN:VCALENDAR
VERSION:2.0
PRODID:-//Inner Power Partners - ECPv6.15.18//NONSGML v1.0//EN
CALSCALE:GREGORIAN
METHOD:PUBLISH
X-ORIGINAL-URL:https://innerpowerpartners.com
X-WR-CALDESC:Events for Inner Power Partners
REFRESH-INTERVAL;VALUE=DURATION:PT1H
X-Robots-Tag:noindex
X-PUBLISHED-TTL:PT1H
BEGIN:VTIMEZONE
TZID:UTC
BEGIN:STANDARD
TZOFFSETFROM:+0000
TZOFFSETTO:+0000
TZNAME:UTC
DTSTART:20240101T000000
END:STANDARD
END:VTIMEZONE
BEGIN:VEVENT
DTSTART;TZID=UTC:20251009T122000
DTEND;TZID=UTC:20251009T133000
DTSTAMP:20260421T165754
CREATED:20241228T000206Z
LAST-MODIFIED:20250603T195911Z
UID:10003399-1760012400-1760016600@innerpowerpartners.com
SUMMARY:IPP® Boca Raton Professionals Connection Experience!
DESCRIPTION: 
URL:https://innerpowerpartners.com/event/ipp-east-boca-2-2/2025-10-09/
LOCATION:Quest Workspaces\, 1200 N Federal Hwy\, Boca Raton\, FL\, 33432\, United States
CATEGORIES:Meeting
END:VEVENT
BEGIN:VEVENT
DTSTART;TZID=UTC:20251002T122000
DTEND;TZID=UTC:20251002T133000
DTSTAMP:20260421T165754
CREATED:20241228T000206Z
LAST-MODIFIED:20250603T195911Z
UID:10003398-1759407600-1759411800@innerpowerpartners.com
SUMMARY:IPP® Boca Raton Professionals Connection Experience!
DESCRIPTION: 
URL:https://innerpowerpartners.com/event/ipp-east-boca-2-2/2025-10-02/
LOCATION:Quest Workspaces\, 1200 N Federal Hwy\, Boca Raton\, FL\, 33432\, United States
CATEGORIES:Meeting
END:VEVENT
BEGIN:VEVENT
DTSTART;TZID=UTC:20250925T122000
DTEND;TZID=UTC:20250925T133000
DTSTAMP:20260421T165754
CREATED:20241228T000206Z
LAST-MODIFIED:20250603T195911Z
UID:10003397-1758802800-1758807000@innerpowerpartners.com
SUMMARY:IPP® Boca Raton Professionals Connection Experience!
DESCRIPTION: 
URL:https://innerpowerpartners.com/event/ipp-east-boca-2-2/2025-09-25/
LOCATION:Quest Workspaces\, 1200 N Federal Hwy\, Boca Raton\, FL\, 33432\, United States
CATEGORIES:Meeting
END:VEVENT
BEGIN:VEVENT
DTSTART;TZID=UTC:20250918T122000
DTEND;TZID=UTC:20250918T133000
DTSTAMP:20260421T165754
CREATED:20241228T000206Z
LAST-MODIFIED:20250603T195911Z
UID:10003396-1758198000-1758202200@innerpowerpartners.com
SUMMARY:IPP® Boca Raton Professionals Connection Experience!
DESCRIPTION: 
URL:https://innerpowerpartners.com/event/ipp-east-boca-2-2/2025-09-18/
LOCATION:Quest Workspaces\, 1200 N Federal Hwy\, Boca Raton\, FL\, 33432\, United States
CATEGORIES:Meeting
END:VEVENT
BEGIN:VEVENT
DTSTART;TZID=UTC:20250911T122000
DTEND;TZID=UTC:20250911T133000
DTSTAMP:20260421T165754
CREATED:20241228T000206Z
LAST-MODIFIED:20250603T195911Z
UID:10003395-1757593200-1757597400@innerpowerpartners.com
SUMMARY:IPP® Boca Raton Professionals Connection Experience!
DESCRIPTION: 
URL:https://innerpowerpartners.com/event/ipp-east-boca-2-2/2025-09-11/
LOCATION:Quest Workspaces\, 1200 N Federal Hwy\, Boca Raton\, FL\, 33432\, United States
CATEGORIES:Meeting
END:VEVENT
BEGIN:VEVENT
DTSTART;TZID=UTC:20250904T122000
DTEND;TZID=UTC:20250904T133000
DTSTAMP:20260421T165754
CREATED:20241228T000206Z
LAST-MODIFIED:20250603T195911Z
UID:10003394-1756988400-1756992600@innerpowerpartners.com
SUMMARY:IPP® Boca Raton Professionals Connection Experience!
DESCRIPTION: 
URL:https://innerpowerpartners.com/event/ipp-east-boca-2-2/2025-09-04/
LOCATION:Quest Workspaces\, 1200 N Federal Hwy\, Boca Raton\, FL\, 33432\, United States
CATEGORIES:Meeting
END:VEVENT
BEGIN:VEVENT
DTSTART;TZID=UTC:20250828T122000
DTEND;TZID=UTC:20250828T133000
DTSTAMP:20260421T165754
CREATED:20241228T000206Z
LAST-MODIFIED:20250603T195911Z
UID:10003393-1756383600-1756387800@innerpowerpartners.com
SUMMARY:IPP® Boca Raton Professionals Connection Experience!
DESCRIPTION: 
URL:https://innerpowerpartners.com/event/ipp-east-boca-2-2/2025-08-28/
LOCATION:Quest Workspaces\, 1200 N Federal Hwy\, Boca Raton\, FL\, 33432\, United States
CATEGORIES:Meeting
END:VEVENT
BEGIN:VEVENT
DTSTART;TZID=UTC:20250821T122000
DTEND;TZID=UTC:20250821T133000
DTSTAMP:20260421T165754
CREATED:20241228T000206Z
LAST-MODIFIED:20250603T195911Z
UID:10003392-1755778800-1755783000@innerpowerpartners.com
SUMMARY:IPP® Boca Raton Professionals Connection Experience!
DESCRIPTION: 
URL:https://innerpowerpartners.com/event/ipp-east-boca-2-2/2025-08-21/
LOCATION:Quest Workspaces\, 1200 N Federal Hwy\, Boca Raton\, FL\, 33432\, United States
CATEGORIES:Meeting
END:VEVENT
BEGIN:VEVENT
DTSTART;TZID=UTC:20250814T122000
DTEND;TZID=UTC:20250814T133000
DTSTAMP:20260421T165754
CREATED:20241228T000206Z
LAST-MODIFIED:20250603T195911Z
UID:10003391-1755174000-1755178200@innerpowerpartners.com
SUMMARY:IPP® Boca Raton Professionals Connection Experience!
DESCRIPTION: 
URL:https://innerpowerpartners.com/event/ipp-east-boca-2-2/2025-08-14/
LOCATION:Quest Workspaces\, 1200 N Federal Hwy\, Boca Raton\, FL\, 33432\, United States
CATEGORIES:Meeting
END:VEVENT
BEGIN:VEVENT
DTSTART;TZID=UTC:20250807T122000
DTEND;TZID=UTC:20250807T133000
DTSTAMP:20260421T165754
CREATED:20241228T000206Z
LAST-MODIFIED:20250603T195911Z
UID:10003390-1754569200-1754573400@innerpowerpartners.com
SUMMARY:IPP® Boca Raton Professionals Connection Experience!
DESCRIPTION: 
URL:https://innerpowerpartners.com/event/ipp-east-boca-2-2/2025-08-07/
LOCATION:Quest Workspaces\, 1200 N Federal Hwy\, Boca Raton\, FL\, 33432\, United States
CATEGORIES:Meeting
END:VEVENT
BEGIN:VEVENT
DTSTART;TZID=UTC:20250731T122000
DTEND;TZID=UTC:20250731T133000
DTSTAMP:20260421T165754
CREATED:20241228T000206Z
LAST-MODIFIED:20250603T195911Z
UID:10003389-1753964400-1753968600@innerpowerpartners.com
SUMMARY:IPP® Boca Raton Professionals Connection Experience!
DESCRIPTION: 
URL:https://innerpowerpartners.com/event/ipp-east-boca-2-2/2025-07-31/
LOCATION:Quest Workspaces\, 1200 N Federal Hwy\, Boca Raton\, FL\, 33432\, United States
CATEGORIES:Meeting
END:VEVENT
BEGIN:VEVENT
DTSTART;TZID=UTC:20250724T122000
DTEND;TZID=UTC:20250724T133000
DTSTAMP:20260421T165754
CREATED:20241228T000206Z
LAST-MODIFIED:20250603T195911Z
UID:10003388-1753359600-1753363800@innerpowerpartners.com
SUMMARY:IPP® Boca Raton Professionals Connection Experience!
DESCRIPTION: 
URL:https://innerpowerpartners.com/event/ipp-east-boca-2-2/2025-07-24/
LOCATION:Quest Workspaces\, 1200 N Federal Hwy\, Boca Raton\, FL\, 33432\, United States
CATEGORIES:Meeting
END:VEVENT
BEGIN:VEVENT
DTSTART;TZID=UTC:20250717T122000
DTEND;TZID=UTC:20250717T133000
DTSTAMP:20260421T165754
CREATED:20241228T000206Z
LAST-MODIFIED:20250603T195911Z
UID:10003387-1752754800-1752759000@innerpowerpartners.com
SUMMARY:IPP® Boca Raton Professionals Connection Experience!
DESCRIPTION: 
URL:https://innerpowerpartners.com/event/ipp-east-boca-2-2/2025-07-17/
LOCATION:Quest Workspaces\, 1200 N Federal Hwy\, Boca Raton\, FL\, 33432\, United States
CATEGORIES:Meeting
END:VEVENT
BEGIN:VEVENT
DTSTART;TZID=UTC:20250710T122000
DTEND;TZID=UTC:20250710T133000
DTSTAMP:20260421T165754
CREATED:20241228T000206Z
LAST-MODIFIED:20250603T195911Z
UID:10003386-1752150000-1752154200@innerpowerpartners.com
SUMMARY:IPP® Boca Raton Professionals Connection Experience!
DESCRIPTION: 
URL:https://innerpowerpartners.com/event/ipp-east-boca-2-2/2025-07-10/
LOCATION:Quest Workspaces\, 1200 N Federal Hwy\, Boca Raton\, FL\, 33432\, United States
CATEGORIES:Meeting
END:VEVENT
BEGIN:VEVENT
DTSTART;TZID=UTC:20250703T122000
DTEND;TZID=UTC:20250703T133000
DTSTAMP:20260421T165754
CREATED:20241228T000206Z
LAST-MODIFIED:20250603T195911Z
UID:10003385-1751545200-1751549400@innerpowerpartners.com
SUMMARY:IPP® Boca Raton Professionals Connection Experience!
DESCRIPTION: 
URL:https://innerpowerpartners.com/event/ipp-east-boca-2-2/2025-07-03/
LOCATION:Quest Workspaces\, 1200 N Federal Hwy\, Boca Raton\, FL\, 33432\, United States
CATEGORIES:Meeting
END:VEVENT
BEGIN:VEVENT
DTSTART;TZID=UTC:20250626T122000
DTEND;TZID=UTC:20250626T133000
DTSTAMP:20260421T165754
CREATED:20241228T000206Z
LAST-MODIFIED:20250603T195911Z
UID:10003384-1750940400-1750944600@innerpowerpartners.com
SUMMARY:IPP® Boca Raton Professionals Connection Experience!
DESCRIPTION: 
URL:https://innerpowerpartners.com/event/ipp-east-boca-2-2/2025-06-26/
LOCATION:Quest Workspaces\, 1200 N Federal Hwy\, Boca Raton\, FL\, 33432\, United States
CATEGORIES:Meeting
END:VEVENT
BEGIN:VEVENT
DTSTART;TZID=UTC:20250612T122000
DTEND;TZID=UTC:20250612T133000
DTSTAMP:20260421T165754
CREATED:20241228T000206Z
LAST-MODIFIED:20250603T195911Z
UID:10003382-1749730800-1749735000@innerpowerpartners.com
SUMMARY:IPP® Boca Raton Professionals Connection Experience!
DESCRIPTION: 
URL:https://innerpowerpartners.com/event/ipp-east-boca-2-2/2025-06-12/
LOCATION:Quest Workspaces\, 1200 N Federal Hwy\, Boca Raton\, FL\, 33432\, United States
CATEGORIES:Meeting
END:VEVENT
BEGIN:VEVENT
DTSTART;TZID=UTC:20250605T122000
DTEND;TZID=UTC:20250605T133000
DTSTAMP:20260421T165754
CREATED:20241228T000206Z
LAST-MODIFIED:20250603T195911Z
UID:10003381-1749126000-1749130200@innerpowerpartners.com
SUMMARY:IPP® Boca Raton Professionals Connection Experience!
DESCRIPTION: 
URL:https://innerpowerpartners.com/event/ipp-east-boca-2-2/2025-06-05/
LOCATION:Quest Workspaces\, 1200 N Federal Hwy\, Boca Raton\, FL\, 33432\, United States
CATEGORIES:Meeting
END:VEVENT
BEGIN:VEVENT
DTSTART;TZID=UTC:20250529T122000
DTEND;TZID=UTC:20250529T133000
DTSTAMP:20260421T165754
CREATED:20241228T000206Z
LAST-MODIFIED:20250603T195911Z
UID:10003380-1748521200-1748525400@innerpowerpartners.com
SUMMARY:IPP® Boca Raton Professionals Connection Experience!
DESCRIPTION: 
URL:https://innerpowerpartners.com/event/ipp-east-boca-2-2/2025-05-29/
LOCATION:Quest Workspaces\, 1200 N Federal Hwy\, Boca Raton\, FL\, 33432\, United States
CATEGORIES:Meeting
END:VEVENT
BEGIN:VEVENT
DTSTART;TZID=UTC:20250522T122000
DTEND;TZID=UTC:20250522T133000
DTSTAMP:20260421T165754
CREATED:20241228T000206Z
LAST-MODIFIED:20250603T195911Z
UID:10003379-1747916400-1747920600@innerpowerpartners.com
SUMMARY:IPP® Boca Raton Professionals Connection Experience!
DESCRIPTION: 
URL:https://innerpowerpartners.com/event/ipp-east-boca-2-2/2025-05-22/
LOCATION:Quest Workspaces\, 1200 N Federal Hwy\, Boca Raton\, FL\, 33432\, United States
CATEGORIES:Meeting
END:VEVENT
BEGIN:VEVENT
DTSTART;TZID=UTC:20250515T122000
DTEND;TZID=UTC:20250515T133000
DTSTAMP:20260421T165754
CREATED:20241228T000206Z
LAST-MODIFIED:20250603T195911Z
UID:10003378-1747311600-1747315800@innerpowerpartners.com
SUMMARY:IPP® Boca Raton Professionals Connection Experience!
DESCRIPTION: 
URL:https://innerpowerpartners.com/event/ipp-east-boca-2-2/2025-05-15/
LOCATION:Quest Workspaces\, 1200 N Federal Hwy\, Boca Raton\, FL\, 33432\, United States
CATEGORIES:Meeting
END:VEVENT
BEGIN:VEVENT
DTSTART;TZID=UTC:20250508T122000
DTEND;TZID=UTC:20250508T133000
DTSTAMP:20260421T165754
CREATED:20241228T000206Z
LAST-MODIFIED:20250603T195911Z
UID:10003377-1746706800-1746711000@innerpowerpartners.com
SUMMARY:IPP® Boca Raton Professionals Connection Experience!
DESCRIPTION: 
URL:https://innerpowerpartners.com/event/ipp-east-boca-2-2/2025-05-08/
LOCATION:Quest Workspaces\, 1200 N Federal Hwy\, Boca Raton\, FL\, 33432\, United States
CATEGORIES:Meeting
END:VEVENT
BEGIN:VEVENT
DTSTART;TZID=UTC:20250501T122000
DTEND;TZID=UTC:20250501T133000
DTSTAMP:20260421T165754
CREATED:20241228T000206Z
LAST-MODIFIED:20250603T195911Z
UID:10003376-1746102000-1746106200@innerpowerpartners.com
SUMMARY:IPP® Boca Raton Professionals Connection Experience!
DESCRIPTION: 
URL:https://innerpowerpartners.com/event/ipp-east-boca-2-2/2025-05-01/
LOCATION:Quest Workspaces\, 1200 N Federal Hwy\, Boca Raton\, FL\, 33432\, United States
CATEGORIES:Meeting
END:VEVENT
BEGIN:VEVENT
DTSTART;TZID=UTC:20250424T122000
DTEND;TZID=UTC:20250424T133000
DTSTAMP:20260421T165754
CREATED:20241228T000206Z
LAST-MODIFIED:20250603T195911Z
UID:10003375-1745497200-1745501400@innerpowerpartners.com
SUMMARY:IPP® Boca Raton Professionals Connection Experience!
DESCRIPTION: 
URL:https://innerpowerpartners.com/event/ipp-east-boca-2-2/2025-04-24/
LOCATION:Quest Workspaces\, 1200 N Federal Hwy\, Boca Raton\, FL\, 33432\, United States
CATEGORIES:Meeting
END:VEVENT
BEGIN:VEVENT
DTSTART;TZID=UTC:20250417T122000
DTEND;TZID=UTC:20250417T133000
DTSTAMP:20260421T165754
CREATED:20241228T000206Z
LAST-MODIFIED:20250603T195911Z
UID:10003374-1744892400-1744896600@innerpowerpartners.com
SUMMARY:IPP® Boca Raton Professionals Connection Experience!
DESCRIPTION: 
URL:https://innerpowerpartners.com/event/ipp-east-boca-2-2/2025-04-17/
LOCATION:Quest Workspaces\, 1200 N Federal Hwy\, Boca Raton\, FL\, 33432\, United States
CATEGORIES:Meeting
END:VEVENT
BEGIN:VEVENT
DTSTART;TZID=UTC:20250410T122000
DTEND;TZID=UTC:20250410T133000
DTSTAMP:20260421T165754
CREATED:20241228T000206Z
LAST-MODIFIED:20250603T195911Z
UID:10003373-1744287600-1744291800@innerpowerpartners.com
SUMMARY:IPP® Boca Raton Professionals Connection Experience!
DESCRIPTION: 
URL:https://innerpowerpartners.com/event/ipp-east-boca-2-2/2025-04-10/
LOCATION:Quest Workspaces\, 1200 N Federal Hwy\, Boca Raton\, FL\, 33432\, United States
CATEGORIES:Meeting
END:VEVENT
BEGIN:VEVENT
DTSTART;TZID=UTC:20250403T122000
DTEND;TZID=UTC:20250403T133000
DTSTAMP:20260421T165754
CREATED:20241228T000206Z
LAST-MODIFIED:20250603T195911Z
UID:10003372-1743682800-1743687000@innerpowerpartners.com
SUMMARY:IPP® Boca Raton Professionals Connection Experience!
DESCRIPTION: 
URL:https://innerpowerpartners.com/event/ipp-east-boca-2-2/2025-04-03/
LOCATION:Quest Workspaces\, 1200 N Federal Hwy\, Boca Raton\, FL\, 33432\, United States
CATEGORIES:Meeting
END:VEVENT
BEGIN:VEVENT
DTSTART;TZID=UTC:20250327T122000
DTEND;TZID=UTC:20250327T133000
DTSTAMP:20260421T165754
CREATED:20241228T000206Z
LAST-MODIFIED:20250603T195911Z
UID:10003371-1743078000-1743082200@innerpowerpartners.com
SUMMARY:IPP® Boca Raton Professionals Connection Experience!
DESCRIPTION: 
URL:https://innerpowerpartners.com/event/ipp-east-boca-2-2/2025-03-27/
LOCATION:Quest Workspaces\, 1200 N Federal Hwy\, Boca Raton\, FL\, 33432\, United States
CATEGORIES:Meeting
END:VEVENT
BEGIN:VEVENT
DTSTART;TZID=UTC:20250320T122000
DTEND;TZID=UTC:20250320T133000
DTSTAMP:20260421T165754
CREATED:20241228T000206Z
LAST-MODIFIED:20250603T195911Z
UID:10003370-1742473200-1742477400@innerpowerpartners.com
SUMMARY:IPP® Boca Raton Professionals Connection Experience!
DESCRIPTION: 
URL:https://innerpowerpartners.com/event/ipp-east-boca-2-2/2025-03-20/
LOCATION:Quest Workspaces\, 1200 N Federal Hwy\, Boca Raton\, FL\, 33432\, United States
CATEGORIES:Meeting
END:VEVENT
BEGIN:VEVENT
DTSTART;TZID=UTC:20250313T122000
DTEND;TZID=UTC:20250313T133000
DTSTAMP:20260421T165754
CREATED:20241228T000206Z
LAST-MODIFIED:20250603T195911Z
UID:10003369-1741868400-1741872600@innerpowerpartners.com
SUMMARY:IPP® Boca Raton Professionals Connection Experience!
DESCRIPTION: 
URL:https://innerpowerpartners.com/event/ipp-east-boca-2-2/2025-03-13/
LOCATION:Quest Workspaces\, 1200 N Federal Hwy\, Boca Raton\, FL\, 33432\, United States
CATEGORIES:Meeting
END:VEVENT
END:VCALENDAR