BEGIN:VCALENDAR
VERSION:2.0
PRODID:-//Inner Power Partners - ECPv6.15.18//NONSGML v1.0//EN
CALSCALE:GREGORIAN
METHOD:PUBLISH
X-WR-CALNAME:Inner Power Partners
X-ORIGINAL-URL:https://innerpowerpartners.com
X-WR-CALDESC:Events for Inner Power Partners
REFRESH-INTERVAL;VALUE=DURATION:PT1H
X-Robots-Tag:noindex
X-PUBLISHED-TTL:PT1H
BEGIN:VTIMEZONE
TZID:UTC
BEGIN:STANDARD
TZOFFSETFROM:+0000
TZOFFSETTO:+0000
TZNAME:UTC
DTSTART:20260101T000000
END:STANDARD
END:VTIMEZONE
BEGIN:VEVENT
DTSTART;TZID=UTC:20270107T122000
DTEND;TZID=UTC:20270107T133000
DTSTAMP:20260421T152148
CREATED:20260105T180656Z
LAST-MODIFIED:20260105T180656Z
UID:10003464-1799324400-1799328600@innerpowerpartners.com
SUMMARY:IPP® Boca Raton Connection Experience!
DESCRIPTION: 
URL:https://innerpowerpartners.com/event/ipp-east-boca-2-2-2-2/2027-01-07/
LOCATION:Quest Workspaces\, 1200 N Federal Hwy\, Boca Raton\, FL\, 33432\, United States
CATEGORIES:Meeting
END:VEVENT
BEGIN:VEVENT
DTSTART;TZID=UTC:20270114T122000
DTEND;TZID=UTC:20270114T133000
DTSTAMP:20260421T152148
CREATED:20260105T180656Z
LAST-MODIFIED:20260105T180656Z
UID:10003465-1799929200-1799933400@innerpowerpartners.com
SUMMARY:IPP® Boca Raton Connection Experience!
DESCRIPTION: 
URL:https://innerpowerpartners.com/event/ipp-east-boca-2-2-2-2/2027-01-14/
LOCATION:Quest Workspaces\, 1200 N Federal Hwy\, Boca Raton\, FL\, 33432\, United States
CATEGORIES:Meeting
END:VEVENT
BEGIN:VEVENT
DTSTART;TZID=UTC:20270121T122000
DTEND;TZID=UTC:20270121T133000
DTSTAMP:20260421T152148
CREATED:20260105T180656Z
LAST-MODIFIED:20260105T180656Z
UID:10003466-1800534000-1800538200@innerpowerpartners.com
SUMMARY:IPP® Boca Raton Connection Experience!
DESCRIPTION: 
URL:https://innerpowerpartners.com/event/ipp-east-boca-2-2-2-2/2027-01-21/
LOCATION:Quest Workspaces\, 1200 N Federal Hwy\, Boca Raton\, FL\, 33432\, United States
CATEGORIES:Meeting
END:VEVENT
BEGIN:VEVENT
DTSTART;TZID=UTC:20270128T122000
DTEND;TZID=UTC:20270128T133000
DTSTAMP:20260421T152148
CREATED:20260105T180656Z
LAST-MODIFIED:20260105T180656Z
UID:10003467-1801138800-1801143000@innerpowerpartners.com
SUMMARY:IPP® Boca Raton Connection Experience!
DESCRIPTION: 
URL:https://innerpowerpartners.com/event/ipp-east-boca-2-2-2-2/2027-01-28/
LOCATION:Quest Workspaces\, 1200 N Federal Hwy\, Boca Raton\, FL\, 33432\, United States
CATEGORIES:Meeting
END:VEVENT
BEGIN:VEVENT
DTSTART;TZID=UTC:20270204T122000
DTEND;TZID=UTC:20270204T133000
DTSTAMP:20260421T152148
CREATED:20260105T180656Z
LAST-MODIFIED:20260105T180656Z
UID:10003468-1801743600-1801747800@innerpowerpartners.com
SUMMARY:IPP® Boca Raton Connection Experience!
DESCRIPTION: 
URL:https://innerpowerpartners.com/event/ipp-east-boca-2-2-2-2/2027-02-04/
LOCATION:Quest Workspaces\, 1200 N Federal Hwy\, Boca Raton\, FL\, 33432\, United States
CATEGORIES:Meeting
END:VEVENT
BEGIN:VEVENT
DTSTART;TZID=UTC:20270211T122000
DTEND;TZID=UTC:20270211T133000
DTSTAMP:20260421T152148
CREATED:20260105T180656Z
LAST-MODIFIED:20260105T180656Z
UID:10003469-1802348400-1802352600@innerpowerpartners.com
SUMMARY:IPP® Boca Raton Connection Experience!
DESCRIPTION: 
URL:https://innerpowerpartners.com/event/ipp-east-boca-2-2-2-2/2027-02-11/
LOCATION:Quest Workspaces\, 1200 N Federal Hwy\, Boca Raton\, FL\, 33432\, United States
CATEGORIES:Meeting
END:VEVENT
BEGIN:VEVENT
DTSTART;TZID=UTC:20270218T122000
DTEND;TZID=UTC:20270218T133000
DTSTAMP:20260421T152148
CREATED:20260105T180656Z
LAST-MODIFIED:20260105T180656Z
UID:10003470-1802953200-1802957400@innerpowerpartners.com
SUMMARY:IPP® Boca Raton Connection Experience!
DESCRIPTION: 
URL:https://innerpowerpartners.com/event/ipp-east-boca-2-2-2-2/2027-02-18/
LOCATION:Quest Workspaces\, 1200 N Federal Hwy\, Boca Raton\, FL\, 33432\, United States
CATEGORIES:Meeting
END:VEVENT
BEGIN:VEVENT
DTSTART;TZID=UTC:20270225T122000
DTEND;TZID=UTC:20270225T133000
DTSTAMP:20260421T152148
CREATED:20260105T180656Z
LAST-MODIFIED:20260105T180656Z
UID:10003471-1803558000-1803562200@innerpowerpartners.com
SUMMARY:IPP® Boca Raton Connection Experience!
DESCRIPTION: 
URL:https://innerpowerpartners.com/event/ipp-east-boca-2-2-2-2/2027-02-25/
LOCATION:Quest Workspaces\, 1200 N Federal Hwy\, Boca Raton\, FL\, 33432\, United States
CATEGORIES:Meeting
END:VEVENT
BEGIN:VEVENT
DTSTART;TZID=UTC:20270304T122000
DTEND;TZID=UTC:20270304T133000
DTSTAMP:20260421T152148
CREATED:20260105T180656Z
LAST-MODIFIED:20260105T180656Z
UID:10003472-1804162800-1804167000@innerpowerpartners.com
SUMMARY:IPP® Boca Raton Connection Experience!
DESCRIPTION: 
URL:https://innerpowerpartners.com/event/ipp-east-boca-2-2-2-2/2027-03-04/
LOCATION:Quest Workspaces\, 1200 N Federal Hwy\, Boca Raton\, FL\, 33432\, United States
CATEGORIES:Meeting
END:VEVENT
BEGIN:VEVENT
DTSTART;TZID=UTC:20270311T122000
DTEND;TZID=UTC:20270311T133000
DTSTAMP:20260421T152148
CREATED:20260105T180656Z
LAST-MODIFIED:20260105T180656Z
UID:10003473-1804767600-1804771800@innerpowerpartners.com
SUMMARY:IPP® Boca Raton Connection Experience!
DESCRIPTION: 
URL:https://innerpowerpartners.com/event/ipp-east-boca-2-2-2-2/2027-03-11/
LOCATION:Quest Workspaces\, 1200 N Federal Hwy\, Boca Raton\, FL\, 33432\, United States
CATEGORIES:Meeting
END:VEVENT
BEGIN:VEVENT
DTSTART;TZID=UTC:20270318T122000
DTEND;TZID=UTC:20270318T133000
DTSTAMP:20260421T152148
CREATED:20260105T180656Z
LAST-MODIFIED:20260105T180656Z
UID:10003474-1805372400-1805376600@innerpowerpartners.com
SUMMARY:IPP® Boca Raton Connection Experience!
DESCRIPTION: 
URL:https://innerpowerpartners.com/event/ipp-east-boca-2-2-2-2/2027-03-18/
LOCATION:Quest Workspaces\, 1200 N Federal Hwy\, Boca Raton\, FL\, 33432\, United States
CATEGORIES:Meeting
END:VEVENT
BEGIN:VEVENT
DTSTART;TZID=UTC:20270325T122000
DTEND;TZID=UTC:20270325T133000
DTSTAMP:20260421T152148
CREATED:20260105T180656Z
LAST-MODIFIED:20260105T180656Z
UID:10003475-1805977200-1805981400@innerpowerpartners.com
SUMMARY:IPP® Boca Raton Connection Experience!
DESCRIPTION: 
URL:https://innerpowerpartners.com/event/ipp-east-boca-2-2-2-2/2027-03-25/
LOCATION:Quest Workspaces\, 1200 N Federal Hwy\, Boca Raton\, FL\, 33432\, United States
CATEGORIES:Meeting
END:VEVENT
BEGIN:VEVENT
DTSTART;TZID=UTC:20270401T122000
DTEND;TZID=UTC:20270401T133000
DTSTAMP:20260421T152148
CREATED:20260105T180656Z
LAST-MODIFIED:20260105T180656Z
UID:10003476-1806582000-1806586200@innerpowerpartners.com
SUMMARY:IPP® Boca Raton Connection Experience!
DESCRIPTION: 
URL:https://innerpowerpartners.com/event/ipp-east-boca-2-2-2-2/2027-04-01/
LOCATION:Quest Workspaces\, 1200 N Federal Hwy\, Boca Raton\, FL\, 33432\, United States
CATEGORIES:Meeting
END:VEVENT
BEGIN:VEVENT
DTSTART;TZID=UTC:20270408T122000
DTEND;TZID=UTC:20270408T133000
DTSTAMP:20260421T152148
CREATED:20260105T180656Z
LAST-MODIFIED:20260105T180656Z
UID:10003477-1807186800-1807191000@innerpowerpartners.com
SUMMARY:IPP® Boca Raton Connection Experience!
DESCRIPTION: 
URL:https://innerpowerpartners.com/event/ipp-east-boca-2-2-2-2/2027-04-08/
LOCATION:Quest Workspaces\, 1200 N Federal Hwy\, Boca Raton\, FL\, 33432\, United States
CATEGORIES:Meeting
END:VEVENT
BEGIN:VEVENT
DTSTART;TZID=UTC:20270415T122000
DTEND;TZID=UTC:20270415T133000
DTSTAMP:20260421T152148
CREATED:20260105T180656Z
LAST-MODIFIED:20260105T180656Z
UID:10003478-1807791600-1807795800@innerpowerpartners.com
SUMMARY:IPP® Boca Raton Connection Experience!
DESCRIPTION: 
URL:https://innerpowerpartners.com/event/ipp-east-boca-2-2-2-2/2027-04-15/
LOCATION:Quest Workspaces\, 1200 N Federal Hwy\, Boca Raton\, FL\, 33432\, United States
CATEGORIES:Meeting
END:VEVENT
BEGIN:VEVENT
DTSTART;TZID=UTC:20270422T122000
DTEND;TZID=UTC:20270422T133000
DTSTAMP:20260421T152148
CREATED:20260105T180656Z
LAST-MODIFIED:20260105T180656Z
UID:10003479-1808396400-1808400600@innerpowerpartners.com
SUMMARY:IPP® Boca Raton Connection Experience!
DESCRIPTION: 
URL:https://innerpowerpartners.com/event/ipp-east-boca-2-2-2-2/2027-04-22/
LOCATION:Quest Workspaces\, 1200 N Federal Hwy\, Boca Raton\, FL\, 33432\, United States
CATEGORIES:Meeting
END:VEVENT
BEGIN:VEVENT
DTSTART;TZID=UTC:20270429T122000
DTEND;TZID=UTC:20270429T133000
DTSTAMP:20260421T152148
CREATED:20260105T180656Z
LAST-MODIFIED:20260105T180656Z
UID:10003480-1809001200-1809005400@innerpowerpartners.com
SUMMARY:IPP® Boca Raton Connection Experience!
DESCRIPTION: 
URL:https://innerpowerpartners.com/event/ipp-east-boca-2-2-2-2/2027-04-29/
LOCATION:Quest Workspaces\, 1200 N Federal Hwy\, Boca Raton\, FL\, 33432\, United States
CATEGORIES:Meeting
END:VEVENT
BEGIN:VEVENT
DTSTART;TZID=UTC:20270506T122000
DTEND;TZID=UTC:20270506T133000
DTSTAMP:20260421T152148
CREATED:20260105T180656Z
LAST-MODIFIED:20260105T180656Z
UID:10003481-1809606000-1809610200@innerpowerpartners.com
SUMMARY:IPP® Boca Raton Connection Experience!
DESCRIPTION: 
URL:https://innerpowerpartners.com/event/ipp-east-boca-2-2-2-2/2027-05-06/
LOCATION:Quest Workspaces\, 1200 N Federal Hwy\, Boca Raton\, FL\, 33432\, United States
CATEGORIES:Meeting
END:VEVENT
BEGIN:VEVENT
DTSTART;TZID=UTC:20270513T122000
DTEND;TZID=UTC:20270513T133000
DTSTAMP:20260421T152148
CREATED:20260105T180656Z
LAST-MODIFIED:20260105T180656Z
UID:10003482-1810210800-1810215000@innerpowerpartners.com
SUMMARY:IPP® Boca Raton Connection Experience!
DESCRIPTION: 
URL:https://innerpowerpartners.com/event/ipp-east-boca-2-2-2-2/2027-05-13/
LOCATION:Quest Workspaces\, 1200 N Federal Hwy\, Boca Raton\, FL\, 33432\, United States
CATEGORIES:Meeting
END:VEVENT
BEGIN:VEVENT
DTSTART;TZID=UTC:20270520T122000
DTEND;TZID=UTC:20270520T133000
DTSTAMP:20260421T152148
CREATED:20260105T180656Z
LAST-MODIFIED:20260105T180656Z
UID:10003483-1810815600-1810819800@innerpowerpartners.com
SUMMARY:IPP® Boca Raton Connection Experience!
DESCRIPTION: 
URL:https://innerpowerpartners.com/event/ipp-east-boca-2-2-2-2/2027-05-20/
LOCATION:Quest Workspaces\, 1200 N Federal Hwy\, Boca Raton\, FL\, 33432\, United States
CATEGORIES:Meeting
END:VEVENT
BEGIN:VEVENT
DTSTART;TZID=UTC:20270527T122000
DTEND;TZID=UTC:20270527T133000
DTSTAMP:20260421T152148
CREATED:20260105T180656Z
LAST-MODIFIED:20260105T180656Z
UID:10003484-1811420400-1811424600@innerpowerpartners.com
SUMMARY:IPP® Boca Raton Connection Experience!
DESCRIPTION: 
URL:https://innerpowerpartners.com/event/ipp-east-boca-2-2-2-2/2027-05-27/
LOCATION:Quest Workspaces\, 1200 N Federal Hwy\, Boca Raton\, FL\, 33432\, United States
CATEGORIES:Meeting
END:VEVENT
BEGIN:VEVENT
DTSTART;TZID=UTC:20270603T122000
DTEND;TZID=UTC:20270603T133000
DTSTAMP:20260421T152148
CREATED:20260105T180656Z
LAST-MODIFIED:20260105T180656Z
UID:10003485-1812025200-1812029400@innerpowerpartners.com
SUMMARY:IPP® Boca Raton Connection Experience!
DESCRIPTION: 
URL:https://innerpowerpartners.com/event/ipp-east-boca-2-2-2-2/2027-06-03/
LOCATION:Quest Workspaces\, 1200 N Federal Hwy\, Boca Raton\, FL\, 33432\, United States
CATEGORIES:Meeting
END:VEVENT
BEGIN:VEVENT
DTSTART;TZID=UTC:20270610T122000
DTEND;TZID=UTC:20270610T133000
DTSTAMP:20260421T152148
CREATED:20260105T180656Z
LAST-MODIFIED:20260105T180656Z
UID:10003486-1812630000-1812634200@innerpowerpartners.com
SUMMARY:IPP® Boca Raton Connection Experience!
DESCRIPTION: 
URL:https://innerpowerpartners.com/event/ipp-east-boca-2-2-2-2/2027-06-10/
LOCATION:Quest Workspaces\, 1200 N Federal Hwy\, Boca Raton\, FL\, 33432\, United States
CATEGORIES:Meeting
END:VEVENT
BEGIN:VEVENT
DTSTART;TZID=UTC:20270617T122000
DTEND;TZID=UTC:20270617T133000
DTSTAMP:20260421T152148
CREATED:20260105T180656Z
LAST-MODIFIED:20260105T180656Z
UID:10003487-1813234800-1813239000@innerpowerpartners.com
SUMMARY:IPP® Boca Raton Connection Experience!
DESCRIPTION: 
URL:https://innerpowerpartners.com/event/ipp-east-boca-2-2-2-2/2027-06-17/
LOCATION:Quest Workspaces\, 1200 N Federal Hwy\, Boca Raton\, FL\, 33432\, United States
CATEGORIES:Meeting
END:VEVENT
BEGIN:VEVENT
DTSTART;TZID=UTC:20270624T122000
DTEND;TZID=UTC:20270624T133000
DTSTAMP:20260421T152148
CREATED:20260105T180656Z
LAST-MODIFIED:20260105T180656Z
UID:10003488-1813839600-1813843800@innerpowerpartners.com
SUMMARY:IPP® Boca Raton Connection Experience!
DESCRIPTION: 
URL:https://innerpowerpartners.com/event/ipp-east-boca-2-2-2-2/2027-06-24/
LOCATION:Quest Workspaces\, 1200 N Federal Hwy\, Boca Raton\, FL\, 33432\, United States
CATEGORIES:Meeting
END:VEVENT
BEGIN:VEVENT
DTSTART;TZID=UTC:20270701T122000
DTEND;TZID=UTC:20270701T133000
DTSTAMP:20260421T152148
CREATED:20260105T180656Z
LAST-MODIFIED:20260105T180656Z
UID:10003489-1814444400-1814448600@innerpowerpartners.com
SUMMARY:IPP® Boca Raton Connection Experience!
DESCRIPTION: 
URL:https://innerpowerpartners.com/event/ipp-east-boca-2-2-2-2/2027-07-01/
LOCATION:Quest Workspaces\, 1200 N Federal Hwy\, Boca Raton\, FL\, 33432\, United States
CATEGORIES:Meeting
END:VEVENT
BEGIN:VEVENT
DTSTART;TZID=UTC:20270708T122000
DTEND;TZID=UTC:20270708T133000
DTSTAMP:20260421T152148
CREATED:20260105T180656Z
LAST-MODIFIED:20260105T180656Z
UID:10003490-1815049200-1815053400@innerpowerpartners.com
SUMMARY:IPP® Boca Raton Connection Experience!
DESCRIPTION: 
URL:https://innerpowerpartners.com/event/ipp-east-boca-2-2-2-2/2027-07-08/
LOCATION:Quest Workspaces\, 1200 N Federal Hwy\, Boca Raton\, FL\, 33432\, United States
CATEGORIES:Meeting
END:VEVENT
BEGIN:VEVENT
DTSTART;TZID=UTC:20270715T122000
DTEND;TZID=UTC:20270715T133000
DTSTAMP:20260421T152148
CREATED:20260105T180656Z
LAST-MODIFIED:20260105T180656Z
UID:10003491-1815654000-1815658200@innerpowerpartners.com
SUMMARY:IPP® Boca Raton Connection Experience!
DESCRIPTION: 
URL:https://innerpowerpartners.com/event/ipp-east-boca-2-2-2-2/2027-07-15/
LOCATION:Quest Workspaces\, 1200 N Federal Hwy\, Boca Raton\, FL\, 33432\, United States
CATEGORIES:Meeting
END:VEVENT
BEGIN:VEVENT
DTSTART;TZID=UTC:20270722T122000
DTEND;TZID=UTC:20270722T133000
DTSTAMP:20260421T152148
CREATED:20260105T180656Z
LAST-MODIFIED:20260105T180656Z
UID:10003492-1816258800-1816263000@innerpowerpartners.com
SUMMARY:IPP® Boca Raton Connection Experience!
DESCRIPTION: 
URL:https://innerpowerpartners.com/event/ipp-east-boca-2-2-2-2/2027-07-22/
LOCATION:Quest Workspaces\, 1200 N Federal Hwy\, Boca Raton\, FL\, 33432\, United States
CATEGORIES:Meeting
END:VEVENT
BEGIN:VEVENT
DTSTART;TZID=UTC:20270729T122000
DTEND;TZID=UTC:20270729T133000
DTSTAMP:20260421T152148
CREATED:20260105T180656Z
LAST-MODIFIED:20260105T180656Z
UID:10003493-1816863600-1816867800@innerpowerpartners.com
SUMMARY:IPP® Boca Raton Connection Experience!
DESCRIPTION: 
URL:https://innerpowerpartners.com/event/ipp-east-boca-2-2-2-2/2027-07-29/
LOCATION:Quest Workspaces\, 1200 N Federal Hwy\, Boca Raton\, FL\, 33432\, United States
CATEGORIES:Meeting
END:VEVENT
END:VCALENDAR