BEGIN:VCALENDAR
VERSION:2.0
PRODID:-//Inner Power Partners - ECPv6.15.18//NONSGML v1.0//EN
CALSCALE:GREGORIAN
METHOD:PUBLISH
X-WR-CALNAME:Inner Power Partners
X-ORIGINAL-URL:https://innerpowerpartners.com
X-WR-CALDESC:Events for Inner Power Partners
REFRESH-INTERVAL;VALUE=DURATION:PT1H
X-Robots-Tag:noindex
X-PUBLISHED-TTL:PT1H
BEGIN:VTIMEZONE
TZID:UTC
BEGIN:STANDARD
TZOFFSETFROM:+0000
TZOFFSETTO:+0000
TZNAME:UTC
DTSTART:20260101T000000
END:STANDARD
END:VTIMEZONE
BEGIN:VEVENT
DTSTART;TZID=UTC:20270916T122000
DTEND;TZID=UTC:20270916T133000
DTSTAMP:20260421T200721
CREATED:20260105T180656Z
LAST-MODIFIED:20260105T180656Z
UID:10003500-1821097200-1821101400@innerpowerpartners.com
SUMMARY:IPP® Boca Raton Connection Experience!
DESCRIPTION: 
URL:https://innerpowerpartners.com/event/ipp-east-boca-2-2-2-2/2027-09-16/
LOCATION:Quest Workspaces\, 1200 N Federal Hwy\, Boca Raton\, FL\, 33432\, United States
CATEGORIES:Meeting
END:VEVENT
BEGIN:VEVENT
DTSTART;TZID=UTC:20270923T122000
DTEND;TZID=UTC:20270923T133000
DTSTAMP:20260421T200721
CREATED:20260105T180656Z
LAST-MODIFIED:20260105T180656Z
UID:10003501-1821702000-1821706200@innerpowerpartners.com
SUMMARY:IPP® Boca Raton Connection Experience!
DESCRIPTION: 
URL:https://innerpowerpartners.com/event/ipp-east-boca-2-2-2-2/2027-09-23/
LOCATION:Quest Workspaces\, 1200 N Federal Hwy\, Boca Raton\, FL\, 33432\, United States
CATEGORIES:Meeting
END:VEVENT
BEGIN:VEVENT
DTSTART;TZID=UTC:20270930T122000
DTEND;TZID=UTC:20270930T133000
DTSTAMP:20260421T200721
CREATED:20260105T180656Z
LAST-MODIFIED:20260105T180656Z
UID:10003502-1822306800-1822311000@innerpowerpartners.com
SUMMARY:IPP® Boca Raton Connection Experience!
DESCRIPTION: 
URL:https://innerpowerpartners.com/event/ipp-east-boca-2-2-2-2/2027-09-30/
LOCATION:Quest Workspaces\, 1200 N Federal Hwy\, Boca Raton\, FL\, 33432\, United States
CATEGORIES:Meeting
END:VEVENT
BEGIN:VEVENT
DTSTART;TZID=UTC:20271007T122000
DTEND;TZID=UTC:20271007T133000
DTSTAMP:20260421T200721
CREATED:20260105T180656Z
LAST-MODIFIED:20260105T180656Z
UID:10003503-1822911600-1822915800@innerpowerpartners.com
SUMMARY:IPP® Boca Raton Connection Experience!
DESCRIPTION: 
URL:https://innerpowerpartners.com/event/ipp-east-boca-2-2-2-2/2027-10-07/
LOCATION:Quest Workspaces\, 1200 N Federal Hwy\, Boca Raton\, FL\, 33432\, United States
CATEGORIES:Meeting
END:VEVENT
BEGIN:VEVENT
DTSTART;TZID=UTC:20271014T122000
DTEND;TZID=UTC:20271014T133000
DTSTAMP:20260421T200721
CREATED:20260105T180656Z
LAST-MODIFIED:20260105T180656Z
UID:10003504-1823516400-1823520600@innerpowerpartners.com
SUMMARY:IPP® Boca Raton Connection Experience!
DESCRIPTION: 
URL:https://innerpowerpartners.com/event/ipp-east-boca-2-2-2-2/2027-10-14/
LOCATION:Quest Workspaces\, 1200 N Federal Hwy\, Boca Raton\, FL\, 33432\, United States
CATEGORIES:Meeting
END:VEVENT
BEGIN:VEVENT
DTSTART;TZID=UTC:20271021T122000
DTEND;TZID=UTC:20271021T133000
DTSTAMP:20260421T200721
CREATED:20260105T180656Z
LAST-MODIFIED:20260105T180656Z
UID:10003505-1824121200-1824125400@innerpowerpartners.com
SUMMARY:IPP® Boca Raton Connection Experience!
DESCRIPTION: 
URL:https://innerpowerpartners.com/event/ipp-east-boca-2-2-2-2/2027-10-21/
LOCATION:Quest Workspaces\, 1200 N Federal Hwy\, Boca Raton\, FL\, 33432\, United States
CATEGORIES:Meeting
END:VEVENT
BEGIN:VEVENT
DTSTART;TZID=UTC:20271028T122000
DTEND;TZID=UTC:20271028T133000
DTSTAMP:20260421T200721
CREATED:20260105T180656Z
LAST-MODIFIED:20260105T180656Z
UID:10003506-1824726000-1824730200@innerpowerpartners.com
SUMMARY:IPP® Boca Raton Connection Experience!
DESCRIPTION: 
URL:https://innerpowerpartners.com/event/ipp-east-boca-2-2-2-2/2027-10-28/
LOCATION:Quest Workspaces\, 1200 N Federal Hwy\, Boca Raton\, FL\, 33432\, United States
CATEGORIES:Meeting
END:VEVENT
BEGIN:VEVENT
DTSTART;TZID=UTC:20271104T122000
DTEND;TZID=UTC:20271104T133000
DTSTAMP:20260421T200721
CREATED:20260105T180656Z
LAST-MODIFIED:20260105T180656Z
UID:10003507-1825330800-1825335000@innerpowerpartners.com
SUMMARY:IPP® Boca Raton Connection Experience!
DESCRIPTION: 
URL:https://innerpowerpartners.com/event/ipp-east-boca-2-2-2-2/2027-11-04/
LOCATION:Quest Workspaces\, 1200 N Federal Hwy\, Boca Raton\, FL\, 33432\, United States
CATEGORIES:Meeting
END:VEVENT
BEGIN:VEVENT
DTSTART;TZID=UTC:20271111T122000
DTEND;TZID=UTC:20271111T133000
DTSTAMP:20260421T200721
CREATED:20260105T180656Z
LAST-MODIFIED:20260105T180656Z
UID:10003508-1825935600-1825939800@innerpowerpartners.com
SUMMARY:IPP® Boca Raton Connection Experience!
DESCRIPTION: 
URL:https://innerpowerpartners.com/event/ipp-east-boca-2-2-2-2/2027-11-11/
LOCATION:Quest Workspaces\, 1200 N Federal Hwy\, Boca Raton\, FL\, 33432\, United States
CATEGORIES:Meeting
END:VEVENT
BEGIN:VEVENT
DTSTART;TZID=UTC:20271118T122000
DTEND;TZID=UTC:20271118T133000
DTSTAMP:20260421T200721
CREATED:20260105T180656Z
LAST-MODIFIED:20260105T180656Z
UID:10003509-1826540400-1826544600@innerpowerpartners.com
SUMMARY:IPP® Boca Raton Connection Experience!
DESCRIPTION: 
URL:https://innerpowerpartners.com/event/ipp-east-boca-2-2-2-2/2027-11-18/
LOCATION:Quest Workspaces\, 1200 N Federal Hwy\, Boca Raton\, FL\, 33432\, United States
CATEGORIES:Meeting
END:VEVENT
BEGIN:VEVENT
DTSTART;TZID=UTC:20271125T122000
DTEND;TZID=UTC:20271125T133000
DTSTAMP:20260421T200721
CREATED:20260105T180656Z
LAST-MODIFIED:20260105T180656Z
UID:10003510-1827145200-1827149400@innerpowerpartners.com
SUMMARY:IPP® Boca Raton Connection Experience!
DESCRIPTION: 
URL:https://innerpowerpartners.com/event/ipp-east-boca-2-2-2-2/2027-11-25/
LOCATION:Quest Workspaces\, 1200 N Federal Hwy\, Boca Raton\, FL\, 33432\, United States
CATEGORIES:Meeting
END:VEVENT
BEGIN:VEVENT
DTSTART;TZID=UTC:20271202T122000
DTEND;TZID=UTC:20271202T133000
DTSTAMP:20260421T200721
CREATED:20260105T180656Z
LAST-MODIFIED:20260105T180656Z
UID:10003511-1827750000-1827754200@innerpowerpartners.com
SUMMARY:IPP® Boca Raton Connection Experience!
DESCRIPTION: 
URL:https://innerpowerpartners.com/event/ipp-east-boca-2-2-2-2/2027-12-02/
LOCATION:Quest Workspaces\, 1200 N Federal Hwy\, Boca Raton\, FL\, 33432\, United States
CATEGORIES:Meeting
END:VEVENT
BEGIN:VEVENT
DTSTART;TZID=UTC:20271209T122000
DTEND;TZID=UTC:20271209T133000
DTSTAMP:20260421T200721
CREATED:20260105T180656Z
LAST-MODIFIED:20260105T180656Z
UID:10003512-1828354800-1828359000@innerpowerpartners.com
SUMMARY:IPP® Boca Raton Connection Experience!
DESCRIPTION: 
URL:https://innerpowerpartners.com/event/ipp-east-boca-2-2-2-2/2027-12-09/
LOCATION:Quest Workspaces\, 1200 N Federal Hwy\, Boca Raton\, FL\, 33432\, United States
CATEGORIES:Meeting
END:VEVENT
BEGIN:VEVENT
DTSTART;TZID=UTC:20271216T122000
DTEND;TZID=UTC:20271216T133000
DTSTAMP:20260421T200721
CREATED:20260105T180656Z
LAST-MODIFIED:20260105T180656Z
UID:10003513-1828959600-1828963800@innerpowerpartners.com
SUMMARY:IPP® Boca Raton Connection Experience!
DESCRIPTION: 
URL:https://innerpowerpartners.com/event/ipp-east-boca-2-2-2-2/2027-12-16/
LOCATION:Quest Workspaces\, 1200 N Federal Hwy\, Boca Raton\, FL\, 33432\, United States
CATEGORIES:Meeting
END:VEVENT
BEGIN:VEVENT
DTSTART;TZID=UTC:20271223T122000
DTEND;TZID=UTC:20271223T133000
DTSTAMP:20260421T200721
CREATED:20260105T180656Z
LAST-MODIFIED:20260105T180656Z
UID:10003514-1829564400-1829568600@innerpowerpartners.com
SUMMARY:IPP® Boca Raton Connection Experience!
DESCRIPTION: 
URL:https://innerpowerpartners.com/event/ipp-east-boca-2-2-2-2/2027-12-23/
LOCATION:Quest Workspaces\, 1200 N Federal Hwy\, Boca Raton\, FL\, 33432\, United States
CATEGORIES:Meeting
END:VEVENT
BEGIN:VEVENT
DTSTART;TZID=UTC:20271230T122000
DTEND;TZID=UTC:20271230T133000
DTSTAMP:20260421T200721
CREATED:20260105T180656Z
LAST-MODIFIED:20260105T180656Z
UID:10003515-1830169200-1830173400@innerpowerpartners.com
SUMMARY:IPP® Boca Raton Connection Experience!
DESCRIPTION: 
URL:https://innerpowerpartners.com/event/ipp-east-boca-2-2-2-2/2027-12-30/
LOCATION:Quest Workspaces\, 1200 N Federal Hwy\, Boca Raton\, FL\, 33432\, United States
CATEGORIES:Meeting
END:VEVENT
BEGIN:VEVENT
DTSTART;TZID=UTC:20280106T122000
DTEND;TZID=UTC:20280106T133000
DTSTAMP:20260421T200721
CREATED:20260105T180656Z
LAST-MODIFIED:20260105T180656Z
UID:10003516-1830774000-1830778200@innerpowerpartners.com
SUMMARY:IPP® Boca Raton Connection Experience!
DESCRIPTION: 
URL:https://innerpowerpartners.com/event/ipp-east-boca-2-2-2-2/2028-01-06/
LOCATION:Quest Workspaces\, 1200 N Federal Hwy\, Boca Raton\, FL\, 33432\, United States
CATEGORIES:Meeting
END:VEVENT
BEGIN:VEVENT
DTSTART;TZID=UTC:20280113T122000
DTEND;TZID=UTC:20280113T133000
DTSTAMP:20260421T200721
CREATED:20260105T180656Z
LAST-MODIFIED:20260105T180656Z
UID:10003517-1831378800-1831383000@innerpowerpartners.com
SUMMARY:IPP® Boca Raton Connection Experience!
DESCRIPTION: 
URL:https://innerpowerpartners.com/event/ipp-east-boca-2-2-2-2/2028-01-13/
LOCATION:Quest Workspaces\, 1200 N Federal Hwy\, Boca Raton\, FL\, 33432\, United States
CATEGORIES:Meeting
END:VEVENT
BEGIN:VEVENT
DTSTART;TZID=UTC:20280120T122000
DTEND;TZID=UTC:20280120T133000
DTSTAMP:20260421T200721
CREATED:20260105T180656Z
LAST-MODIFIED:20260105T180656Z
UID:10003518-1831983600-1831987800@innerpowerpartners.com
SUMMARY:IPP® Boca Raton Connection Experience!
DESCRIPTION: 
URL:https://innerpowerpartners.com/event/ipp-east-boca-2-2-2-2/2028-01-20/
LOCATION:Quest Workspaces\, 1200 N Federal Hwy\, Boca Raton\, FL\, 33432\, United States
CATEGORIES:Meeting
END:VEVENT
BEGIN:VEVENT
DTSTART;TZID=UTC:20280127T122000
DTEND;TZID=UTC:20280127T133000
DTSTAMP:20260421T200721
CREATED:20260105T180656Z
LAST-MODIFIED:20260105T180656Z
UID:10003519-1832588400-1832592600@innerpowerpartners.com
SUMMARY:IPP® Boca Raton Connection Experience!
DESCRIPTION: 
URL:https://innerpowerpartners.com/event/ipp-east-boca-2-2-2-2/2028-01-27/
LOCATION:Quest Workspaces\, 1200 N Federal Hwy\, Boca Raton\, FL\, 33432\, United States
CATEGORIES:Meeting
END:VEVENT
BEGIN:VEVENT
DTSTART;TZID=UTC:20280203T122000
DTEND;TZID=UTC:20280203T133000
DTSTAMP:20260421T200721
CREATED:20260105T180656Z
LAST-MODIFIED:20260105T180656Z
UID:10003520-1833193200-1833197400@innerpowerpartners.com
SUMMARY:IPP® Boca Raton Connection Experience!
DESCRIPTION: 
URL:https://innerpowerpartners.com/event/ipp-east-boca-2-2-2-2/2028-02-03/
LOCATION:Quest Workspaces\, 1200 N Federal Hwy\, Boca Raton\, FL\, 33432\, United States
CATEGORIES:Meeting
END:VEVENT
BEGIN:VEVENT
DTSTART;TZID=UTC:20280210T122000
DTEND;TZID=UTC:20280210T133000
DTSTAMP:20260421T200721
CREATED:20260105T180656Z
LAST-MODIFIED:20260105T180656Z
UID:10003521-1833798000-1833802200@innerpowerpartners.com
SUMMARY:IPP® Boca Raton Connection Experience!
DESCRIPTION: 
URL:https://innerpowerpartners.com/event/ipp-east-boca-2-2-2-2/2028-02-10/
LOCATION:Quest Workspaces\, 1200 N Federal Hwy\, Boca Raton\, FL\, 33432\, United States
CATEGORIES:Meeting
END:VEVENT
BEGIN:VEVENT
DTSTART;TZID=UTC:20280217T122000
DTEND;TZID=UTC:20280217T133000
DTSTAMP:20260421T200721
CREATED:20260105T180656Z
LAST-MODIFIED:20260105T180656Z
UID:10003522-1834402800-1834407000@innerpowerpartners.com
SUMMARY:IPP® Boca Raton Connection Experience!
DESCRIPTION: 
URL:https://innerpowerpartners.com/event/ipp-east-boca-2-2-2-2/2028-02-17/
LOCATION:Quest Workspaces\, 1200 N Federal Hwy\, Boca Raton\, FL\, 33432\, United States
CATEGORIES:Meeting
END:VEVENT
BEGIN:VEVENT
DTSTART;TZID=UTC:20280224T122000
DTEND;TZID=UTC:20280224T133000
DTSTAMP:20260421T200721
CREATED:20260105T180656Z
LAST-MODIFIED:20260105T180656Z
UID:10003523-1835007600-1835011800@innerpowerpartners.com
SUMMARY:IPP® Boca Raton Connection Experience!
DESCRIPTION: 
URL:https://innerpowerpartners.com/event/ipp-east-boca-2-2-2-2/2028-02-24/
LOCATION:Quest Workspaces\, 1200 N Federal Hwy\, Boca Raton\, FL\, 33432\, United States
CATEGORIES:Meeting
END:VEVENT
BEGIN:VEVENT
DTSTART;TZID=UTC:20280302T122000
DTEND;TZID=UTC:20280302T133000
DTSTAMP:20260421T200721
CREATED:20260105T180656Z
LAST-MODIFIED:20260105T180656Z
UID:10003524-1835612400-1835616600@innerpowerpartners.com
SUMMARY:IPP® Boca Raton Connection Experience!
DESCRIPTION: 
URL:https://innerpowerpartners.com/event/ipp-east-boca-2-2-2-2/2028-03-02/
LOCATION:Quest Workspaces\, 1200 N Federal Hwy\, Boca Raton\, FL\, 33432\, United States
CATEGORIES:Meeting
END:VEVENT
BEGIN:VEVENT
DTSTART;TZID=UTC:20280309T122000
DTEND;TZID=UTC:20280309T133000
DTSTAMP:20260421T200721
CREATED:20260105T180656Z
LAST-MODIFIED:20260105T180656Z
UID:10003525-1836217200-1836221400@innerpowerpartners.com
SUMMARY:IPP® Boca Raton Connection Experience!
DESCRIPTION: 
URL:https://innerpowerpartners.com/event/ipp-east-boca-2-2-2-2/2028-03-09/
LOCATION:Quest Workspaces\, 1200 N Federal Hwy\, Boca Raton\, FL\, 33432\, United States
CATEGORIES:Meeting
END:VEVENT
BEGIN:VEVENT
DTSTART;TZID=UTC:20280316T122000
DTEND;TZID=UTC:20280316T133000
DTSTAMP:20260421T200721
CREATED:20260105T180656Z
LAST-MODIFIED:20260105T180656Z
UID:10003526-1836822000-1836826200@innerpowerpartners.com
SUMMARY:IPP® Boca Raton Connection Experience!
DESCRIPTION: 
URL:https://innerpowerpartners.com/event/ipp-east-boca-2-2-2-2/2028-03-16/
LOCATION:Quest Workspaces\, 1200 N Federal Hwy\, Boca Raton\, FL\, 33432\, United States
CATEGORIES:Meeting
END:VEVENT
BEGIN:VEVENT
DTSTART;TZID=UTC:20280323T122000
DTEND;TZID=UTC:20280323T133000
DTSTAMP:20260421T200721
CREATED:20260105T180656Z
LAST-MODIFIED:20260105T180656Z
UID:10003527-1837426800-1837431000@innerpowerpartners.com
SUMMARY:IPP® Boca Raton Connection Experience!
DESCRIPTION: 
URL:https://innerpowerpartners.com/event/ipp-east-boca-2-2-2-2/2028-03-23/
LOCATION:Quest Workspaces\, 1200 N Federal Hwy\, Boca Raton\, FL\, 33432\, United States
CATEGORIES:Meeting
END:VEVENT
BEGIN:VEVENT
DTSTART;TZID=UTC:20280330T122000
DTEND;TZID=UTC:20280330T133000
DTSTAMP:20260421T200721
CREATED:20260105T180656Z
LAST-MODIFIED:20260105T180656Z
UID:10003528-1838031600-1838035800@innerpowerpartners.com
SUMMARY:IPP® Boca Raton Connection Experience!
DESCRIPTION: 
URL:https://innerpowerpartners.com/event/ipp-east-boca-2-2-2-2/2028-03-30/
LOCATION:Quest Workspaces\, 1200 N Federal Hwy\, Boca Raton\, FL\, 33432\, United States
CATEGORIES:Meeting
END:VEVENT
BEGIN:VEVENT
DTSTART;TZID=UTC:20280406T122000
DTEND;TZID=UTC:20280406T133000
DTSTAMP:20260421T200721
CREATED:20260105T180656Z
LAST-MODIFIED:20260105T180656Z
UID:10003529-1838636400-1838640600@innerpowerpartners.com
SUMMARY:IPP® Boca Raton Connection Experience!
DESCRIPTION: 
URL:https://innerpowerpartners.com/event/ipp-east-boca-2-2-2-2/2028-04-06/
LOCATION:Quest Workspaces\, 1200 N Federal Hwy\, Boca Raton\, FL\, 33432\, United States
CATEGORIES:Meeting
END:VEVENT
END:VCALENDAR